BEGIN:VCALENDAR
VERSION:2.0
PRODID:-//Mustique Events - Calendar - ECPv6.15.17.1//NONSGML v1.0//EN
CALSCALE:GREGORIAN
METHOD:PUBLISH
X-ORIGINAL-URL:https://mustique.life
X-WR-CALDESC:Events for Mustique Events - Calendar
REFRESH-INTERVAL;VALUE=DURATION:PT1H
X-Robots-Tag:noindex
X-PUBLISHED-TTL:PT1H
BEGIN:VTIMEZONE
TZID:America/St_Vincent
BEGIN:STANDARD
TZOFFSETFROM:-0400
TZOFFSETTO:-0400
TZNAME:AST
DTSTART:20250101T000000
END:STANDARD
END:VTIMEZONE
BEGIN:VEVENT
DTSTART;TZID=America/St_Vincent:20260418T090000
DTEND;TZID=America/St_Vincent:20260418T100000
DTSTAMP:20260419T112707
CREATED:20260320T033102Z
LAST-MODIFIED:20260417T131055Z
UID:10023669-1776502800-1776506400@mustique.life
SUMMARY:Group Yoga
DESCRIPTION:Breathe. Stretch. Strengthen. Repeat. Find your flow\, improve flexibility\, and start your day grounded and refreshed. Join Charlotte at the Yoga Pavillion for an hour of morning yoga. \nMonday –  Saturday \n8:00am – 9:00am \nYoga Pavilion \nALL BOOKINGS FOR GYM TIME SLOTS\, PRIVATE SESSIONS AND CLASSES MUST BE MADE IN ADVANCE BY CALLING EXT: 8920 OR BY EMAIL: YOGAFITNESS@COTTONHOUSE.NET \n 
URL:https://mustique.life/event/group-yoga/2026-04-18/
LOCATION:Yoga Pavilion
CATEGORIES:Sport / Wellness
ATTACH;FMTTYPE=image/jpeg:https://mustique.life/wp-content/uploads/2022/07/Yoga-Lagoon-5.jpg
END:VEVENT
BEGIN:VEVENT
DTSTART;TZID=America/St_Vincent:20260417T090000
DTEND;TZID=America/St_Vincent:20260417T100000
DTSTAMP:20260419T112707
CREATED:20260320T033102Z
LAST-MODIFIED:20260417T131055Z
UID:10023668-1776416400-1776420000@mustique.life
SUMMARY:Group Yoga
DESCRIPTION:Breathe. Stretch. Strengthen. Repeat. Find your flow\, improve flexibility\, and start your day grounded and refreshed. Join Charlotte at the Yoga Pavillion for an hour of morning yoga. \nMonday –  Saturday \n8:00am – 9:00am \nYoga Pavilion \nALL BOOKINGS FOR GYM TIME SLOTS\, PRIVATE SESSIONS AND CLASSES MUST BE MADE IN ADVANCE BY CALLING EXT: 8920 OR BY EMAIL: YOGAFITNESS@COTTONHOUSE.NET \n 
URL:https://mustique.life/event/group-yoga/2026-04-17/
LOCATION:Yoga Pavilion
CATEGORIES:Sport / Wellness
ATTACH;FMTTYPE=image/jpeg:https://mustique.life/wp-content/uploads/2022/07/Yoga-Lagoon-5.jpg
END:VEVENT
BEGIN:VEVENT
DTSTART;TZID=America/St_Vincent:20260416T090000
DTEND;TZID=America/St_Vincent:20260416T100000
DTSTAMP:20260419T112707
CREATED:20260320T033102Z
LAST-MODIFIED:20260417T131055Z
UID:10023667-1776330000-1776333600@mustique.life
SUMMARY:Group Yoga
DESCRIPTION:Breathe. Stretch. Strengthen. Repeat. Find your flow\, improve flexibility\, and start your day grounded and refreshed. Join Charlotte at the Yoga Pavillion for an hour of morning yoga. \nMonday –  Saturday \n8:00am – 9:00am \nYoga Pavilion \nALL BOOKINGS FOR GYM TIME SLOTS\, PRIVATE SESSIONS AND CLASSES MUST BE MADE IN ADVANCE BY CALLING EXT: 8920 OR BY EMAIL: YOGAFITNESS@COTTONHOUSE.NET \n 
URL:https://mustique.life/event/group-yoga/2026-04-16/
LOCATION:Yoga Pavilion
CATEGORIES:Sport / Wellness
ATTACH;FMTTYPE=image/jpeg:https://mustique.life/wp-content/uploads/2022/07/Yoga-Lagoon-5.jpg
END:VEVENT
BEGIN:VEVENT
DTSTART;TZID=America/St_Vincent:20260415T090000
DTEND;TZID=America/St_Vincent:20260415T100000
DTSTAMP:20260419T112707
CREATED:20260320T033102Z
LAST-MODIFIED:20260417T131055Z
UID:10023666-1776243600-1776247200@mustique.life
SUMMARY:Group Yoga
DESCRIPTION:Breathe. Stretch. Strengthen. Repeat. Find your flow\, improve flexibility\, and start your day grounded and refreshed. Join Charlotte at the Yoga Pavillion for an hour of morning yoga. \nMonday –  Saturday \n8:00am – 9:00am \nYoga Pavilion \nALL BOOKINGS FOR GYM TIME SLOTS\, PRIVATE SESSIONS AND CLASSES MUST BE MADE IN ADVANCE BY CALLING EXT: 8920 OR BY EMAIL: YOGAFITNESS@COTTONHOUSE.NET \n 
URL:https://mustique.life/event/group-yoga/2026-04-15/
LOCATION:Yoga Pavilion
CATEGORIES:Sport / Wellness
ATTACH;FMTTYPE=image/jpeg:https://mustique.life/wp-content/uploads/2022/07/Yoga-Lagoon-5.jpg
END:VEVENT
BEGIN:VEVENT
DTSTART;TZID=America/St_Vincent:20260414T090000
DTEND;TZID=America/St_Vincent:20260414T100000
DTSTAMP:20260419T112707
CREATED:20260320T033102Z
LAST-MODIFIED:20260417T131055Z
UID:10023665-1776157200-1776160800@mustique.life
SUMMARY:Group Yoga
DESCRIPTION:Breathe. Stretch. Strengthen. Repeat. Find your flow\, improve flexibility\, and start your day grounded and refreshed. Join Charlotte at the Yoga Pavillion for an hour of morning yoga. \nMonday –  Saturday \n8:00am – 9:00am \nYoga Pavilion \nALL BOOKINGS FOR GYM TIME SLOTS\, PRIVATE SESSIONS AND CLASSES MUST BE MADE IN ADVANCE BY CALLING EXT: 8920 OR BY EMAIL: YOGAFITNESS@COTTONHOUSE.NET \n 
URL:https://mustique.life/event/group-yoga/2026-04-14/
LOCATION:Yoga Pavilion
CATEGORIES:Sport / Wellness
ATTACH;FMTTYPE=image/jpeg:https://mustique.life/wp-content/uploads/2022/07/Yoga-Lagoon-5.jpg
END:VEVENT
BEGIN:VEVENT
DTSTART;TZID=America/St_Vincent:20260413T090000
DTEND;TZID=America/St_Vincent:20260413T100000
DTSTAMP:20260419T112707
CREATED:20260320T033102Z
LAST-MODIFIED:20260417T131055Z
UID:10023664-1776070800-1776074400@mustique.life
SUMMARY:Group Yoga
DESCRIPTION:Breathe. Stretch. Strengthen. Repeat. Find your flow\, improve flexibility\, and start your day grounded and refreshed. Join Charlotte at the Yoga Pavillion for an hour of morning yoga. \nMonday –  Saturday \n8:00am – 9:00am \nYoga Pavilion \nALL BOOKINGS FOR GYM TIME SLOTS\, PRIVATE SESSIONS AND CLASSES MUST BE MADE IN ADVANCE BY CALLING EXT: 8920 OR BY EMAIL: YOGAFITNESS@COTTONHOUSE.NET \n 
URL:https://mustique.life/event/group-yoga/2026-04-13/
LOCATION:Yoga Pavilion
CATEGORIES:Sport / Wellness
ATTACH;FMTTYPE=image/jpeg:https://mustique.life/wp-content/uploads/2022/07/Yoga-Lagoon-5.jpg
END:VEVENT
BEGIN:VEVENT
DTSTART;TZID=America/St_Vincent:20260411T090000
DTEND;TZID=America/St_Vincent:20260411T100000
DTSTAMP:20260419T112707
CREATED:20260320T033102Z
LAST-MODIFIED:20260417T131055Z
UID:10017708-1775898000-1775901600@mustique.life
SUMMARY:Group Yoga
DESCRIPTION:Breathe. Stretch. Strengthen. Repeat. Find your flow\, improve flexibility\, and start your day grounded and refreshed. Join Charlotte at the Yoga Pavillion for an hour of morning yoga. \nMonday –  Saturday \n8:00am – 9:00am \nYoga Pavilion \nALL BOOKINGS FOR GYM TIME SLOTS\, PRIVATE SESSIONS AND CLASSES MUST BE MADE IN ADVANCE BY CALLING EXT: 8920 OR BY EMAIL: YOGAFITNESS@COTTONHOUSE.NET \n 
URL:https://mustique.life/event/group-yoga/2026-04-11/
LOCATION:Yoga Pavilion
CATEGORIES:Sport / Wellness
ATTACH;FMTTYPE=image/jpeg:https://mustique.life/wp-content/uploads/2022/07/Yoga-Lagoon-5.jpg
END:VEVENT
BEGIN:VEVENT
DTSTART;TZID=America/St_Vincent:20260411T080000
DTEND;TZID=America/St_Vincent:20260411T090000
DTSTAMP:20260419T112707
CREATED:20260107T033102Z
LAST-MODIFIED:20260227T142055Z
UID:10017504-1775894400-1775898000@mustique.life
SUMMARY:Group Yoga
DESCRIPTION:Breathe. Stretch. Strengthen. Repeat. Find your flow\, improve flexibility\, and start your day grounded and refreshed. Join Charlotte at the Yoga Pavillion for an hour of morning yoga. \nMonday –  Saturday \n8:00am – 9:00am \nYoga Pavilion \nALL BOOKINGS FOR GYM TIME SLOTS\, PRIVATE SESSIONS AND CLASSES MUST BE MADE IN ADVANCE BY CALLING EXT: 8920 OR BY EMAIL: YOGAFITNESS@COTTONHOUSE.NET \n 
URL:https://mustique.life/event/group-yoga-4/2026-04-11/
LOCATION:Yoga Pavilion
CATEGORIES:Sport / Wellness
ATTACH;FMTTYPE=image/jpeg:https://mustique.life/wp-content/uploads/2022/07/Yoga-Lagoon-5.jpg
END:VEVENT
BEGIN:VEVENT
DTSTART;TZID=America/St_Vincent:20260410T090000
DTEND;TZID=America/St_Vincent:20260410T100000
DTSTAMP:20260419T112707
CREATED:20260320T033102Z
LAST-MODIFIED:20260417T131055Z
UID:10017707-1775811600-1775815200@mustique.life
SUMMARY:Group Yoga
DESCRIPTION:Breathe. Stretch. Strengthen. Repeat. Find your flow\, improve flexibility\, and start your day grounded and refreshed. Join Charlotte at the Yoga Pavillion for an hour of morning yoga. \nMonday –  Saturday \n8:00am – 9:00am \nYoga Pavilion \nALL BOOKINGS FOR GYM TIME SLOTS\, PRIVATE SESSIONS AND CLASSES MUST BE MADE IN ADVANCE BY CALLING EXT: 8920 OR BY EMAIL: YOGAFITNESS@COTTONHOUSE.NET \n 
URL:https://mustique.life/event/group-yoga/2026-04-10/
LOCATION:Yoga Pavilion
CATEGORIES:Sport / Wellness
ATTACH;FMTTYPE=image/jpeg:https://mustique.life/wp-content/uploads/2022/07/Yoga-Lagoon-5.jpg
END:VEVENT
BEGIN:VEVENT
DTSTART;TZID=America/St_Vincent:20260410T080000
DTEND;TZID=America/St_Vincent:20260410T090000
DTSTAMP:20260419T112707
CREATED:20260107T033102Z
LAST-MODIFIED:20260227T142055Z
UID:10017503-1775808000-1775811600@mustique.life
SUMMARY:Group Yoga
DESCRIPTION:Breathe. Stretch. Strengthen. Repeat. Find your flow\, improve flexibility\, and start your day grounded and refreshed. Join Charlotte at the Yoga Pavillion for an hour of morning yoga. \nMonday –  Saturday \n8:00am – 9:00am \nYoga Pavilion \nALL BOOKINGS FOR GYM TIME SLOTS\, PRIVATE SESSIONS AND CLASSES MUST BE MADE IN ADVANCE BY CALLING EXT: 8920 OR BY EMAIL: YOGAFITNESS@COTTONHOUSE.NET \n 
URL:https://mustique.life/event/group-yoga-4/2026-04-10/
LOCATION:Yoga Pavilion
CATEGORIES:Sport / Wellness
ATTACH;FMTTYPE=image/jpeg:https://mustique.life/wp-content/uploads/2022/07/Yoga-Lagoon-5.jpg
END:VEVENT
BEGIN:VEVENT
DTSTART;TZID=America/St_Vincent:20260409T090000
DTEND;TZID=America/St_Vincent:20260409T100000
DTSTAMP:20260419T112707
CREATED:20260320T033102Z
LAST-MODIFIED:20260417T131055Z
UID:10017706-1775725200-1775728800@mustique.life
SUMMARY:Group Yoga
DESCRIPTION:Breathe. Stretch. Strengthen. Repeat. Find your flow\, improve flexibility\, and start your day grounded and refreshed. Join Charlotte at the Yoga Pavillion for an hour of morning yoga. \nMonday –  Saturday \n8:00am – 9:00am \nYoga Pavilion \nALL BOOKINGS FOR GYM TIME SLOTS\, PRIVATE SESSIONS AND CLASSES MUST BE MADE IN ADVANCE BY CALLING EXT: 8920 OR BY EMAIL: YOGAFITNESS@COTTONHOUSE.NET \n 
URL:https://mustique.life/event/group-yoga/2026-04-09/
LOCATION:Yoga Pavilion
CATEGORIES:Sport / Wellness
ATTACH;FMTTYPE=image/jpeg:https://mustique.life/wp-content/uploads/2022/07/Yoga-Lagoon-5.jpg
END:VEVENT
BEGIN:VEVENT
DTSTART;TZID=America/St_Vincent:20260409T080000
DTEND;TZID=America/St_Vincent:20260409T090000
DTSTAMP:20260419T112707
CREATED:20260107T033102Z
LAST-MODIFIED:20260227T142055Z
UID:10017502-1775721600-1775725200@mustique.life
SUMMARY:Group Yoga
DESCRIPTION:Breathe. Stretch. Strengthen. Repeat. Find your flow\, improve flexibility\, and start your day grounded and refreshed. Join Charlotte at the Yoga Pavillion for an hour of morning yoga. \nMonday –  Saturday \n8:00am – 9:00am \nYoga Pavilion \nALL BOOKINGS FOR GYM TIME SLOTS\, PRIVATE SESSIONS AND CLASSES MUST BE MADE IN ADVANCE BY CALLING EXT: 8920 OR BY EMAIL: YOGAFITNESS@COTTONHOUSE.NET \n 
URL:https://mustique.life/event/group-yoga-4/2026-04-09/
LOCATION:Yoga Pavilion
CATEGORIES:Sport / Wellness
ATTACH;FMTTYPE=image/jpeg:https://mustique.life/wp-content/uploads/2022/07/Yoga-Lagoon-5.jpg
END:VEVENT
BEGIN:VEVENT
DTSTART;TZID=America/St_Vincent:20260408T090000
DTEND;TZID=America/St_Vincent:20260408T100000
DTSTAMP:20260419T112707
CREATED:20260320T033102Z
LAST-MODIFIED:20260417T131055Z
UID:10017705-1775638800-1775642400@mustique.life
SUMMARY:Group Yoga
DESCRIPTION:Breathe. Stretch. Strengthen. Repeat. Find your flow\, improve flexibility\, and start your day grounded and refreshed. Join Charlotte at the Yoga Pavillion for an hour of morning yoga. \nMonday –  Saturday \n8:00am – 9:00am \nYoga Pavilion \nALL BOOKINGS FOR GYM TIME SLOTS\, PRIVATE SESSIONS AND CLASSES MUST BE MADE IN ADVANCE BY CALLING EXT: 8920 OR BY EMAIL: YOGAFITNESS@COTTONHOUSE.NET \n 
URL:https://mustique.life/event/group-yoga/2026-04-08/
LOCATION:Yoga Pavilion
CATEGORIES:Sport / Wellness
ATTACH;FMTTYPE=image/jpeg:https://mustique.life/wp-content/uploads/2022/07/Yoga-Lagoon-5.jpg
END:VEVENT
BEGIN:VEVENT
DTSTART;TZID=America/St_Vincent:20260408T080000
DTEND;TZID=America/St_Vincent:20260408T090000
DTSTAMP:20260419T112707
CREATED:20260107T033102Z
LAST-MODIFIED:20260227T142055Z
UID:10017501-1775635200-1775638800@mustique.life
SUMMARY:Group Yoga
DESCRIPTION:Breathe. Stretch. Strengthen. Repeat. Find your flow\, improve flexibility\, and start your day grounded and refreshed. Join Charlotte at the Yoga Pavillion for an hour of morning yoga. \nMonday –  Saturday \n8:00am – 9:00am \nYoga Pavilion \nALL BOOKINGS FOR GYM TIME SLOTS\, PRIVATE SESSIONS AND CLASSES MUST BE MADE IN ADVANCE BY CALLING EXT: 8920 OR BY EMAIL: YOGAFITNESS@COTTONHOUSE.NET \n 
URL:https://mustique.life/event/group-yoga-4/2026-04-08/
LOCATION:Yoga Pavilion
CATEGORIES:Sport / Wellness
ATTACH;FMTTYPE=image/jpeg:https://mustique.life/wp-content/uploads/2022/07/Yoga-Lagoon-5.jpg
END:VEVENT
BEGIN:VEVENT
DTSTART;TZID=America/St_Vincent:20260407T090000
DTEND;TZID=America/St_Vincent:20260407T100000
DTSTAMP:20260419T112707
CREATED:20260320T033102Z
LAST-MODIFIED:20260417T131055Z
UID:10017704-1775552400-1775556000@mustique.life
SUMMARY:Group Yoga
DESCRIPTION:Breathe. Stretch. Strengthen. Repeat. Find your flow\, improve flexibility\, and start your day grounded and refreshed. Join Charlotte at the Yoga Pavillion for an hour of morning yoga. \nMonday –  Saturday \n8:00am – 9:00am \nYoga Pavilion \nALL BOOKINGS FOR GYM TIME SLOTS\, PRIVATE SESSIONS AND CLASSES MUST BE MADE IN ADVANCE BY CALLING EXT: 8920 OR BY EMAIL: YOGAFITNESS@COTTONHOUSE.NET \n 
URL:https://mustique.life/event/group-yoga/2026-04-07/
LOCATION:Yoga Pavilion
CATEGORIES:Sport / Wellness
ATTACH;FMTTYPE=image/jpeg:https://mustique.life/wp-content/uploads/2022/07/Yoga-Lagoon-5.jpg
END:VEVENT
BEGIN:VEVENT
DTSTART;TZID=America/St_Vincent:20260407T080000
DTEND;TZID=America/St_Vincent:20260407T090000
DTSTAMP:20260419T112707
CREATED:20260107T033102Z
LAST-MODIFIED:20260227T142055Z
UID:10017500-1775548800-1775552400@mustique.life
SUMMARY:Group Yoga
DESCRIPTION:Breathe. Stretch. Strengthen. Repeat. Find your flow\, improve flexibility\, and start your day grounded and refreshed. Join Charlotte at the Yoga Pavillion for an hour of morning yoga. \nMonday –  Saturday \n8:00am – 9:00am \nYoga Pavilion \nALL BOOKINGS FOR GYM TIME SLOTS\, PRIVATE SESSIONS AND CLASSES MUST BE MADE IN ADVANCE BY CALLING EXT: 8920 OR BY EMAIL: YOGAFITNESS@COTTONHOUSE.NET \n 
URL:https://mustique.life/event/group-yoga-4/2026-04-07/
LOCATION:Yoga Pavilion
CATEGORIES:Sport / Wellness
ATTACH;FMTTYPE=image/jpeg:https://mustique.life/wp-content/uploads/2022/07/Yoga-Lagoon-5.jpg
END:VEVENT
BEGIN:VEVENT
DTSTART;TZID=America/St_Vincent:20260406T090000
DTEND;TZID=America/St_Vincent:20260406T100000
DTSTAMP:20260419T112707
CREATED:20260320T033102Z
LAST-MODIFIED:20260417T131055Z
UID:10017703-1775466000-1775469600@mustique.life
SUMMARY:Group Yoga
DESCRIPTION:Breathe. Stretch. Strengthen. Repeat. Find your flow\, improve flexibility\, and start your day grounded and refreshed. Join Charlotte at the Yoga Pavillion for an hour of morning yoga. \nMonday –  Saturday \n8:00am – 9:00am \nYoga Pavilion \nALL BOOKINGS FOR GYM TIME SLOTS\, PRIVATE SESSIONS AND CLASSES MUST BE MADE IN ADVANCE BY CALLING EXT: 8920 OR BY EMAIL: YOGAFITNESS@COTTONHOUSE.NET \n 
URL:https://mustique.life/event/group-yoga/2026-04-06/
LOCATION:Yoga Pavilion
CATEGORIES:Sport / Wellness
ATTACH;FMTTYPE=image/jpeg:https://mustique.life/wp-content/uploads/2022/07/Yoga-Lagoon-5.jpg
END:VEVENT
BEGIN:VEVENT
DTSTART;TZID=America/St_Vincent:20260406T080000
DTEND;TZID=America/St_Vincent:20260406T090000
DTSTAMP:20260419T112707
CREATED:20260107T033102Z
LAST-MODIFIED:20260227T142055Z
UID:10017499-1775462400-1775466000@mustique.life
SUMMARY:Group Yoga
DESCRIPTION:Breathe. Stretch. Strengthen. Repeat. Find your flow\, improve flexibility\, and start your day grounded and refreshed. Join Charlotte at the Yoga Pavillion for an hour of morning yoga. \nMonday –  Saturday \n8:00am – 9:00am \nYoga Pavilion \nALL BOOKINGS FOR GYM TIME SLOTS\, PRIVATE SESSIONS AND CLASSES MUST BE MADE IN ADVANCE BY CALLING EXT: 8920 OR BY EMAIL: YOGAFITNESS@COTTONHOUSE.NET \n 
URL:https://mustique.life/event/group-yoga-4/2026-04-06/
LOCATION:Yoga Pavilion
CATEGORIES:Sport / Wellness
ATTACH;FMTTYPE=image/jpeg:https://mustique.life/wp-content/uploads/2022/07/Yoga-Lagoon-5.jpg
END:VEVENT
BEGIN:VEVENT
DTSTART;TZID=America/St_Vincent:20260404T090000
DTEND;TZID=America/St_Vincent:20260404T100000
DTSTAMP:20260419T112707
CREATED:20260320T033102Z
LAST-MODIFIED:20260417T131055Z
UID:10017702-1775293200-1775296800@mustique.life
SUMMARY:Group Yoga
DESCRIPTION:Breathe. Stretch. Strengthen. Repeat. Find your flow\, improve flexibility\, and start your day grounded and refreshed. Join Charlotte at the Yoga Pavillion for an hour of morning yoga. \nMonday –  Saturday \n8:00am – 9:00am \nYoga Pavilion \nALL BOOKINGS FOR GYM TIME SLOTS\, PRIVATE SESSIONS AND CLASSES MUST BE MADE IN ADVANCE BY CALLING EXT: 8920 OR BY EMAIL: YOGAFITNESS@COTTONHOUSE.NET \n 
URL:https://mustique.life/event/group-yoga/2026-04-04/
LOCATION:Yoga Pavilion
CATEGORIES:Sport / Wellness
ATTACH;FMTTYPE=image/jpeg:https://mustique.life/wp-content/uploads/2022/07/Yoga-Lagoon-5.jpg
END:VEVENT
BEGIN:VEVENT
DTSTART;TZID=America/St_Vincent:20260404T080000
DTEND;TZID=America/St_Vincent:20260404T090000
DTSTAMP:20260419T112707
CREATED:20260107T033102Z
LAST-MODIFIED:20260227T142055Z
UID:10017498-1775289600-1775293200@mustique.life
SUMMARY:Group Yoga
DESCRIPTION:Breathe. Stretch. Strengthen. Repeat. Find your flow\, improve flexibility\, and start your day grounded and refreshed. Join Charlotte at the Yoga Pavillion for an hour of morning yoga. \nMonday –  Saturday \n8:00am – 9:00am \nYoga Pavilion \nALL BOOKINGS FOR GYM TIME SLOTS\, PRIVATE SESSIONS AND CLASSES MUST BE MADE IN ADVANCE BY CALLING EXT: 8920 OR BY EMAIL: YOGAFITNESS@COTTONHOUSE.NET \n 
URL:https://mustique.life/event/group-yoga-4/2026-04-04/
LOCATION:Yoga Pavilion
CATEGORIES:Sport / Wellness
ATTACH;FMTTYPE=image/jpeg:https://mustique.life/wp-content/uploads/2022/07/Yoga-Lagoon-5.jpg
END:VEVENT
BEGIN:VEVENT
DTSTART;TZID=America/St_Vincent:20260403T090000
DTEND;TZID=America/St_Vincent:20260403T100000
DTSTAMP:20260419T112707
CREATED:20260320T033102Z
LAST-MODIFIED:20260417T131055Z
UID:10017701-1775206800-1775210400@mustique.life
SUMMARY:Group Yoga
DESCRIPTION:Breathe. Stretch. Strengthen. Repeat. Find your flow\, improve flexibility\, and start your day grounded and refreshed. Join Charlotte at the Yoga Pavillion for an hour of morning yoga. \nMonday –  Saturday \n8:00am – 9:00am \nYoga Pavilion \nALL BOOKINGS FOR GYM TIME SLOTS\, PRIVATE SESSIONS AND CLASSES MUST BE MADE IN ADVANCE BY CALLING EXT: 8920 OR BY EMAIL: YOGAFITNESS@COTTONHOUSE.NET \n 
URL:https://mustique.life/event/group-yoga/2026-04-03/
LOCATION:Yoga Pavilion
CATEGORIES:Sport / Wellness
ATTACH;FMTTYPE=image/jpeg:https://mustique.life/wp-content/uploads/2022/07/Yoga-Lagoon-5.jpg
END:VEVENT
BEGIN:VEVENT
DTSTART;TZID=America/St_Vincent:20260403T080000
DTEND;TZID=America/St_Vincent:20260403T090000
DTSTAMP:20260419T112707
CREATED:20260107T033102Z
LAST-MODIFIED:20260227T142055Z
UID:10017497-1775203200-1775206800@mustique.life
SUMMARY:Group Yoga
DESCRIPTION:Breathe. Stretch. Strengthen. Repeat. Find your flow\, improve flexibility\, and start your day grounded and refreshed. Join Charlotte at the Yoga Pavillion for an hour of morning yoga. \nMonday –  Saturday \n8:00am – 9:00am \nYoga Pavilion \nALL BOOKINGS FOR GYM TIME SLOTS\, PRIVATE SESSIONS AND CLASSES MUST BE MADE IN ADVANCE BY CALLING EXT: 8920 OR BY EMAIL: YOGAFITNESS@COTTONHOUSE.NET \n 
URL:https://mustique.life/event/group-yoga-4/2026-04-03/
LOCATION:Yoga Pavilion
CATEGORIES:Sport / Wellness
ATTACH;FMTTYPE=image/jpeg:https://mustique.life/wp-content/uploads/2022/07/Yoga-Lagoon-5.jpg
END:VEVENT
BEGIN:VEVENT
DTSTART;TZID=America/St_Vincent:20260402T090000
DTEND;TZID=America/St_Vincent:20260402T100000
DTSTAMP:20260419T112707
CREATED:20260320T033102Z
LAST-MODIFIED:20260417T131055Z
UID:10017700-1775120400-1775124000@mustique.life
SUMMARY:Group Yoga
DESCRIPTION:Breathe. Stretch. Strengthen. Repeat. Find your flow\, improve flexibility\, and start your day grounded and refreshed. Join Charlotte at the Yoga Pavillion for an hour of morning yoga. \nMonday –  Saturday \n8:00am – 9:00am \nYoga Pavilion \nALL BOOKINGS FOR GYM TIME SLOTS\, PRIVATE SESSIONS AND CLASSES MUST BE MADE IN ADVANCE BY CALLING EXT: 8920 OR BY EMAIL: YOGAFITNESS@COTTONHOUSE.NET \n 
URL:https://mustique.life/event/group-yoga/2026-04-02/
LOCATION:Yoga Pavilion
CATEGORIES:Sport / Wellness
ATTACH;FMTTYPE=image/jpeg:https://mustique.life/wp-content/uploads/2022/07/Yoga-Lagoon-5.jpg
END:VEVENT
BEGIN:VEVENT
DTSTART;TZID=America/St_Vincent:20260402T080000
DTEND;TZID=America/St_Vincent:20260402T090000
DTSTAMP:20260419T112707
CREATED:20260107T033102Z
LAST-MODIFIED:20260227T142055Z
UID:10017496-1775116800-1775120400@mustique.life
SUMMARY:Group Yoga
DESCRIPTION:Breathe. Stretch. Strengthen. Repeat. Find your flow\, improve flexibility\, and start your day grounded and refreshed. Join Charlotte at the Yoga Pavillion for an hour of morning yoga. \nMonday –  Saturday \n8:00am – 9:00am \nYoga Pavilion \nALL BOOKINGS FOR GYM TIME SLOTS\, PRIVATE SESSIONS AND CLASSES MUST BE MADE IN ADVANCE BY CALLING EXT: 8920 OR BY EMAIL: YOGAFITNESS@COTTONHOUSE.NET \n 
URL:https://mustique.life/event/group-yoga-4/2026-04-02/
LOCATION:Yoga Pavilion
CATEGORIES:Sport / Wellness
ATTACH;FMTTYPE=image/jpeg:https://mustique.life/wp-content/uploads/2022/07/Yoga-Lagoon-5.jpg
END:VEVENT
BEGIN:VEVENT
DTSTART;TZID=America/St_Vincent:20260401T090000
DTEND;TZID=America/St_Vincent:20260401T100000
DTSTAMP:20260419T112707
CREATED:20260320T033102Z
LAST-MODIFIED:20260417T131055Z
UID:10017699-1775034000-1775037600@mustique.life
SUMMARY:Group Yoga
DESCRIPTION:Breathe. Stretch. Strengthen. Repeat. Find your flow\, improve flexibility\, and start your day grounded and refreshed. Join Charlotte at the Yoga Pavillion for an hour of morning yoga. \nMonday –  Saturday \n8:00am – 9:00am \nYoga Pavilion \nALL BOOKINGS FOR GYM TIME SLOTS\, PRIVATE SESSIONS AND CLASSES MUST BE MADE IN ADVANCE BY CALLING EXT: 8920 OR BY EMAIL: YOGAFITNESS@COTTONHOUSE.NET \n 
URL:https://mustique.life/event/group-yoga/2026-04-01/
LOCATION:Yoga Pavilion
CATEGORIES:Sport / Wellness
ATTACH;FMTTYPE=image/jpeg:https://mustique.life/wp-content/uploads/2022/07/Yoga-Lagoon-5.jpg
END:VEVENT
BEGIN:VEVENT
DTSTART;TZID=America/St_Vincent:20260401T080000
DTEND;TZID=America/St_Vincent:20260401T090000
DTSTAMP:20260419T112707
CREATED:20260107T033102Z
LAST-MODIFIED:20260227T142055Z
UID:10017495-1775030400-1775034000@mustique.life
SUMMARY:Group Yoga
DESCRIPTION:Breathe. Stretch. Strengthen. Repeat. Find your flow\, improve flexibility\, and start your day grounded and refreshed. Join Charlotte at the Yoga Pavillion for an hour of morning yoga. \nMonday –  Saturday \n8:00am – 9:00am \nYoga Pavilion \nALL BOOKINGS FOR GYM TIME SLOTS\, PRIVATE SESSIONS AND CLASSES MUST BE MADE IN ADVANCE BY CALLING EXT: 8920 OR BY EMAIL: YOGAFITNESS@COTTONHOUSE.NET \n 
URL:https://mustique.life/event/group-yoga-4/2026-04-01/
LOCATION:Yoga Pavilion
CATEGORIES:Sport / Wellness
ATTACH;FMTTYPE=image/jpeg:https://mustique.life/wp-content/uploads/2022/07/Yoga-Lagoon-5.jpg
END:VEVENT
BEGIN:VEVENT
DTSTART;TZID=America/St_Vincent:20260331T090000
DTEND;TZID=America/St_Vincent:20260331T100000
DTSTAMP:20260419T112707
CREATED:20260320T033102Z
LAST-MODIFIED:20260417T131055Z
UID:10017698-1774947600-1774951200@mustique.life
SUMMARY:Group Yoga
DESCRIPTION:Breathe. Stretch. Strengthen. Repeat. Find your flow\, improve flexibility\, and start your day grounded and refreshed. Join Charlotte at the Yoga Pavillion for an hour of morning yoga. \nMonday –  Saturday \n8:00am – 9:00am \nYoga Pavilion \nALL BOOKINGS FOR GYM TIME SLOTS\, PRIVATE SESSIONS AND CLASSES MUST BE MADE IN ADVANCE BY CALLING EXT: 8920 OR BY EMAIL: YOGAFITNESS@COTTONHOUSE.NET \n 
URL:https://mustique.life/event/group-yoga/2026-03-31/
LOCATION:Yoga Pavilion
CATEGORIES:Sport / Wellness
ATTACH;FMTTYPE=image/jpeg:https://mustique.life/wp-content/uploads/2022/07/Yoga-Lagoon-5.jpg
END:VEVENT
BEGIN:VEVENT
DTSTART;TZID=America/St_Vincent:20260331T080000
DTEND;TZID=America/St_Vincent:20260331T090000
DTSTAMP:20260419T112707
CREATED:20260107T033102Z
LAST-MODIFIED:20260227T142055Z
UID:10017494-1774944000-1774947600@mustique.life
SUMMARY:Group Yoga
DESCRIPTION:Breathe. Stretch. Strengthen. Repeat. Find your flow\, improve flexibility\, and start your day grounded and refreshed. Join Charlotte at the Yoga Pavillion for an hour of morning yoga. \nMonday –  Saturday \n8:00am – 9:00am \nYoga Pavilion \nALL BOOKINGS FOR GYM TIME SLOTS\, PRIVATE SESSIONS AND CLASSES MUST BE MADE IN ADVANCE BY CALLING EXT: 8920 OR BY EMAIL: YOGAFITNESS@COTTONHOUSE.NET \n 
URL:https://mustique.life/event/group-yoga-4/2026-03-31/
LOCATION:Yoga Pavilion
CATEGORIES:Sport / Wellness
ATTACH;FMTTYPE=image/jpeg:https://mustique.life/wp-content/uploads/2022/07/Yoga-Lagoon-5.jpg
END:VEVENT
BEGIN:VEVENT
DTSTART;TZID=America/St_Vincent:20260330T090000
DTEND;TZID=America/St_Vincent:20260330T100000
DTSTAMP:20260419T112707
CREATED:20260320T033102Z
LAST-MODIFIED:20260417T131055Z
UID:10017697-1774861200-1774864800@mustique.life
SUMMARY:Group Yoga
DESCRIPTION:Breathe. Stretch. Strengthen. Repeat. Find your flow\, improve flexibility\, and start your day grounded and refreshed. Join Charlotte at the Yoga Pavillion for an hour of morning yoga. \nMonday –  Saturday \n8:00am – 9:00am \nYoga Pavilion \nALL BOOKINGS FOR GYM TIME SLOTS\, PRIVATE SESSIONS AND CLASSES MUST BE MADE IN ADVANCE BY CALLING EXT: 8920 OR BY EMAIL: YOGAFITNESS@COTTONHOUSE.NET \n 
URL:https://mustique.life/event/group-yoga/2026-03-30/
LOCATION:Yoga Pavilion
CATEGORIES:Sport / Wellness
ATTACH;FMTTYPE=image/jpeg:https://mustique.life/wp-content/uploads/2022/07/Yoga-Lagoon-5.jpg
END:VEVENT
BEGIN:VEVENT
DTSTART;TZID=America/St_Vincent:20260330T080000
DTEND;TZID=America/St_Vincent:20260330T090000
DTSTAMP:20260419T112707
CREATED:20260107T033102Z
LAST-MODIFIED:20260227T142055Z
UID:10017493-1774857600-1774861200@mustique.life
SUMMARY:Group Yoga
DESCRIPTION:Breathe. Stretch. Strengthen. Repeat. Find your flow\, improve flexibility\, and start your day grounded and refreshed. Join Charlotte at the Yoga Pavillion for an hour of morning yoga. \nMonday –  Saturday \n8:00am – 9:00am \nYoga Pavilion \nALL BOOKINGS FOR GYM TIME SLOTS\, PRIVATE SESSIONS AND CLASSES MUST BE MADE IN ADVANCE BY CALLING EXT: 8920 OR BY EMAIL: YOGAFITNESS@COTTONHOUSE.NET \n 
URL:https://mustique.life/event/group-yoga-4/2026-03-30/
LOCATION:Yoga Pavilion
CATEGORIES:Sport / Wellness
ATTACH;FMTTYPE=image/jpeg:https://mustique.life/wp-content/uploads/2022/07/Yoga-Lagoon-5.jpg
END:VEVENT
END:VCALENDAR