BEGIN:VCALENDAR
VERSION:2.0
PRODID:-//Mustique Events - Calendar - ECPv6.15.17.1//NONSGML v1.0//EN
CALSCALE:GREGORIAN
METHOD:PUBLISH
X-WR-CALNAME:Mustique Events - Calendar
X-ORIGINAL-URL:https://mustique.life
X-WR-CALDESC:Events for Mustique Events - Calendar
REFRESH-INTERVAL;VALUE=DURATION:PT1H
X-Robots-Tag:noindex
X-PUBLISHED-TTL:PT1H
BEGIN:VTIMEZONE
TZID:America/St_Vincent
BEGIN:STANDARD
TZOFFSETFROM:-0400
TZOFFSETTO:-0400
TZNAME:AST
DTSTART:20250101T000000
END:STANDARD
END:VTIMEZONE
BEGIN:VEVENT
DTSTART;TZID=America/St_Vincent:20260423T180000
DTEND;TZID=America/St_Vincent:20260423T200000
DTSTAMP:20260419T094734
CREATED:20250819T140834Z
LAST-MODIFIED:20251218T203316Z
UID:10012993-1776967200-1776974400@mustique.life
SUMMARY:Backgammon Night
DESCRIPTION:Please join us for Backgammon Night in the Veranda on Thursday night! \nTo make sure the night runs smoothly\, please pre-register your attendance with Emilie\, by Wednesday 12pm by calling 8215. \nOn the night\, you are welcome from 6pm; the first dice will be rolled at 6.15pm sharp!
URL:https://mustique.life/event/backgammon-night-2/2026-04-23/
LOCATION:Veranda
CATEGORIES:Entertainment
ATTACH;FMTTYPE=image/jpeg:https://mustique.life/wp-content/uploads/2022/03/Backgammon-Night.jpg
END:VEVENT
BEGIN:VEVENT
DTSTART;TZID=America/St_Vincent:20260430T180000
DTEND;TZID=America/St_Vincent:20260430T200000
DTSTAMP:20260419T094734
CREATED:20250819T140834Z
LAST-MODIFIED:20251218T203316Z
UID:10012994-1777572000-1777579200@mustique.life
SUMMARY:Backgammon Night
DESCRIPTION:Please join us for Backgammon Night in the Veranda on Thursday night! \nTo make sure the night runs smoothly\, please pre-register your attendance with Emilie\, by Wednesday 12pm by calling 8215. \nOn the night\, you are welcome from 6pm; the first dice will be rolled at 6.15pm sharp!
URL:https://mustique.life/event/backgammon-night-2/2026-04-30/
LOCATION:Veranda
CATEGORIES:Entertainment
ATTACH;FMTTYPE=image/jpeg:https://mustique.life/wp-content/uploads/2022/03/Backgammon-Night.jpg
END:VEVENT
BEGIN:VEVENT
DTSTART;TZID=America/St_Vincent:20260507T180000
DTEND;TZID=America/St_Vincent:20260507T200000
DTSTAMP:20260419T094734
CREATED:20250819T140834Z
LAST-MODIFIED:20251218T203316Z
UID:10012995-1778176800-1778184000@mustique.life
SUMMARY:Backgammon Night
DESCRIPTION:Please join us for Backgammon Night in the Veranda on Thursday night! \nTo make sure the night runs smoothly\, please pre-register your attendance with Emilie\, by Wednesday 12pm by calling 8215. \nOn the night\, you are welcome from 6pm; the first dice will be rolled at 6.15pm sharp!
URL:https://mustique.life/event/backgammon-night-2/2026-05-07/
LOCATION:Veranda
CATEGORIES:Entertainment
ATTACH;FMTTYPE=image/jpeg:https://mustique.life/wp-content/uploads/2022/03/Backgammon-Night.jpg
END:VEVENT
BEGIN:VEVENT
DTSTART;TZID=America/St_Vincent:20260514T180000
DTEND;TZID=America/St_Vincent:20260514T200000
DTSTAMP:20260419T094734
CREATED:20250819T140834Z
LAST-MODIFIED:20251218T203316Z
UID:10012996-1778781600-1778788800@mustique.life
SUMMARY:Backgammon Night
DESCRIPTION:Please join us for Backgammon Night in the Veranda on Thursday night! \nTo make sure the night runs smoothly\, please pre-register your attendance with Emilie\, by Wednesday 12pm by calling 8215. \nOn the night\, you are welcome from 6pm; the first dice will be rolled at 6.15pm sharp!
URL:https://mustique.life/event/backgammon-night-2/2026-05-14/
LOCATION:Veranda
CATEGORIES:Entertainment
ATTACH;FMTTYPE=image/jpeg:https://mustique.life/wp-content/uploads/2022/03/Backgammon-Night.jpg
END:VEVENT
BEGIN:VEVENT
DTSTART;TZID=America/St_Vincent:20260521T180000
DTEND;TZID=America/St_Vincent:20260521T200000
DTSTAMP:20260419T094734
CREATED:20250819T140834Z
LAST-MODIFIED:20251218T203316Z
UID:10012997-1779386400-1779393600@mustique.life
SUMMARY:Backgammon Night
DESCRIPTION:Please join us for Backgammon Night in the Veranda on Thursday night! \nTo make sure the night runs smoothly\, please pre-register your attendance with Emilie\, by Wednesday 12pm by calling 8215. \nOn the night\, you are welcome from 6pm; the first dice will be rolled at 6.15pm sharp!
URL:https://mustique.life/event/backgammon-night-2/2026-05-21/
LOCATION:Veranda
CATEGORIES:Entertainment
ATTACH;FMTTYPE=image/jpeg:https://mustique.life/wp-content/uploads/2022/03/Backgammon-Night.jpg
END:VEVENT
BEGIN:VEVENT
DTSTART;TZID=America/St_Vincent:20260528T180000
DTEND;TZID=America/St_Vincent:20260528T200000
DTSTAMP:20260419T094734
CREATED:20250819T140834Z
LAST-MODIFIED:20251218T203316Z
UID:10012998-1779991200-1779998400@mustique.life
SUMMARY:Backgammon Night
DESCRIPTION:Please join us for Backgammon Night in the Veranda on Thursday night! \nTo make sure the night runs smoothly\, please pre-register your attendance with Emilie\, by Wednesday 12pm by calling 8215. \nOn the night\, you are welcome from 6pm; the first dice will be rolled at 6.15pm sharp!
URL:https://mustique.life/event/backgammon-night-2/2026-05-28/
LOCATION:Veranda
CATEGORIES:Entertainment
ATTACH;FMTTYPE=image/jpeg:https://mustique.life/wp-content/uploads/2022/03/Backgammon-Night.jpg
END:VEVENT
BEGIN:VEVENT
DTSTART;TZID=America/St_Vincent:20260604T180000
DTEND;TZID=America/St_Vincent:20260604T200000
DTSTAMP:20260419T094734
CREATED:20250819T140834Z
LAST-MODIFIED:20251218T203316Z
UID:10012999-1780596000-1780603200@mustique.life
SUMMARY:Backgammon Night
DESCRIPTION:Please join us for Backgammon Night in the Veranda on Thursday night! \nTo make sure the night runs smoothly\, please pre-register your attendance with Emilie\, by Wednesday 12pm by calling 8215. \nOn the night\, you are welcome from 6pm; the first dice will be rolled at 6.15pm sharp!
URL:https://mustique.life/event/backgammon-night-2/2026-06-04/
LOCATION:Veranda
CATEGORIES:Entertainment
ATTACH;FMTTYPE=image/jpeg:https://mustique.life/wp-content/uploads/2022/03/Backgammon-Night.jpg
END:VEVENT
BEGIN:VEVENT
DTSTART;TZID=America/St_Vincent:20260611T180000
DTEND;TZID=America/St_Vincent:20260611T200000
DTSTAMP:20260419T094734
CREATED:20250819T140834Z
LAST-MODIFIED:20251218T203316Z
UID:10013000-1781200800-1781208000@mustique.life
SUMMARY:Backgammon Night
DESCRIPTION:Please join us for Backgammon Night in the Veranda on Thursday night! \nTo make sure the night runs smoothly\, please pre-register your attendance with Emilie\, by Wednesday 12pm by calling 8215. \nOn the night\, you are welcome from 6pm; the first dice will be rolled at 6.15pm sharp!
URL:https://mustique.life/event/backgammon-night-2/2026-06-11/
LOCATION:Veranda
CATEGORIES:Entertainment
ATTACH;FMTTYPE=image/jpeg:https://mustique.life/wp-content/uploads/2022/03/Backgammon-Night.jpg
END:VEVENT
BEGIN:VEVENT
DTSTART;TZID=America/St_Vincent:20260618T180000
DTEND;TZID=America/St_Vincent:20260618T200000
DTSTAMP:20260419T094734
CREATED:20250819T140834Z
LAST-MODIFIED:20251218T203316Z
UID:10013001-1781805600-1781812800@mustique.life
SUMMARY:Backgammon Night
DESCRIPTION:Please join us for Backgammon Night in the Veranda on Thursday night! \nTo make sure the night runs smoothly\, please pre-register your attendance with Emilie\, by Wednesday 12pm by calling 8215. \nOn the night\, you are welcome from 6pm; the first dice will be rolled at 6.15pm sharp!
URL:https://mustique.life/event/backgammon-night-2/2026-06-18/
LOCATION:Veranda
CATEGORIES:Entertainment
ATTACH;FMTTYPE=image/jpeg:https://mustique.life/wp-content/uploads/2022/03/Backgammon-Night.jpg
END:VEVENT
BEGIN:VEVENT
DTSTART;TZID=America/St_Vincent:20260625T180000
DTEND;TZID=America/St_Vincent:20260625T200000
DTSTAMP:20260419T094734
CREATED:20250819T140834Z
LAST-MODIFIED:20251218T203316Z
UID:10013002-1782410400-1782417600@mustique.life
SUMMARY:Backgammon Night
DESCRIPTION:Please join us for Backgammon Night in the Veranda on Thursday night! \nTo make sure the night runs smoothly\, please pre-register your attendance with Emilie\, by Wednesday 12pm by calling 8215. \nOn the night\, you are welcome from 6pm; the first dice will be rolled at 6.15pm sharp!
URL:https://mustique.life/event/backgammon-night-2/2026-06-25/
LOCATION:Veranda
CATEGORIES:Entertainment
ATTACH;FMTTYPE=image/jpeg:https://mustique.life/wp-content/uploads/2022/03/Backgammon-Night.jpg
END:VEVENT
BEGIN:VEVENT
DTSTART;TZID=America/St_Vincent:20260702T180000
DTEND;TZID=America/St_Vincent:20260702T200000
DTSTAMP:20260419T094734
CREATED:20250819T140834Z
LAST-MODIFIED:20251218T203316Z
UID:10013003-1783015200-1783022400@mustique.life
SUMMARY:Backgammon Night
DESCRIPTION:Please join us for Backgammon Night in the Veranda on Thursday night! \nTo make sure the night runs smoothly\, please pre-register your attendance with Emilie\, by Wednesday 12pm by calling 8215. \nOn the night\, you are welcome from 6pm; the first dice will be rolled at 6.15pm sharp!
URL:https://mustique.life/event/backgammon-night-2/2026-07-02/
LOCATION:Veranda
CATEGORIES:Entertainment
ATTACH;FMTTYPE=image/jpeg:https://mustique.life/wp-content/uploads/2022/03/Backgammon-Night.jpg
END:VEVENT
BEGIN:VEVENT
DTSTART;TZID=America/St_Vincent:20260709T180000
DTEND;TZID=America/St_Vincent:20260709T200000
DTSTAMP:20260419T094734
CREATED:20250819T140834Z
LAST-MODIFIED:20251218T203316Z
UID:10013004-1783620000-1783627200@mustique.life
SUMMARY:Backgammon Night
DESCRIPTION:Please join us for Backgammon Night in the Veranda on Thursday night! \nTo make sure the night runs smoothly\, please pre-register your attendance with Emilie\, by Wednesday 12pm by calling 8215. \nOn the night\, you are welcome from 6pm; the first dice will be rolled at 6.15pm sharp!
URL:https://mustique.life/event/backgammon-night-2/2026-07-09/
LOCATION:Veranda
CATEGORIES:Entertainment
ATTACH;FMTTYPE=image/jpeg:https://mustique.life/wp-content/uploads/2022/03/Backgammon-Night.jpg
END:VEVENT
BEGIN:VEVENT
DTSTART;TZID=America/St_Vincent:20260716T180000
DTEND;TZID=America/St_Vincent:20260716T200000
DTSTAMP:20260419T094734
CREATED:20250819T140834Z
LAST-MODIFIED:20251218T203316Z
UID:10013005-1784224800-1784232000@mustique.life
SUMMARY:Backgammon Night
DESCRIPTION:Please join us for Backgammon Night in the Veranda on Thursday night! \nTo make sure the night runs smoothly\, please pre-register your attendance with Emilie\, by Wednesday 12pm by calling 8215. \nOn the night\, you are welcome from 6pm; the first dice will be rolled at 6.15pm sharp!
URL:https://mustique.life/event/backgammon-night-2/2026-07-16/
LOCATION:Veranda
CATEGORIES:Entertainment
ATTACH;FMTTYPE=image/jpeg:https://mustique.life/wp-content/uploads/2022/03/Backgammon-Night.jpg
END:VEVENT
BEGIN:VEVENT
DTSTART;TZID=America/St_Vincent:20260723T180000
DTEND;TZID=America/St_Vincent:20260723T200000
DTSTAMP:20260419T094734
CREATED:20250819T140834Z
LAST-MODIFIED:20251218T203316Z
UID:10013006-1784829600-1784836800@mustique.life
SUMMARY:Backgammon Night
DESCRIPTION:Please join us for Backgammon Night in the Veranda on Thursday night! \nTo make sure the night runs smoothly\, please pre-register your attendance with Emilie\, by Wednesday 12pm by calling 8215. \nOn the night\, you are welcome from 6pm; the first dice will be rolled at 6.15pm sharp!
URL:https://mustique.life/event/backgammon-night-2/2026-07-23/
LOCATION:Veranda
CATEGORIES:Entertainment
ATTACH;FMTTYPE=image/jpeg:https://mustique.life/wp-content/uploads/2022/03/Backgammon-Night.jpg
END:VEVENT
BEGIN:VEVENT
DTSTART;TZID=America/St_Vincent:20260730T180000
DTEND;TZID=America/St_Vincent:20260730T200000
DTSTAMP:20260419T094734
CREATED:20250819T140834Z
LAST-MODIFIED:20251218T203316Z
UID:10013007-1785434400-1785441600@mustique.life
SUMMARY:Backgammon Night
DESCRIPTION:Please join us for Backgammon Night in the Veranda on Thursday night! \nTo make sure the night runs smoothly\, please pre-register your attendance with Emilie\, by Wednesday 12pm by calling 8215. \nOn the night\, you are welcome from 6pm; the first dice will be rolled at 6.15pm sharp!
URL:https://mustique.life/event/backgammon-night-2/2026-07-30/
LOCATION:Veranda
CATEGORIES:Entertainment
ATTACH;FMTTYPE=image/jpeg:https://mustique.life/wp-content/uploads/2022/03/Backgammon-Night.jpg
END:VEVENT
BEGIN:VEVENT
DTSTART;TZID=America/St_Vincent:20260806T180000
DTEND;TZID=America/St_Vincent:20260806T200000
DTSTAMP:20260419T094734
CREATED:20250819T140834Z
LAST-MODIFIED:20251218T203316Z
UID:10013008-1786039200-1786046400@mustique.life
SUMMARY:Backgammon Night
DESCRIPTION:Please join us for Backgammon Night in the Veranda on Thursday night! \nTo make sure the night runs smoothly\, please pre-register your attendance with Emilie\, by Wednesday 12pm by calling 8215. \nOn the night\, you are welcome from 6pm; the first dice will be rolled at 6.15pm sharp!
URL:https://mustique.life/event/backgammon-night-2/2026-08-06/
LOCATION:Veranda
CATEGORIES:Entertainment
ATTACH;FMTTYPE=image/jpeg:https://mustique.life/wp-content/uploads/2022/03/Backgammon-Night.jpg
END:VEVENT
BEGIN:VEVENT
DTSTART;TZID=America/St_Vincent:20260813T180000
DTEND;TZID=America/St_Vincent:20260813T200000
DTSTAMP:20260419T094734
CREATED:20250819T140834Z
LAST-MODIFIED:20251218T203316Z
UID:10013009-1786644000-1786651200@mustique.life
SUMMARY:Backgammon Night
DESCRIPTION:Please join us for Backgammon Night in the Veranda on Thursday night! \nTo make sure the night runs smoothly\, please pre-register your attendance with Emilie\, by Wednesday 12pm by calling 8215. \nOn the night\, you are welcome from 6pm; the first dice will be rolled at 6.15pm sharp!
URL:https://mustique.life/event/backgammon-night-2/2026-08-13/
LOCATION:Veranda
CATEGORIES:Entertainment
ATTACH;FMTTYPE=image/jpeg:https://mustique.life/wp-content/uploads/2022/03/Backgammon-Night.jpg
END:VEVENT
BEGIN:VEVENT
DTSTART;TZID=America/St_Vincent:20260820T180000
DTEND;TZID=America/St_Vincent:20260820T200000
DTSTAMP:20260419T094734
CREATED:20250819T140834Z
LAST-MODIFIED:20251218T203316Z
UID:10013010-1787248800-1787256000@mustique.life
SUMMARY:Backgammon Night
DESCRIPTION:Please join us for Backgammon Night in the Veranda on Thursday night! \nTo make sure the night runs smoothly\, please pre-register your attendance with Emilie\, by Wednesday 12pm by calling 8215. \nOn the night\, you are welcome from 6pm; the first dice will be rolled at 6.15pm sharp!
URL:https://mustique.life/event/backgammon-night-2/2026-08-20/
LOCATION:Veranda
CATEGORIES:Entertainment
ATTACH;FMTTYPE=image/jpeg:https://mustique.life/wp-content/uploads/2022/03/Backgammon-Night.jpg
END:VEVENT
BEGIN:VEVENT
DTSTART;TZID=America/St_Vincent:20260827T180000
DTEND;TZID=America/St_Vincent:20260827T200000
DTSTAMP:20260419T094734
CREATED:20250819T140834Z
LAST-MODIFIED:20251218T203316Z
UID:10013011-1787853600-1787860800@mustique.life
SUMMARY:Backgammon Night
DESCRIPTION:Please join us for Backgammon Night in the Veranda on Thursday night! \nTo make sure the night runs smoothly\, please pre-register your attendance with Emilie\, by Wednesday 12pm by calling 8215. \nOn the night\, you are welcome from 6pm; the first dice will be rolled at 6.15pm sharp!
URL:https://mustique.life/event/backgammon-night-2/2026-08-27/
LOCATION:Veranda
CATEGORIES:Entertainment
ATTACH;FMTTYPE=image/jpeg:https://mustique.life/wp-content/uploads/2022/03/Backgammon-Night.jpg
END:VEVENT
END:VCALENDAR