BEGIN:VCALENDAR
VERSION:2.0
PRODID:-//Mustique Events - Calendar - ECPv6.15.17.1//NONSGML v1.0//EN
CALSCALE:GREGORIAN
METHOD:PUBLISH
X-ORIGINAL-URL:https://mustique.life
X-WR-CALDESC:Events for Mustique Events - Calendar
REFRESH-INTERVAL;VALUE=DURATION:PT1H
X-Robots-Tag:noindex
X-PUBLISHED-TTL:PT1H
BEGIN:VTIMEZONE
TZID:America/St_Vincent
BEGIN:STANDARD
TZOFFSETFROM:-0400
TZOFFSETTO:-0400
TZNAME:AST
DTSTART:20250101T000000
END:STANDARD
END:VTIMEZONE
BEGIN:VEVENT
DTSTART;TZID=America/St_Vincent:20260418T170000
DTEND;TZID=America/St_Vincent:20260418T180000
DTSTAMP:20260419T112754
CREATED:20260202T150433Z
LAST-MODIFIED:20260305T183456Z
UID:10017594-1776531600-1776535200@mustique.life
SUMMARY:Tennisercise
DESCRIPTION:A mixture of tennis and exercise\, Half an hour of hitting and half hour  of playing drills. \nMonday – Saturday \n5-6pm \nFor bookings \ninfo@mustiquetennis.com \next. 8315 tennis shop // 8818 Richard Schaffer
URL:https://mustique.life/event/adult-and-teen-tennisercise-2/2026-04-18/
LOCATION:Tennis Club
CATEGORIES:Sport / Wellness
ATTACH;FMTTYPE=image/jpeg:https://mustique.life/wp-content/uploads/2022/12/Tennis-tournament.jpg
END:VEVENT
BEGIN:VEVENT
DTSTART;TZID=America/St_Vincent:20260418T060000
DTEND;TZID=America/St_Vincent:20260418T200000
DTSTAMP:20260419T112754
CREATED:20251003T132525Z
LAST-MODIFIED:20251003T132800Z
UID:10013777-1776492000-1776542400@mustique.life
SUMMARY:Private Tennis Lessons
DESCRIPTION:Private Lessons can be booked from 6am to 8pm daily \nFor bookings \ninfo@mustiquetennis.com \next. 8315 /8818 \n  \n 
URL:https://mustique.life/event/private-tennis-lessons/2026-04-18/
LOCATION:Tennis Club
CATEGORIES:Sport / Wellness
ATTACH;FMTTYPE=image/jpeg:https://mustique.life/wp-content/uploads/2022/12/Tennis-Lessons.jpg
END:VEVENT
BEGIN:VEVENT
DTSTART;TZID=America/St_Vincent:20260417T170000
DTEND;TZID=America/St_Vincent:20260417T180000
DTSTAMP:20260419T112754
CREATED:20260202T150433Z
LAST-MODIFIED:20260305T183456Z
UID:10017593-1776445200-1776448800@mustique.life
SUMMARY:Tennisercise
DESCRIPTION:A mixture of tennis and exercise\, Half an hour of hitting and half hour  of playing drills. \nMonday – Saturday \n5-6pm \nFor bookings \ninfo@mustiquetennis.com \next. 8315 tennis shop // 8818 Richard Schaffer
URL:https://mustique.life/event/adult-and-teen-tennisercise-2/2026-04-17/
LOCATION:Tennis Club
CATEGORIES:Sport / Wellness
ATTACH;FMTTYPE=image/jpeg:https://mustique.life/wp-content/uploads/2022/12/Tennis-tournament.jpg
END:VEVENT
BEGIN:VEVENT
DTSTART;TZID=America/St_Vincent:20260417T060000
DTEND;TZID=America/St_Vincent:20260417T200000
DTSTAMP:20260419T112754
CREATED:20251003T132525Z
LAST-MODIFIED:20251003T132800Z
UID:10013776-1776405600-1776456000@mustique.life
SUMMARY:Private Tennis Lessons
DESCRIPTION:Private Lessons can be booked from 6am to 8pm daily \nFor bookings \ninfo@mustiquetennis.com \next. 8315 /8818 \n  \n 
URL:https://mustique.life/event/private-tennis-lessons/2026-04-17/
LOCATION:Tennis Club
CATEGORIES:Sport / Wellness
ATTACH;FMTTYPE=image/jpeg:https://mustique.life/wp-content/uploads/2022/12/Tennis-Lessons.jpg
END:VEVENT
BEGIN:VEVENT
DTSTART;TZID=America/St_Vincent:20260416T170000
DTEND;TZID=America/St_Vincent:20260416T180000
DTSTAMP:20260419T112754
CREATED:20260202T150433Z
LAST-MODIFIED:20260305T183456Z
UID:10017592-1776358800-1776362400@mustique.life
SUMMARY:Tennisercise
DESCRIPTION:A mixture of tennis and exercise\, Half an hour of hitting and half hour  of playing drills. \nMonday – Saturday \n5-6pm \nFor bookings \ninfo@mustiquetennis.com \next. 8315 tennis shop // 8818 Richard Schaffer
URL:https://mustique.life/event/adult-and-teen-tennisercise-2/2026-04-16/
LOCATION:Tennis Club
CATEGORIES:Sport / Wellness
ATTACH;FMTTYPE=image/jpeg:https://mustique.life/wp-content/uploads/2022/12/Tennis-tournament.jpg
END:VEVENT
BEGIN:VEVENT
DTSTART;TZID=America/St_Vincent:20260416T060000
DTEND;TZID=America/St_Vincent:20260416T200000
DTSTAMP:20260419T112754
CREATED:20251003T132525Z
LAST-MODIFIED:20251003T132800Z
UID:10013775-1776319200-1776369600@mustique.life
SUMMARY:Private Tennis Lessons
DESCRIPTION:Private Lessons can be booked from 6am to 8pm daily \nFor bookings \ninfo@mustiquetennis.com \next. 8315 /8818 \n  \n 
URL:https://mustique.life/event/private-tennis-lessons/2026-04-16/
LOCATION:Tennis Club
CATEGORIES:Sport / Wellness
ATTACH;FMTTYPE=image/jpeg:https://mustique.life/wp-content/uploads/2022/12/Tennis-Lessons.jpg
END:VEVENT
BEGIN:VEVENT
DTSTART;TZID=America/St_Vincent:20260415T170000
DTEND;TZID=America/St_Vincent:20260415T180000
DTSTAMP:20260419T112754
CREATED:20260202T150433Z
LAST-MODIFIED:20260305T183456Z
UID:10017591-1776272400-1776276000@mustique.life
SUMMARY:Tennisercise
DESCRIPTION:A mixture of tennis and exercise\, Half an hour of hitting and half hour  of playing drills. \nMonday – Saturday \n5-6pm \nFor bookings \ninfo@mustiquetennis.com \next. 8315 tennis shop // 8818 Richard Schaffer
URL:https://mustique.life/event/adult-and-teen-tennisercise-2/2026-04-15/
LOCATION:Tennis Club
CATEGORIES:Sport / Wellness
ATTACH;FMTTYPE=image/jpeg:https://mustique.life/wp-content/uploads/2022/12/Tennis-tournament.jpg
END:VEVENT
BEGIN:VEVENT
DTSTART;TZID=America/St_Vincent:20260415T060000
DTEND;TZID=America/St_Vincent:20260415T200000
DTSTAMP:20260419T112754
CREATED:20251003T132525Z
LAST-MODIFIED:20251003T132800Z
UID:10013774-1776232800-1776283200@mustique.life
SUMMARY:Private Tennis Lessons
DESCRIPTION:Private Lessons can be booked from 6am to 8pm daily \nFor bookings \ninfo@mustiquetennis.com \next. 8315 /8818 \n  \n 
URL:https://mustique.life/event/private-tennis-lessons/2026-04-15/
LOCATION:Tennis Club
CATEGORIES:Sport / Wellness
ATTACH;FMTTYPE=image/jpeg:https://mustique.life/wp-content/uploads/2022/12/Tennis-Lessons.jpg
END:VEVENT
BEGIN:VEVENT
DTSTART;TZID=America/St_Vincent:20260414T170000
DTEND;TZID=America/St_Vincent:20260414T180000
DTSTAMP:20260419T112754
CREATED:20260202T150433Z
LAST-MODIFIED:20260305T183456Z
UID:10017590-1776186000-1776189600@mustique.life
SUMMARY:Tennisercise
DESCRIPTION:A mixture of tennis and exercise\, Half an hour of hitting and half hour  of playing drills. \nMonday – Saturday \n5-6pm \nFor bookings \ninfo@mustiquetennis.com \next. 8315 tennis shop // 8818 Richard Schaffer
URL:https://mustique.life/event/adult-and-teen-tennisercise-2/2026-04-14/
LOCATION:Tennis Club
CATEGORIES:Sport / Wellness
ATTACH;FMTTYPE=image/jpeg:https://mustique.life/wp-content/uploads/2022/12/Tennis-tournament.jpg
END:VEVENT
BEGIN:VEVENT
DTSTART;TZID=America/St_Vincent:20260414T060000
DTEND;TZID=America/St_Vincent:20260414T200000
DTSTAMP:20260419T112754
CREATED:20251003T132525Z
LAST-MODIFIED:20251003T132800Z
UID:10013773-1776146400-1776196800@mustique.life
SUMMARY:Private Tennis Lessons
DESCRIPTION:Private Lessons can be booked from 6am to 8pm daily \nFor bookings \ninfo@mustiquetennis.com \next. 8315 /8818 \n  \n 
URL:https://mustique.life/event/private-tennis-lessons/2026-04-14/
LOCATION:Tennis Club
CATEGORIES:Sport / Wellness
ATTACH;FMTTYPE=image/jpeg:https://mustique.life/wp-content/uploads/2022/12/Tennis-Lessons.jpg
END:VEVENT
BEGIN:VEVENT
DTSTART;TZID=America/St_Vincent:20260413T170000
DTEND;TZID=America/St_Vincent:20260413T180000
DTSTAMP:20260419T112754
CREATED:20260202T150433Z
LAST-MODIFIED:20260305T183456Z
UID:10017589-1776099600-1776103200@mustique.life
SUMMARY:Tennisercise
DESCRIPTION:A mixture of tennis and exercise\, Half an hour of hitting and half hour  of playing drills. \nMonday – Saturday \n5-6pm \nFor bookings \ninfo@mustiquetennis.com \next. 8315 tennis shop // 8818 Richard Schaffer
URL:https://mustique.life/event/adult-and-teen-tennisercise-2/2026-04-13/
LOCATION:Tennis Club
CATEGORIES:Sport / Wellness
ATTACH;FMTTYPE=image/jpeg:https://mustique.life/wp-content/uploads/2022/12/Tennis-tournament.jpg
END:VEVENT
BEGIN:VEVENT
DTSTART;TZID=America/St_Vincent:20260413T060000
DTEND;TZID=America/St_Vincent:20260413T200000
DTSTAMP:20260419T112754
CREATED:20251003T132525Z
LAST-MODIFIED:20251003T132800Z
UID:10013772-1776060000-1776110400@mustique.life
SUMMARY:Private Tennis Lessons
DESCRIPTION:Private Lessons can be booked from 6am to 8pm daily \nFor bookings \ninfo@mustiquetennis.com \next. 8315 /8818 \n  \n 
URL:https://mustique.life/event/private-tennis-lessons/2026-04-13/
LOCATION:Tennis Club
CATEGORIES:Sport / Wellness
ATTACH;FMTTYPE=image/jpeg:https://mustique.life/wp-content/uploads/2022/12/Tennis-Lessons.jpg
END:VEVENT
BEGIN:VEVENT
DTSTART;TZID=America/St_Vincent:20260412T060000
DTEND;TZID=America/St_Vincent:20260412T200000
DTSTAMP:20260419T112754
CREATED:20251003T132525Z
LAST-MODIFIED:20251003T132800Z
UID:10013918-1775973600-1776024000@mustique.life
SUMMARY:Private Tennis Lessons
DESCRIPTION:Private Lessons can be booked from 6am to 8pm daily \nFor bookings \ninfo@mustiquetennis.com \next. 8315 /8818 \n  \n 
URL:https://mustique.life/event/private-tennis-lessons/2026-04-12/
LOCATION:Tennis Club
CATEGORIES:Sport / Wellness
ATTACH;FMTTYPE=image/jpeg:https://mustique.life/wp-content/uploads/2022/12/Tennis-Lessons.jpg
END:VEVENT
BEGIN:VEVENT
DTSTART;TZID=America/St_Vincent:20260411T170000
DTEND;TZID=America/St_Vincent:20260411T180000
DTSTAMP:20260419T112754
CREATED:20260305T183631Z
LAST-MODIFIED:20260305T183631Z
UID:10017646-1775926800-1775930400@mustique.life
SUMMARY:Teen Tennisercise
DESCRIPTION:A mixture of tennis and exercise\, Half an hour of hitting and half hour  of playing drills. \nMonday – Saturday \n5-6pm \nFor bookings \ninfo@mustiquetennis.com \next. 8315 tennis shop // 8818 Richard Schaffer
URL:https://mustique.life/event/teen-tennisercise/2026-04-11/
LOCATION:Tennis Club
CATEGORIES:Sport / Wellness
ATTACH;FMTTYPE=image/jpeg:https://mustique.life/wp-content/uploads/2022/12/Tennis-tournament.jpg
END:VEVENT
BEGIN:VEVENT
DTSTART;TZID=America/St_Vincent:20260411T170000
DTEND;TZID=America/St_Vincent:20260411T180000
DTSTAMP:20260419T112754
CREATED:20260202T150433Z
LAST-MODIFIED:20260305T183456Z
UID:10017588-1775926800-1775930400@mustique.life
SUMMARY:Tennisercise
DESCRIPTION:A mixture of tennis and exercise\, Half an hour of hitting and half hour  of playing drills. \nMonday – Saturday \n5-6pm \nFor bookings \ninfo@mustiquetennis.com \next. 8315 tennis shop // 8818 Richard Schaffer
URL:https://mustique.life/event/adult-and-teen-tennisercise-2/2026-04-11/
LOCATION:Tennis Club
CATEGORIES:Sport / Wellness
ATTACH;FMTTYPE=image/jpeg:https://mustique.life/wp-content/uploads/2022/12/Tennis-tournament.jpg
END:VEVENT
BEGIN:VEVENT
DTSTART;TZID=America/St_Vincent:20260411T090000
DTEND;TZID=America/St_Vincent:20260411T100000
DTSTAMP:20260419T112754
CREATED:20260204T033103Z
LAST-MODIFIED:20260305T183234Z
UID:10017564-1775898000-1775901600@mustique.life
SUMMARY:Jr Tennis Tournament
DESCRIPTION:Join the coaches at the tennis Center for Jr Tennis Tournament to culminate the week of Jr camp. Winner takes it. \nSaturdays \n9:00am – 10:00am \nAge 4 – 13yrs \nFor bookings \ninfo@mustiquetennis.com \next. 8315 / 8818
URL:https://mustique.life/event/jr-tennis-tournament/2026-04-11/
LOCATION:Tennis Club
CATEGORIES:Kids Activities
ATTACH;FMTTYPE=image/jpeg:https://mustique.life/wp-content/uploads/2022/03/Junior-Tennis-Camps.jpg
END:VEVENT
BEGIN:VEVENT
DTSTART;TZID=America/St_Vincent:20260411T060000
DTEND;TZID=America/St_Vincent:20260411T200000
DTSTAMP:20260419T112754
CREATED:20251003T132525Z
LAST-MODIFIED:20251003T132800Z
UID:10013771-1775887200-1775937600@mustique.life
SUMMARY:Private Tennis Lessons
DESCRIPTION:Private Lessons can be booked from 6am to 8pm daily \nFor bookings \ninfo@mustiquetennis.com \next. 8315 /8818 \n  \n 
URL:https://mustique.life/event/private-tennis-lessons/2026-04-11/
LOCATION:Tennis Club
CATEGORIES:Sport / Wellness
ATTACH;FMTTYPE=image/jpeg:https://mustique.life/wp-content/uploads/2022/12/Tennis-Lessons.jpg
END:VEVENT
BEGIN:VEVENT
DTSTART;TZID=America/St_Vincent:20260410T170000
DTEND;TZID=America/St_Vincent:20260410T180000
DTSTAMP:20260419T112754
CREATED:20260305T183631Z
LAST-MODIFIED:20260305T183631Z
UID:10017645-1775840400-1775844000@mustique.life
SUMMARY:Teen Tennisercise
DESCRIPTION:A mixture of tennis and exercise\, Half an hour of hitting and half hour  of playing drills. \nMonday – Saturday \n5-6pm \nFor bookings \ninfo@mustiquetennis.com \next. 8315 tennis shop // 8818 Richard Schaffer
URL:https://mustique.life/event/teen-tennisercise/2026-04-10/
LOCATION:Tennis Club
CATEGORIES:Sport / Wellness
ATTACH;FMTTYPE=image/jpeg:https://mustique.life/wp-content/uploads/2022/12/Tennis-tournament.jpg
END:VEVENT
BEGIN:VEVENT
DTSTART;TZID=America/St_Vincent:20260410T170000
DTEND;TZID=America/St_Vincent:20260410T180000
DTSTAMP:20260419T112754
CREATED:20260202T150433Z
LAST-MODIFIED:20260305T183456Z
UID:10017587-1775840400-1775844000@mustique.life
SUMMARY:Tennisercise
DESCRIPTION:A mixture of tennis and exercise\, Half an hour of hitting and half hour  of playing drills. \nMonday – Saturday \n5-6pm \nFor bookings \ninfo@mustiquetennis.com \next. 8315 tennis shop // 8818 Richard Schaffer
URL:https://mustique.life/event/adult-and-teen-tennisercise-2/2026-04-10/
LOCATION:Tennis Club
CATEGORIES:Sport / Wellness
ATTACH;FMTTYPE=image/jpeg:https://mustique.life/wp-content/uploads/2022/12/Tennis-tournament.jpg
END:VEVENT
BEGIN:VEVENT
DTSTART;TZID=America/St_Vincent:20260410T090000
DTEND;TZID=America/St_Vincent:20260410T100000
DTSTAMP:20260419T112754
CREATED:20260209T033102Z
LAST-MODIFIED:20260305T182939Z
UID:10017556-1775811600-1775815200@mustique.life
SUMMARY:Jr Tennis Camp
DESCRIPTION:Join the coaches at the tennis Center for Jr Tennis Camp. Monday to Friday \n9:00am – 10:00am \nAge 4 – 13yrs \nFor bookings \ninfo@mustiquetennis.com \next. 8315 tennis shop // 8818 Richard Schaffer
URL:https://mustique.life/event/jr-tennis-camp/2026-04-10/
LOCATION:Tennis Club
CATEGORIES:Kids Activities
ATTACH;FMTTYPE=image/jpeg:https://mustique.life/wp-content/uploads/2022/03/Junior-Tennis-Camps.jpg
END:VEVENT
BEGIN:VEVENT
DTSTART;TZID=America/St_Vincent:20260410T060000
DTEND;TZID=America/St_Vincent:20260410T200000
DTSTAMP:20260419T112754
CREATED:20251003T132525Z
LAST-MODIFIED:20251003T132800Z
UID:10013770-1775800800-1775851200@mustique.life
SUMMARY:Private Tennis Lessons
DESCRIPTION:Private Lessons can be booked from 6am to 8pm daily \nFor bookings \ninfo@mustiquetennis.com \next. 8315 /8818 \n  \n 
URL:https://mustique.life/event/private-tennis-lessons/2026-04-10/
LOCATION:Tennis Club
CATEGORIES:Sport / Wellness
ATTACH;FMTTYPE=image/jpeg:https://mustique.life/wp-content/uploads/2022/12/Tennis-Lessons.jpg
END:VEVENT
BEGIN:VEVENT
DTSTART;TZID=America/St_Vincent:20260409T170000
DTEND;TZID=America/St_Vincent:20260409T180000
DTSTAMP:20260419T112754
CREATED:20260305T183631Z
LAST-MODIFIED:20260305T183631Z
UID:10017644-1775754000-1775757600@mustique.life
SUMMARY:Teen Tennisercise
DESCRIPTION:A mixture of tennis and exercise\, Half an hour of hitting and half hour  of playing drills. \nMonday – Saturday \n5-6pm \nFor bookings \ninfo@mustiquetennis.com \next. 8315 tennis shop // 8818 Richard Schaffer
URL:https://mustique.life/event/teen-tennisercise/2026-04-09/
LOCATION:Tennis Club
CATEGORIES:Sport / Wellness
ATTACH;FMTTYPE=image/jpeg:https://mustique.life/wp-content/uploads/2022/12/Tennis-tournament.jpg
END:VEVENT
BEGIN:VEVENT
DTSTART;TZID=America/St_Vincent:20260409T170000
DTEND;TZID=America/St_Vincent:20260409T180000
DTSTAMP:20260419T112754
CREATED:20260202T150433Z
LAST-MODIFIED:20260305T183456Z
UID:10017586-1775754000-1775757600@mustique.life
SUMMARY:Tennisercise
DESCRIPTION:A mixture of tennis and exercise\, Half an hour of hitting and half hour  of playing drills. \nMonday – Saturday \n5-6pm \nFor bookings \ninfo@mustiquetennis.com \next. 8315 tennis shop // 8818 Richard Schaffer
URL:https://mustique.life/event/adult-and-teen-tennisercise-2/2026-04-09/
LOCATION:Tennis Club
CATEGORIES:Sport / Wellness
ATTACH;FMTTYPE=image/jpeg:https://mustique.life/wp-content/uploads/2022/12/Tennis-tournament.jpg
END:VEVENT
BEGIN:VEVENT
DTSTART;TZID=America/St_Vincent:20260409T090000
DTEND;TZID=America/St_Vincent:20260409T100000
DTSTAMP:20260419T112754
CREATED:20260209T033102Z
LAST-MODIFIED:20260305T182939Z
UID:10017555-1775725200-1775728800@mustique.life
SUMMARY:Jr Tennis Camp
DESCRIPTION:Join the coaches at the tennis Center for Jr Tennis Camp. Monday to Friday \n9:00am – 10:00am \nAge 4 – 13yrs \nFor bookings \ninfo@mustiquetennis.com \next. 8315 tennis shop // 8818 Richard Schaffer
URL:https://mustique.life/event/jr-tennis-camp/2026-04-09/
LOCATION:Tennis Club
CATEGORIES:Kids Activities
ATTACH;FMTTYPE=image/jpeg:https://mustique.life/wp-content/uploads/2022/03/Junior-Tennis-Camps.jpg
END:VEVENT
BEGIN:VEVENT
DTSTART;TZID=America/St_Vincent:20260409T060000
DTEND;TZID=America/St_Vincent:20260409T200000
DTSTAMP:20260419T112754
CREATED:20251003T132525Z
LAST-MODIFIED:20251003T132800Z
UID:10013769-1775714400-1775764800@mustique.life
SUMMARY:Private Tennis Lessons
DESCRIPTION:Private Lessons can be booked from 6am to 8pm daily \nFor bookings \ninfo@mustiquetennis.com \next. 8315 /8818 \n  \n 
URL:https://mustique.life/event/private-tennis-lessons/2026-04-09/
LOCATION:Tennis Club
CATEGORIES:Sport / Wellness
ATTACH;FMTTYPE=image/jpeg:https://mustique.life/wp-content/uploads/2022/12/Tennis-Lessons.jpg
END:VEVENT
BEGIN:VEVENT
DTSTART;TZID=America/St_Vincent:20260408T170000
DTEND;TZID=America/St_Vincent:20260408T180000
DTSTAMP:20260419T112754
CREATED:20260305T183631Z
LAST-MODIFIED:20260305T183631Z
UID:10017643-1775667600-1775671200@mustique.life
SUMMARY:Teen Tennisercise
DESCRIPTION:A mixture of tennis and exercise\, Half an hour of hitting and half hour  of playing drills. \nMonday – Saturday \n5-6pm \nFor bookings \ninfo@mustiquetennis.com \next. 8315 tennis shop // 8818 Richard Schaffer
URL:https://mustique.life/event/teen-tennisercise/2026-04-08/
LOCATION:Tennis Club
CATEGORIES:Sport / Wellness
ATTACH;FMTTYPE=image/jpeg:https://mustique.life/wp-content/uploads/2022/12/Tennis-tournament.jpg
END:VEVENT
BEGIN:VEVENT
DTSTART;TZID=America/St_Vincent:20260408T170000
DTEND;TZID=America/St_Vincent:20260408T180000
DTSTAMP:20260419T112754
CREATED:20260202T150433Z
LAST-MODIFIED:20260305T183456Z
UID:10017585-1775667600-1775671200@mustique.life
SUMMARY:Tennisercise
DESCRIPTION:A mixture of tennis and exercise\, Half an hour of hitting and half hour  of playing drills. \nMonday – Saturday \n5-6pm \nFor bookings \ninfo@mustiquetennis.com \next. 8315 tennis shop // 8818 Richard Schaffer
URL:https://mustique.life/event/adult-and-teen-tennisercise-2/2026-04-08/
LOCATION:Tennis Club
CATEGORIES:Sport / Wellness
ATTACH;FMTTYPE=image/jpeg:https://mustique.life/wp-content/uploads/2022/12/Tennis-tournament.jpg
END:VEVENT
BEGIN:VEVENT
DTSTART;TZID=America/St_Vincent:20260408T090000
DTEND;TZID=America/St_Vincent:20260408T100000
DTSTAMP:20260419T112754
CREATED:20260209T033102Z
LAST-MODIFIED:20260305T182939Z
UID:10017554-1775638800-1775642400@mustique.life
SUMMARY:Jr Tennis Camp
DESCRIPTION:Join the coaches at the tennis Center for Jr Tennis Camp. Monday to Friday \n9:00am – 10:00am \nAge 4 – 13yrs \nFor bookings \ninfo@mustiquetennis.com \next. 8315 tennis shop // 8818 Richard Schaffer
URL:https://mustique.life/event/jr-tennis-camp/2026-04-08/
LOCATION:Tennis Club
CATEGORIES:Kids Activities
ATTACH;FMTTYPE=image/jpeg:https://mustique.life/wp-content/uploads/2022/03/Junior-Tennis-Camps.jpg
END:VEVENT
BEGIN:VEVENT
DTSTART;TZID=America/St_Vincent:20260408T060000
DTEND;TZID=America/St_Vincent:20260408T200000
DTSTAMP:20260419T112754
CREATED:20251003T132525Z
LAST-MODIFIED:20251003T132800Z
UID:10013768-1775628000-1775678400@mustique.life
SUMMARY:Private Tennis Lessons
DESCRIPTION:Private Lessons can be booked from 6am to 8pm daily \nFor bookings \ninfo@mustiquetennis.com \next. 8315 /8818 \n  \n 
URL:https://mustique.life/event/private-tennis-lessons/2026-04-08/
LOCATION:Tennis Club
CATEGORIES:Sport / Wellness
ATTACH;FMTTYPE=image/jpeg:https://mustique.life/wp-content/uploads/2022/12/Tennis-Lessons.jpg
END:VEVENT
BEGIN:VEVENT
DTSTART;TZID=America/St_Vincent:20260407T170000
DTEND;TZID=America/St_Vincent:20260407T180000
DTSTAMP:20260419T112754
CREATED:20260305T183631Z
LAST-MODIFIED:20260305T183631Z
UID:10017642-1775581200-1775584800@mustique.life
SUMMARY:Teen Tennisercise
DESCRIPTION:A mixture of tennis and exercise\, Half an hour of hitting and half hour  of playing drills. \nMonday – Saturday \n5-6pm \nFor bookings \ninfo@mustiquetennis.com \next. 8315 tennis shop // 8818 Richard Schaffer
URL:https://mustique.life/event/teen-tennisercise/2026-04-07/
LOCATION:Tennis Club
CATEGORIES:Sport / Wellness
ATTACH;FMTTYPE=image/jpeg:https://mustique.life/wp-content/uploads/2022/12/Tennis-tournament.jpg
END:VEVENT
END:VCALENDAR