BEGIN:VCALENDAR
VERSION:2.0
PRODID:-//Mustique Events - Calendar - ECPv6.15.17.1//NONSGML v1.0//EN
CALSCALE:GREGORIAN
METHOD:PUBLISH
X-ORIGINAL-URL:https://mustique.life
X-WR-CALDESC:Events for Mustique Events - Calendar
REFRESH-INTERVAL;VALUE=DURATION:PT1H
X-Robots-Tag:noindex
X-PUBLISHED-TTL:PT1H
BEGIN:VTIMEZONE
TZID:America/St_Vincent
BEGIN:STANDARD
TZOFFSETFROM:-0400
TZOFFSETTO:-0400
TZNAME:AST
DTSTART:20250101T000000
END:STANDARD
END:VTIMEZONE
BEGIN:VEVENT
DTSTART;TZID=America/St_Vincent:20260418T170000
DTEND;TZID=America/St_Vincent:20260418T170000
DTSTAMP:20260419T110031
CREATED:20260202T202727Z
LAST-MODIFIED:20260207T133108Z
UID:10014987-1776531600-1776531600@mustique.life
SUMMARY:Kids Soccer Camp
DESCRIPTION:Join Osborne of the playing field for some soccer fun\, and exercise. \nMonday to Sunday \n5:00pm – 6:00pm
URL:https://mustique.life/event/kids-and-teens-soccer-camp-2/2026-04-18/
LOCATION:Playing Field
CATEGORIES:Kids Activities
ATTACH;FMTTYPE=image/jpeg:https://mustique.life/wp-content/uploads/2022/03/Glow-Games.jpg
END:VEVENT
BEGIN:VEVENT
DTSTART;TZID=America/St_Vincent:20260417T170000
DTEND;TZID=America/St_Vincent:20260417T170000
DTSTAMP:20260419T110031
CREATED:20260202T202727Z
LAST-MODIFIED:20260207T133108Z
UID:10014986-1776445200-1776445200@mustique.life
SUMMARY:Kids Soccer Camp
DESCRIPTION:Join Osborne of the playing field for some soccer fun\, and exercise. \nMonday to Sunday \n5:00pm – 6:00pm
URL:https://mustique.life/event/kids-and-teens-soccer-camp-2/2026-04-17/
LOCATION:Playing Field
CATEGORIES:Kids Activities
ATTACH;FMTTYPE=image/jpeg:https://mustique.life/wp-content/uploads/2022/03/Glow-Games.jpg
END:VEVENT
BEGIN:VEVENT
DTSTART;TZID=America/St_Vincent:20260416T170000
DTEND;TZID=America/St_Vincent:20260416T170000
DTSTAMP:20260419T110031
CREATED:20260202T202727Z
LAST-MODIFIED:20260207T133108Z
UID:10014985-1776358800-1776358800@mustique.life
SUMMARY:Kids Soccer Camp
DESCRIPTION:Join Osborne of the playing field for some soccer fun\, and exercise. \nMonday to Sunday \n5:00pm – 6:00pm
URL:https://mustique.life/event/kids-and-teens-soccer-camp-2/2026-04-16/
LOCATION:Playing Field
CATEGORIES:Kids Activities
ATTACH;FMTTYPE=image/jpeg:https://mustique.life/wp-content/uploads/2022/03/Glow-Games.jpg
END:VEVENT
BEGIN:VEVENT
DTSTART;TZID=America/St_Vincent:20260415T170000
DTEND;TZID=America/St_Vincent:20260415T170000
DTSTAMP:20260419T110031
CREATED:20260202T202727Z
LAST-MODIFIED:20260207T133108Z
UID:10014984-1776272400-1776272400@mustique.life
SUMMARY:Kids Soccer Camp
DESCRIPTION:Join Osborne of the playing field for some soccer fun\, and exercise. \nMonday to Sunday \n5:00pm – 6:00pm
URL:https://mustique.life/event/kids-and-teens-soccer-camp-2/2026-04-15/
LOCATION:Playing Field
CATEGORIES:Kids Activities
ATTACH;FMTTYPE=image/jpeg:https://mustique.life/wp-content/uploads/2022/03/Glow-Games.jpg
END:VEVENT
BEGIN:VEVENT
DTSTART;TZID=America/St_Vincent:20260414T170000
DTEND;TZID=America/St_Vincent:20260414T170000
DTSTAMP:20260419T110031
CREATED:20260202T202727Z
LAST-MODIFIED:20260207T133108Z
UID:10014983-1776186000-1776186000@mustique.life
SUMMARY:Kids Soccer Camp
DESCRIPTION:Join Osborne of the playing field for some soccer fun\, and exercise. \nMonday to Sunday \n5:00pm – 6:00pm
URL:https://mustique.life/event/kids-and-teens-soccer-camp-2/2026-04-14/
LOCATION:Playing Field
CATEGORIES:Kids Activities
ATTACH;FMTTYPE=image/jpeg:https://mustique.life/wp-content/uploads/2022/03/Glow-Games.jpg
END:VEVENT
BEGIN:VEVENT
DTSTART;TZID=America/St_Vincent:20260413T170000
DTEND;TZID=America/St_Vincent:20260413T170000
DTSTAMP:20260419T110031
CREATED:20260202T202727Z
LAST-MODIFIED:20260207T133108Z
UID:10014982-1776099600-1776099600@mustique.life
SUMMARY:Kids Soccer Camp
DESCRIPTION:Join Osborne of the playing field for some soccer fun\, and exercise. \nMonday to Sunday \n5:00pm – 6:00pm
URL:https://mustique.life/event/kids-and-teens-soccer-camp-2/2026-04-13/
LOCATION:Playing Field
CATEGORIES:Kids Activities
ATTACH;FMTTYPE=image/jpeg:https://mustique.life/wp-content/uploads/2022/03/Glow-Games.jpg
END:VEVENT
BEGIN:VEVENT
DTSTART;TZID=America/St_Vincent:20260411T170000
DTEND;TZID=America/St_Vincent:20260411T170000
DTSTAMP:20260419T110031
CREATED:20260202T202727Z
LAST-MODIFIED:20260207T133108Z
UID:10014980-1775926800-1775926800@mustique.life
SUMMARY:Kids Soccer Camp
DESCRIPTION:Join Osborne of the playing field for some soccer fun\, and exercise. \nMonday to Sunday \n5:00pm – 6:00pm
URL:https://mustique.life/event/kids-and-teens-soccer-camp-2/2026-04-11/
LOCATION:Playing Field
CATEGORIES:Kids Activities
ATTACH;FMTTYPE=image/jpeg:https://mustique.life/wp-content/uploads/2022/03/Glow-Games.jpg
END:VEVENT
BEGIN:VEVENT
DTSTART;TZID=America/St_Vincent:20260410T170000
DTEND;TZID=America/St_Vincent:20260410T180000
DTSTAMP:20260419T110031
CREATED:20260318T033104Z
LAST-MODIFIED:20260320T184212Z
UID:10017732-1775840400-1775844000@mustique.life
SUMMARY:Kids Kickboxing
DESCRIPTION:Stronger body. Sharper mind. Unleash your power with Kickboxing with the Gym team for kids 8+ \nWednesday\, Thursday and Friday \n5:00pm \nPlaying field \nALL BOOKINGS FOR GYM TIME SLOTS\, PRIVATE SESSIONS AND CLASSES MUST BE MADE IN ADVANCE BY CALLING EXT: 8920 OR BY EMAIL: YOGAFITNESS@COTTONHOUSE.NET \n 
URL:https://mustique.life/event/kickboxing-2-2/2026-04-10/
LOCATION:Playing Field
CATEGORIES:Kids Activities
ATTACH;FMTTYPE=image/jpeg:https://mustique.life/wp-content/uploads/2026/03/istockphoto-893341894-612x612-1.jpg
END:VEVENT
BEGIN:VEVENT
DTSTART;TZID=America/St_Vincent:20260410T170000
DTEND;TZID=America/St_Vincent:20260410T170000
DTSTAMP:20260419T110031
CREATED:20260202T202727Z
LAST-MODIFIED:20260207T133108Z
UID:10014979-1775840400-1775840400@mustique.life
SUMMARY:Kids Soccer Camp
DESCRIPTION:Join Osborne of the playing field for some soccer fun\, and exercise. \nMonday to Sunday \n5:00pm – 6:00pm
URL:https://mustique.life/event/kids-and-teens-soccer-camp-2/2026-04-10/
LOCATION:Playing Field
CATEGORIES:Kids Activities
ATTACH;FMTTYPE=image/jpeg:https://mustique.life/wp-content/uploads/2022/03/Glow-Games.jpg
END:VEVENT
BEGIN:VEVENT
DTSTART;TZID=America/St_Vincent:20260409T170000
DTEND;TZID=America/St_Vincent:20260409T180000
DTSTAMP:20260419T110031
CREATED:20260318T033104Z
LAST-MODIFIED:20260320T184212Z
UID:10017731-1775754000-1775757600@mustique.life
SUMMARY:Kids Kickboxing
DESCRIPTION:Stronger body. Sharper mind. Unleash your power with Kickboxing with the Gym team for kids 8+ \nWednesday\, Thursday and Friday \n5:00pm \nPlaying field \nALL BOOKINGS FOR GYM TIME SLOTS\, PRIVATE SESSIONS AND CLASSES MUST BE MADE IN ADVANCE BY CALLING EXT: 8920 OR BY EMAIL: YOGAFITNESS@COTTONHOUSE.NET \n 
URL:https://mustique.life/event/kickboxing-2-2/2026-04-09/
LOCATION:Playing Field
CATEGORIES:Kids Activities
ATTACH;FMTTYPE=image/jpeg:https://mustique.life/wp-content/uploads/2026/03/istockphoto-893341894-612x612-1.jpg
END:VEVENT
BEGIN:VEVENT
DTSTART;TZID=America/St_Vincent:20260409T170000
DTEND;TZID=America/St_Vincent:20260409T170000
DTSTAMP:20260419T110031
CREATED:20260202T202727Z
LAST-MODIFIED:20260207T133108Z
UID:10014978-1775754000-1775754000@mustique.life
SUMMARY:Kids Soccer Camp
DESCRIPTION:Join Osborne of the playing field for some soccer fun\, and exercise. \nMonday to Sunday \n5:00pm – 6:00pm
URL:https://mustique.life/event/kids-and-teens-soccer-camp-2/2026-04-09/
LOCATION:Playing Field
CATEGORIES:Kids Activities
ATTACH;FMTTYPE=image/jpeg:https://mustique.life/wp-content/uploads/2022/03/Glow-Games.jpg
END:VEVENT
BEGIN:VEVENT
DTSTART;TZID=America/St_Vincent:20260408T170000
DTEND;TZID=America/St_Vincent:20260408T180000
DTSTAMP:20260419T110031
CREATED:20260318T033104Z
LAST-MODIFIED:20260320T184212Z
UID:10017730-1775667600-1775671200@mustique.life
SUMMARY:Kids Kickboxing
DESCRIPTION:Stronger body. Sharper mind. Unleash your power with Kickboxing with the Gym team for kids 8+ \nWednesday\, Thursday and Friday \n5:00pm \nPlaying field \nALL BOOKINGS FOR GYM TIME SLOTS\, PRIVATE SESSIONS AND CLASSES MUST BE MADE IN ADVANCE BY CALLING EXT: 8920 OR BY EMAIL: YOGAFITNESS@COTTONHOUSE.NET \n 
URL:https://mustique.life/event/kickboxing-2-2/2026-04-08/
LOCATION:Playing Field
CATEGORIES:Kids Activities
ATTACH;FMTTYPE=image/jpeg:https://mustique.life/wp-content/uploads/2026/03/istockphoto-893341894-612x612-1.jpg
END:VEVENT
BEGIN:VEVENT
DTSTART;TZID=America/St_Vincent:20260408T170000
DTEND;TZID=America/St_Vincent:20260408T170000
DTSTAMP:20260419T110031
CREATED:20260202T202727Z
LAST-MODIFIED:20260207T133108Z
UID:10014977-1775667600-1775667600@mustique.life
SUMMARY:Kids Soccer Camp
DESCRIPTION:Join Osborne of the playing field for some soccer fun\, and exercise. \nMonday to Sunday \n5:00pm – 6:00pm
URL:https://mustique.life/event/kids-and-teens-soccer-camp-2/2026-04-08/
LOCATION:Playing Field
CATEGORIES:Kids Activities
ATTACH;FMTTYPE=image/jpeg:https://mustique.life/wp-content/uploads/2022/03/Glow-Games.jpg
END:VEVENT
BEGIN:VEVENT
DTSTART;TZID=America/St_Vincent:20260407T170000
DTEND;TZID=America/St_Vincent:20260407T170000
DTSTAMP:20260419T110031
CREATED:20260202T202727Z
LAST-MODIFIED:20260207T133108Z
UID:10014976-1775581200-1775581200@mustique.life
SUMMARY:Kids Soccer Camp
DESCRIPTION:Join Osborne of the playing field for some soccer fun\, and exercise. \nMonday to Sunday \n5:00pm – 6:00pm
URL:https://mustique.life/event/kids-and-teens-soccer-camp-2/2026-04-07/
LOCATION:Playing Field
CATEGORIES:Kids Activities
ATTACH;FMTTYPE=image/jpeg:https://mustique.life/wp-content/uploads/2022/03/Glow-Games.jpg
END:VEVENT
BEGIN:VEVENT
DTSTART;TZID=America/St_Vincent:20260406T170000
DTEND;TZID=America/St_Vincent:20260406T170000
DTSTAMP:20260419T110031
CREATED:20260202T202727Z
LAST-MODIFIED:20260207T133108Z
UID:10014975-1775494800-1775494800@mustique.life
SUMMARY:Kids Soccer Camp
DESCRIPTION:Join Osborne of the playing field for some soccer fun\, and exercise. \nMonday to Sunday \n5:00pm – 6:00pm
URL:https://mustique.life/event/kids-and-teens-soccer-camp-2/2026-04-06/
LOCATION:Playing Field
CATEGORIES:Kids Activities
ATTACH;FMTTYPE=image/jpeg:https://mustique.life/wp-content/uploads/2022/03/Glow-Games.jpg
END:VEVENT
BEGIN:VEVENT
DTSTART;TZID=America/St_Vincent:20260404T170000
DTEND;TZID=America/St_Vincent:20260404T170000
DTSTAMP:20260419T110031
CREATED:20260202T202727Z
LAST-MODIFIED:20260207T133108Z
UID:10014973-1775322000-1775322000@mustique.life
SUMMARY:Kids Soccer Camp
DESCRIPTION:Join Osborne of the playing field for some soccer fun\, and exercise. \nMonday to Sunday \n5:00pm – 6:00pm
URL:https://mustique.life/event/kids-and-teens-soccer-camp-2/2026-04-04/
LOCATION:Playing Field
CATEGORIES:Kids Activities
ATTACH;FMTTYPE=image/jpeg:https://mustique.life/wp-content/uploads/2022/03/Glow-Games.jpg
END:VEVENT
BEGIN:VEVENT
DTSTART;TZID=America/St_Vincent:20260403T170000
DTEND;TZID=America/St_Vincent:20260403T180000
DTSTAMP:20260419T110031
CREATED:20260318T033104Z
LAST-MODIFIED:20260320T184212Z
UID:10017729-1775235600-1775239200@mustique.life
SUMMARY:Kids Kickboxing
DESCRIPTION:Stronger body. Sharper mind. Unleash your power with Kickboxing with the Gym team for kids 8+ \nWednesday\, Thursday and Friday \n5:00pm \nPlaying field \nALL BOOKINGS FOR GYM TIME SLOTS\, PRIVATE SESSIONS AND CLASSES MUST BE MADE IN ADVANCE BY CALLING EXT: 8920 OR BY EMAIL: YOGAFITNESS@COTTONHOUSE.NET \n 
URL:https://mustique.life/event/kickboxing-2-2/2026-04-03/
LOCATION:Playing Field
CATEGORIES:Kids Activities
ATTACH;FMTTYPE=image/jpeg:https://mustique.life/wp-content/uploads/2026/03/istockphoto-893341894-612x612-1.jpg
END:VEVENT
BEGIN:VEVENT
DTSTART;TZID=America/St_Vincent:20260403T170000
DTEND;TZID=America/St_Vincent:20260403T170000
DTSTAMP:20260419T110031
CREATED:20260202T202727Z
LAST-MODIFIED:20260207T133108Z
UID:10014972-1775235600-1775235600@mustique.life
SUMMARY:Kids Soccer Camp
DESCRIPTION:Join Osborne of the playing field for some soccer fun\, and exercise. \nMonday to Sunday \n5:00pm – 6:00pm
URL:https://mustique.life/event/kids-and-teens-soccer-camp-2/2026-04-03/
LOCATION:Playing Field
CATEGORIES:Kids Activities
ATTACH;FMTTYPE=image/jpeg:https://mustique.life/wp-content/uploads/2022/03/Glow-Games.jpg
END:VEVENT
BEGIN:VEVENT
DTSTART;TZID=America/St_Vincent:20260402T170000
DTEND;TZID=America/St_Vincent:20260402T180000
DTSTAMP:20260419T110031
CREATED:20260318T033104Z
LAST-MODIFIED:20260320T184212Z
UID:10017728-1775149200-1775152800@mustique.life
SUMMARY:Kids Kickboxing
DESCRIPTION:Stronger body. Sharper mind. Unleash your power with Kickboxing with the Gym team for kids 8+ \nWednesday\, Thursday and Friday \n5:00pm \nPlaying field \nALL BOOKINGS FOR GYM TIME SLOTS\, PRIVATE SESSIONS AND CLASSES MUST BE MADE IN ADVANCE BY CALLING EXT: 8920 OR BY EMAIL: YOGAFITNESS@COTTONHOUSE.NET \n 
URL:https://mustique.life/event/kickboxing-2-2/2026-04-02/
LOCATION:Playing Field
CATEGORIES:Kids Activities
ATTACH;FMTTYPE=image/jpeg:https://mustique.life/wp-content/uploads/2026/03/istockphoto-893341894-612x612-1.jpg
END:VEVENT
BEGIN:VEVENT
DTSTART;TZID=America/St_Vincent:20260402T170000
DTEND;TZID=America/St_Vincent:20260402T170000
DTSTAMP:20260419T110031
CREATED:20260202T202727Z
LAST-MODIFIED:20260207T133108Z
UID:10014971-1775149200-1775149200@mustique.life
SUMMARY:Kids Soccer Camp
DESCRIPTION:Join Osborne of the playing field for some soccer fun\, and exercise. \nMonday to Sunday \n5:00pm – 6:00pm
URL:https://mustique.life/event/kids-and-teens-soccer-camp-2/2026-04-02/
LOCATION:Playing Field
CATEGORIES:Kids Activities
ATTACH;FMTTYPE=image/jpeg:https://mustique.life/wp-content/uploads/2022/03/Glow-Games.jpg
END:VEVENT
BEGIN:VEVENT
DTSTART;TZID=America/St_Vincent:20260401T170000
DTEND;TZID=America/St_Vincent:20260401T180000
DTSTAMP:20260419T110032
CREATED:20260318T033104Z
LAST-MODIFIED:20260320T184212Z
UID:10017727-1775062800-1775066400@mustique.life
SUMMARY:Kids Kickboxing
DESCRIPTION:Stronger body. Sharper mind. Unleash your power with Kickboxing with the Gym team for kids 8+ \nWednesday\, Thursday and Friday \n5:00pm \nPlaying field \nALL BOOKINGS FOR GYM TIME SLOTS\, PRIVATE SESSIONS AND CLASSES MUST BE MADE IN ADVANCE BY CALLING EXT: 8920 OR BY EMAIL: YOGAFITNESS@COTTONHOUSE.NET \n 
URL:https://mustique.life/event/kickboxing-2-2/2026-04-01/
LOCATION:Playing Field
CATEGORIES:Kids Activities
ATTACH;FMTTYPE=image/jpeg:https://mustique.life/wp-content/uploads/2026/03/istockphoto-893341894-612x612-1.jpg
END:VEVENT
BEGIN:VEVENT
DTSTART;TZID=America/St_Vincent:20260401T170000
DTEND;TZID=America/St_Vincent:20260401T170000
DTSTAMP:20260419T110032
CREATED:20260202T202727Z
LAST-MODIFIED:20260207T133108Z
UID:10014970-1775062800-1775062800@mustique.life
SUMMARY:Kids Soccer Camp
DESCRIPTION:Join Osborne of the playing field for some soccer fun\, and exercise. \nMonday to Sunday \n5:00pm – 6:00pm
URL:https://mustique.life/event/kids-and-teens-soccer-camp-2/2026-04-01/
LOCATION:Playing Field
CATEGORIES:Kids Activities
ATTACH;FMTTYPE=image/jpeg:https://mustique.life/wp-content/uploads/2022/03/Glow-Games.jpg
END:VEVENT
BEGIN:VEVENT
DTSTART;TZID=America/St_Vincent:20260331T170000
DTEND;TZID=America/St_Vincent:20260331T170000
DTSTAMP:20260419T110032
CREATED:20260202T202727Z
LAST-MODIFIED:20260207T133108Z
UID:10014969-1774976400-1774976400@mustique.life
SUMMARY:Kids Soccer Camp
DESCRIPTION:Join Osborne of the playing field for some soccer fun\, and exercise. \nMonday to Sunday \n5:00pm – 6:00pm
URL:https://mustique.life/event/kids-and-teens-soccer-camp-2/2026-03-31/
LOCATION:Playing Field
CATEGORIES:Kids Activities
ATTACH;FMTTYPE=image/jpeg:https://mustique.life/wp-content/uploads/2022/03/Glow-Games.jpg
END:VEVENT
BEGIN:VEVENT
DTSTART;TZID=America/St_Vincent:20260330T170000
DTEND;TZID=America/St_Vincent:20260330T170000
DTSTAMP:20260419T110032
CREATED:20260202T202727Z
LAST-MODIFIED:20260207T133108Z
UID:10014968-1774890000-1774890000@mustique.life
SUMMARY:Kids Soccer Camp
DESCRIPTION:Join Osborne of the playing field for some soccer fun\, and exercise. \nMonday to Sunday \n5:00pm – 6:00pm
URL:https://mustique.life/event/kids-and-teens-soccer-camp-2/2026-03-30/
LOCATION:Playing Field
CATEGORIES:Kids Activities
ATTACH;FMTTYPE=image/jpeg:https://mustique.life/wp-content/uploads/2022/03/Glow-Games.jpg
END:VEVENT
BEGIN:VEVENT
DTSTART;TZID=America/St_Vincent:20260328T170000
DTEND;TZID=America/St_Vincent:20260328T170000
DTSTAMP:20260419T110032
CREATED:20260202T202727Z
LAST-MODIFIED:20260207T133108Z
UID:10014966-1774717200-1774717200@mustique.life
SUMMARY:Kids Soccer Camp
DESCRIPTION:Join Osborne of the playing field for some soccer fun\, and exercise. \nMonday to Sunday \n5:00pm – 6:00pm
URL:https://mustique.life/event/kids-and-teens-soccer-camp-2/2026-03-28/
LOCATION:Playing Field
CATEGORIES:Kids Activities
ATTACH;FMTTYPE=image/jpeg:https://mustique.life/wp-content/uploads/2022/03/Glow-Games.jpg
END:VEVENT
BEGIN:VEVENT
DTSTART;TZID=America/St_Vincent:20260327T170000
DTEND;TZID=America/St_Vincent:20260327T180000
DTSTAMP:20260419T110032
CREATED:20260318T033104Z
LAST-MODIFIED:20260320T184212Z
UID:10017726-1774630800-1774634400@mustique.life
SUMMARY:Kids Kickboxing
DESCRIPTION:Stronger body. Sharper mind. Unleash your power with Kickboxing with the Gym team for kids 8+ \nWednesday\, Thursday and Friday \n5:00pm \nPlaying field \nALL BOOKINGS FOR GYM TIME SLOTS\, PRIVATE SESSIONS AND CLASSES MUST BE MADE IN ADVANCE BY CALLING EXT: 8920 OR BY EMAIL: YOGAFITNESS@COTTONHOUSE.NET \n 
URL:https://mustique.life/event/kickboxing-2-2/2026-03-27/
LOCATION:Playing Field
CATEGORIES:Kids Activities
ATTACH;FMTTYPE=image/jpeg:https://mustique.life/wp-content/uploads/2026/03/istockphoto-893341894-612x612-1.jpg
END:VEVENT
BEGIN:VEVENT
DTSTART;TZID=America/St_Vincent:20260327T170000
DTEND;TZID=America/St_Vincent:20260327T170000
DTSTAMP:20260419T110032
CREATED:20260202T202727Z
LAST-MODIFIED:20260207T133108Z
UID:10014965-1774630800-1774630800@mustique.life
SUMMARY:Kids Soccer Camp
DESCRIPTION:Join Osborne of the playing field for some soccer fun\, and exercise. \nMonday to Sunday \n5:00pm – 6:00pm
URL:https://mustique.life/event/kids-and-teens-soccer-camp-2/2026-03-27/
LOCATION:Playing Field
CATEGORIES:Kids Activities
ATTACH;FMTTYPE=image/jpeg:https://mustique.life/wp-content/uploads/2022/03/Glow-Games.jpg
END:VEVENT
BEGIN:VEVENT
DTSTART;TZID=America/St_Vincent:20260326T170000
DTEND;TZID=America/St_Vincent:20260326T180000
DTSTAMP:20260419T110032
CREATED:20260318T033104Z
LAST-MODIFIED:20260320T184212Z
UID:10017725-1774544400-1774548000@mustique.life
SUMMARY:Kids Kickboxing
DESCRIPTION:Stronger body. Sharper mind. Unleash your power with Kickboxing with the Gym team for kids 8+ \nWednesday\, Thursday and Friday \n5:00pm \nPlaying field \nALL BOOKINGS FOR GYM TIME SLOTS\, PRIVATE SESSIONS AND CLASSES MUST BE MADE IN ADVANCE BY CALLING EXT: 8920 OR BY EMAIL: YOGAFITNESS@COTTONHOUSE.NET \n 
URL:https://mustique.life/event/kickboxing-2-2/2026-03-26/
LOCATION:Playing Field
CATEGORIES:Kids Activities
ATTACH;FMTTYPE=image/jpeg:https://mustique.life/wp-content/uploads/2026/03/istockphoto-893341894-612x612-1.jpg
END:VEVENT
BEGIN:VEVENT
DTSTART;TZID=America/St_Vincent:20260326T170000
DTEND;TZID=America/St_Vincent:20260326T170000
DTSTAMP:20260419T110032
CREATED:20260202T202727Z
LAST-MODIFIED:20260207T133108Z
UID:10014964-1774544400-1774544400@mustique.life
SUMMARY:Kids Soccer Camp
DESCRIPTION:Join Osborne of the playing field for some soccer fun\, and exercise. \nMonday to Sunday \n5:00pm – 6:00pm
URL:https://mustique.life/event/kids-and-teens-soccer-camp-2/2026-03-26/
LOCATION:Playing Field
CATEGORIES:Kids Activities
ATTACH;FMTTYPE=image/jpeg:https://mustique.life/wp-content/uploads/2022/03/Glow-Games.jpg
END:VEVENT
BEGIN:VEVENT
DTSTART;TZID=America/St_Vincent:20260325T170000
DTEND;TZID=America/St_Vincent:20260325T180000
DTSTAMP:20260419T110032
CREATED:20260318T033104Z
LAST-MODIFIED:20260320T184212Z
UID:10017724-1774458000-1774461600@mustique.life
SUMMARY:Kids Kickboxing
DESCRIPTION:Stronger body. Sharper mind. Unleash your power with Kickboxing with the Gym team for kids 8+ \nWednesday\, Thursday and Friday \n5:00pm \nPlaying field \nALL BOOKINGS FOR GYM TIME SLOTS\, PRIVATE SESSIONS AND CLASSES MUST BE MADE IN ADVANCE BY CALLING EXT: 8920 OR BY EMAIL: YOGAFITNESS@COTTONHOUSE.NET \n 
URL:https://mustique.life/event/kickboxing-2-2/2026-03-25/
LOCATION:Playing Field
CATEGORIES:Kids Activities
ATTACH;FMTTYPE=image/jpeg:https://mustique.life/wp-content/uploads/2026/03/istockphoto-893341894-612x612-1.jpg
END:VEVENT
END:VCALENDAR