BEGIN:VCALENDAR
VERSION:2.0
PRODID:-//Mustique Events - Calendar - ECPv6.15.17.1//NONSGML v1.0//EN
CALSCALE:GREGORIAN
METHOD:PUBLISH
X-ORIGINAL-URL:https://mustique.life
X-WR-CALDESC:Events for Mustique Events - Calendar
REFRESH-INTERVAL;VALUE=DURATION:PT1H
X-Robots-Tag:noindex
X-PUBLISHED-TTL:PT1H
BEGIN:VTIMEZONE
TZID:America/St_Vincent
BEGIN:STANDARD
TZOFFSETFROM:-0400
TZOFFSETTO:-0400
TZNAME:AST
DTSTART:20250101T000000
END:STANDARD
END:VTIMEZONE
BEGIN:VEVENT
DTSTART;TZID=America/St_Vincent:20260402T153000
DTEND;TZID=America/St_Vincent:20260402T170000
DTSTAMP:20260419T134405
CREATED:20260323T133139Z
LAST-MODIFIED:20260323T133139Z
UID:10017751-1775143800-1775149200@mustique.life
SUMMARY:Mad Hatter Bonnet Parade and Egg Hunt
DESCRIPTION:Join us for the Mad Hatter Bonnet Parade & Egg Hunt — a whimsical celebration full of color\, creativity\, and fun for all ages! \nShow off your most outrageous\, imaginative hats! Prizes for the most curious\, colorful\, and creative designs. \nHop along and find hidden treasures throughout the grounds—sweet surprises await every bunny! \nThursday 2nd April\,2026 \nPlayground \n3:30pm – 5:00pm
URL:https://mustique.life/event/mad-hatter-bonnet-parade-and-egg-hunt/
LOCATION:Playground
CATEGORIES:Kids Activities
ATTACH;FMTTYPE=image/jpeg:https://mustique.life/wp-content/uploads/2023/02/Egg-Hunt.jpg
END:VEVENT
END:VCALENDAR