BEGIN:VCALENDAR
VERSION:2.0
PRODID:-//Mustique Events - Calendar - ECPv6.15.17.1//NONSGML v1.0//EN
CALSCALE:GREGORIAN
METHOD:PUBLISH
X-ORIGINAL-URL:https://mustique.life
X-WR-CALDESC:Events for Mustique Events - Calendar
REFRESH-INTERVAL;VALUE=DURATION:PT1H
X-Robots-Tag:noindex
X-PUBLISHED-TTL:PT1H
BEGIN:VTIMEZONE
TZID:America/St_Vincent
BEGIN:STANDARD
TZOFFSETFROM:-0400
TZOFFSETTO:-0400
TZNAME:AST
DTSTART:20250101T000000
END:STANDARD
END:VTIMEZONE
BEGIN:VEVENT
DTSTART;TZID=America/St_Vincent:20260419T070000
DTEND;TZID=America/St_Vincent:20260419T190000
DTSTAMP:20260419T094914
CREATED:20251222T123041Z
LAST-MODIFIED:20260416T155054Z
UID:10023517-1776582000-1776625200@mustique.life
SUMMARY:Private Personal Training and Yoga
DESCRIPTION:ALL BOOKINGS FOR GYM TIME SLOTS\, PRIVATE SESSIONS AND CLASSES MUST BE MADE IN ADVANCE BY CALLING EXT: 8920 OR BY EMAIL: YOGAFITNESS@COTTONHOUSE.NET
URL:https://mustique.life/event/private-personal-training-and-yoga/2026-04-19/
LOCATION:Gym Studio\, Saint Vincent and The Grenadines
CATEGORIES:Sport / Wellness
ATTACH;FMTTYPE=image/jpeg:https://mustique.life/wp-content/uploads/2024/03/Gentle-Yoga_GymStudio.jpg
END:VEVENT
BEGIN:VEVENT
DTSTART;TZID=America/St_Vincent:20260420T070000
DTEND;TZID=America/St_Vincent:20260420T190000
DTSTAMP:20260419T094914
CREATED:20251222T123041Z
LAST-MODIFIED:20260416T155054Z
UID:10023518-1776668400-1776711600@mustique.life
SUMMARY:Private Personal Training and Yoga
DESCRIPTION:ALL BOOKINGS FOR GYM TIME SLOTS\, PRIVATE SESSIONS AND CLASSES MUST BE MADE IN ADVANCE BY CALLING EXT: 8920 OR BY EMAIL: YOGAFITNESS@COTTONHOUSE.NET
URL:https://mustique.life/event/private-personal-training-and-yoga/2026-04-20/
LOCATION:Gym Studio\, Saint Vincent and The Grenadines
CATEGORIES:Sport / Wellness
ATTACH;FMTTYPE=image/jpeg:https://mustique.life/wp-content/uploads/2024/03/Gentle-Yoga_GymStudio.jpg
END:VEVENT
BEGIN:VEVENT
DTSTART;TZID=America/St_Vincent:20260420T100000
DTEND;TZID=America/St_Vincent:20260420T110000
DTSTAMP:20260419T094914
CREATED:20260416T155312Z
LAST-MODIFIED:20260416T172311Z
UID:10023655-1776679200-1776682800@mustique.life
SUMMARY:Mat Pilates
DESCRIPTION:Join the gym team at the Gym Studio for an hour of pilates workouts that focus on control\, balance\, and breath.Feel strong\, centered\, and unstoppable! \nMonday\, Wednesday\, Friday \n10:00am – 11:00am \nALL BOOKINGS FOR GYM TIME SLOTS\, PRIVATE SESSIONS AND CLASSES MUST BE MADE IN ADVANCE BY CALLING EXT: 8920 OR BY EMAIL: YOGAFITNESS@COTTONHOUSE.NET \n 
URL:https://mustique.life/event/pilates-2/2026-04-20/
LOCATION:Gym Studio\, Saint Vincent and The Grenadines
CATEGORIES:Sport / Wellness
ATTACH;FMTTYPE=image/jpeg:https://mustique.life/wp-content/uploads/2024/01/images.jpg
END:VEVENT
BEGIN:VEVENT
DTSTART;TZID=America/St_Vincent:20260421T070000
DTEND;TZID=America/St_Vincent:20260421T190000
DTSTAMP:20260419T094914
CREATED:20251222T123041Z
LAST-MODIFIED:20260416T155054Z
UID:10023519-1776754800-1776798000@mustique.life
SUMMARY:Private Personal Training and Yoga
DESCRIPTION:ALL BOOKINGS FOR GYM TIME SLOTS\, PRIVATE SESSIONS AND CLASSES MUST BE MADE IN ADVANCE BY CALLING EXT: 8920 OR BY EMAIL: YOGAFITNESS@COTTONHOUSE.NET
URL:https://mustique.life/event/private-personal-training-and-yoga/2026-04-21/
LOCATION:Gym Studio\, Saint Vincent and The Grenadines
CATEGORIES:Sport / Wellness
ATTACH;FMTTYPE=image/jpeg:https://mustique.life/wp-content/uploads/2024/03/Gentle-Yoga_GymStudio.jpg
END:VEVENT
BEGIN:VEVENT
DTSTART;TZID=America/St_Vincent:20260422T070000
DTEND;TZID=America/St_Vincent:20260422T190000
DTSTAMP:20260419T094914
CREATED:20251222T123041Z
LAST-MODIFIED:20260416T155054Z
UID:10023520-1776841200-1776884400@mustique.life
SUMMARY:Private Personal Training and Yoga
DESCRIPTION:ALL BOOKINGS FOR GYM TIME SLOTS\, PRIVATE SESSIONS AND CLASSES MUST BE MADE IN ADVANCE BY CALLING EXT: 8920 OR BY EMAIL: YOGAFITNESS@COTTONHOUSE.NET
URL:https://mustique.life/event/private-personal-training-and-yoga/2026-04-22/
LOCATION:Gym Studio\, Saint Vincent and The Grenadines
CATEGORIES:Sport / Wellness
ATTACH;FMTTYPE=image/jpeg:https://mustique.life/wp-content/uploads/2024/03/Gentle-Yoga_GymStudio.jpg
END:VEVENT
BEGIN:VEVENT
DTSTART;TZID=America/St_Vincent:20260422T100000
DTEND;TZID=America/St_Vincent:20260422T110000
DTSTAMP:20260419T094914
CREATED:20260416T155312Z
LAST-MODIFIED:20260416T172311Z
UID:10023656-1776852000-1776855600@mustique.life
SUMMARY:Mat Pilates
DESCRIPTION:Join the gym team at the Gym Studio for an hour of pilates workouts that focus on control\, balance\, and breath.Feel strong\, centered\, and unstoppable! \nMonday\, Wednesday\, Friday \n10:00am – 11:00am \nALL BOOKINGS FOR GYM TIME SLOTS\, PRIVATE SESSIONS AND CLASSES MUST BE MADE IN ADVANCE BY CALLING EXT: 8920 OR BY EMAIL: YOGAFITNESS@COTTONHOUSE.NET \n 
URL:https://mustique.life/event/pilates-2/2026-04-22/
LOCATION:Gym Studio\, Saint Vincent and The Grenadines
CATEGORIES:Sport / Wellness
ATTACH;FMTTYPE=image/jpeg:https://mustique.life/wp-content/uploads/2024/01/images.jpg
END:VEVENT
BEGIN:VEVENT
DTSTART;TZID=America/St_Vincent:20260423T070000
DTEND;TZID=America/St_Vincent:20260423T190000
DTSTAMP:20260419T094914
CREATED:20251222T123041Z
LAST-MODIFIED:20260416T155054Z
UID:10023521-1776927600-1776970800@mustique.life
SUMMARY:Private Personal Training and Yoga
DESCRIPTION:ALL BOOKINGS FOR GYM TIME SLOTS\, PRIVATE SESSIONS AND CLASSES MUST BE MADE IN ADVANCE BY CALLING EXT: 8920 OR BY EMAIL: YOGAFITNESS@COTTONHOUSE.NET
URL:https://mustique.life/event/private-personal-training-and-yoga/2026-04-23/
LOCATION:Gym Studio\, Saint Vincent and The Grenadines
CATEGORIES:Sport / Wellness
ATTACH;FMTTYPE=image/jpeg:https://mustique.life/wp-content/uploads/2024/03/Gentle-Yoga_GymStudio.jpg
END:VEVENT
BEGIN:VEVENT
DTSTART;TZID=America/St_Vincent:20260424T070000
DTEND;TZID=America/St_Vincent:20260424T190000
DTSTAMP:20260419T094914
CREATED:20251222T123041Z
LAST-MODIFIED:20260416T155054Z
UID:10023522-1777014000-1777057200@mustique.life
SUMMARY:Private Personal Training and Yoga
DESCRIPTION:ALL BOOKINGS FOR GYM TIME SLOTS\, PRIVATE SESSIONS AND CLASSES MUST BE MADE IN ADVANCE BY CALLING EXT: 8920 OR BY EMAIL: YOGAFITNESS@COTTONHOUSE.NET
URL:https://mustique.life/event/private-personal-training-and-yoga/2026-04-24/
LOCATION:Gym Studio\, Saint Vincent and The Grenadines
CATEGORIES:Sport / Wellness
ATTACH;FMTTYPE=image/jpeg:https://mustique.life/wp-content/uploads/2024/03/Gentle-Yoga_GymStudio.jpg
END:VEVENT
BEGIN:VEVENT
DTSTART;TZID=America/St_Vincent:20260424T100000
DTEND;TZID=America/St_Vincent:20260424T110000
DTSTAMP:20260419T094914
CREATED:20260416T155312Z
LAST-MODIFIED:20260416T172311Z
UID:10023657-1777024800-1777028400@mustique.life
SUMMARY:Mat Pilates
DESCRIPTION:Join the gym team at the Gym Studio for an hour of pilates workouts that focus on control\, balance\, and breath.Feel strong\, centered\, and unstoppable! \nMonday\, Wednesday\, Friday \n10:00am – 11:00am \nALL BOOKINGS FOR GYM TIME SLOTS\, PRIVATE SESSIONS AND CLASSES MUST BE MADE IN ADVANCE BY CALLING EXT: 8920 OR BY EMAIL: YOGAFITNESS@COTTONHOUSE.NET \n 
URL:https://mustique.life/event/pilates-2/2026-04-24/
LOCATION:Gym Studio\, Saint Vincent and The Grenadines
CATEGORIES:Sport / Wellness
ATTACH;FMTTYPE=image/jpeg:https://mustique.life/wp-content/uploads/2024/01/images.jpg
END:VEVENT
BEGIN:VEVENT
DTSTART;TZID=America/St_Vincent:20260425T070000
DTEND;TZID=America/St_Vincent:20260425T190000
DTSTAMP:20260419T094914
CREATED:20251222T123041Z
LAST-MODIFIED:20260416T155054Z
UID:10023523-1777100400-1777143600@mustique.life
SUMMARY:Private Personal Training and Yoga
DESCRIPTION:ALL BOOKINGS FOR GYM TIME SLOTS\, PRIVATE SESSIONS AND CLASSES MUST BE MADE IN ADVANCE BY CALLING EXT: 8920 OR BY EMAIL: YOGAFITNESS@COTTONHOUSE.NET
URL:https://mustique.life/event/private-personal-training-and-yoga/2026-04-25/
LOCATION:Gym Studio\, Saint Vincent and The Grenadines
CATEGORIES:Sport / Wellness
ATTACH;FMTTYPE=image/jpeg:https://mustique.life/wp-content/uploads/2024/03/Gentle-Yoga_GymStudio.jpg
END:VEVENT
BEGIN:VEVENT
DTSTART;TZID=America/St_Vincent:20260425T150000
DTEND;TZID=America/St_Vincent:20260425T160000
DTSTAMP:20260419T094914
CREATED:20260320T033104Z
LAST-MODIFIED:20260416T172239Z
UID:10023659-1777129200-1777132800@mustique.life
SUMMARY:Adult Kickboxing
DESCRIPTION:Stronger body. Sharper mind. Unleash your power with Kickboxing with the Gym team \nSaturday \n3:00pm \nGym Studio \nALL BOOKINGS FOR GYM TIME SLOTS\, PRIVATE SESSIONS AND CLASSES MUST BE MADE IN ADVANCE BY CALLING EXT: 8920 OR BY EMAIL: YOGAFITNESS@COTTONHOUSE.NET \n 
URL:https://mustique.life/event/kickboxing-2/2026-04-25/
LOCATION:Gym Studio\, Saint Vincent and The Grenadines
CATEGORIES:Sport / Wellness
ATTACH;FMTTYPE=image/jpeg:https://mustique.life/wp-content/uploads/2024/03/Gentle-Yoga_GymStudio.jpg
END:VEVENT
BEGIN:VEVENT
DTSTART;TZID=America/St_Vincent:20260426T070000
DTEND;TZID=America/St_Vincent:20260426T190000
DTSTAMP:20260419T094914
CREATED:20251222T123041Z
LAST-MODIFIED:20260416T155054Z
UID:10023524-1777186800-1777230000@mustique.life
SUMMARY:Private Personal Training and Yoga
DESCRIPTION:ALL BOOKINGS FOR GYM TIME SLOTS\, PRIVATE SESSIONS AND CLASSES MUST BE MADE IN ADVANCE BY CALLING EXT: 8920 OR BY EMAIL: YOGAFITNESS@COTTONHOUSE.NET
URL:https://mustique.life/event/private-personal-training-and-yoga/2026-04-26/
LOCATION:Gym Studio\, Saint Vincent and The Grenadines
CATEGORIES:Sport / Wellness
ATTACH;FMTTYPE=image/jpeg:https://mustique.life/wp-content/uploads/2024/03/Gentle-Yoga_GymStudio.jpg
END:VEVENT
BEGIN:VEVENT
DTSTART;TZID=America/St_Vincent:20260427T070000
DTEND;TZID=America/St_Vincent:20260427T190000
DTSTAMP:20260419T094914
CREATED:20251222T123041Z
LAST-MODIFIED:20260416T155054Z
UID:10023525-1777273200-1777316400@mustique.life
SUMMARY:Private Personal Training and Yoga
DESCRIPTION:ALL BOOKINGS FOR GYM TIME SLOTS\, PRIVATE SESSIONS AND CLASSES MUST BE MADE IN ADVANCE BY CALLING EXT: 8920 OR BY EMAIL: YOGAFITNESS@COTTONHOUSE.NET
URL:https://mustique.life/event/private-personal-training-and-yoga/2026-04-27/
LOCATION:Gym Studio\, Saint Vincent and The Grenadines
CATEGORIES:Sport / Wellness
ATTACH;FMTTYPE=image/jpeg:https://mustique.life/wp-content/uploads/2024/03/Gentle-Yoga_GymStudio.jpg
END:VEVENT
BEGIN:VEVENT
DTSTART;TZID=America/St_Vincent:20260427T100000
DTEND;TZID=America/St_Vincent:20260427T110000
DTSTAMP:20260419T094914
CREATED:20260416T155312Z
LAST-MODIFIED:20260416T172311Z
UID:10023660-1777284000-1777287600@mustique.life
SUMMARY:Mat Pilates
DESCRIPTION:Join the gym team at the Gym Studio for an hour of pilates workouts that focus on control\, balance\, and breath.Feel strong\, centered\, and unstoppable! \nMonday\, Wednesday\, Friday \n10:00am – 11:00am \nALL BOOKINGS FOR GYM TIME SLOTS\, PRIVATE SESSIONS AND CLASSES MUST BE MADE IN ADVANCE BY CALLING EXT: 8920 OR BY EMAIL: YOGAFITNESS@COTTONHOUSE.NET \n 
URL:https://mustique.life/event/pilates-2/2026-04-27/
LOCATION:Gym Studio\, Saint Vincent and The Grenadines
CATEGORIES:Sport / Wellness
ATTACH;FMTTYPE=image/jpeg:https://mustique.life/wp-content/uploads/2024/01/images.jpg
END:VEVENT
BEGIN:VEVENT
DTSTART;TZID=America/St_Vincent:20260428T070000
DTEND;TZID=America/St_Vincent:20260428T190000
DTSTAMP:20260419T094914
CREATED:20251222T123041Z
LAST-MODIFIED:20260416T155054Z
UID:10023526-1777359600-1777402800@mustique.life
SUMMARY:Private Personal Training and Yoga
DESCRIPTION:ALL BOOKINGS FOR GYM TIME SLOTS\, PRIVATE SESSIONS AND CLASSES MUST BE MADE IN ADVANCE BY CALLING EXT: 8920 OR BY EMAIL: YOGAFITNESS@COTTONHOUSE.NET
URL:https://mustique.life/event/private-personal-training-and-yoga/2026-04-28/
LOCATION:Gym Studio\, Saint Vincent and The Grenadines
CATEGORIES:Sport / Wellness
ATTACH;FMTTYPE=image/jpeg:https://mustique.life/wp-content/uploads/2024/03/Gentle-Yoga_GymStudio.jpg
END:VEVENT
BEGIN:VEVENT
DTSTART;TZID=America/St_Vincent:20260429T070000
DTEND;TZID=America/St_Vincent:20260429T190000
DTSTAMP:20260419T094914
CREATED:20251222T123041Z
LAST-MODIFIED:20260416T155054Z
UID:10023527-1777446000-1777489200@mustique.life
SUMMARY:Private Personal Training and Yoga
DESCRIPTION:ALL BOOKINGS FOR GYM TIME SLOTS\, PRIVATE SESSIONS AND CLASSES MUST BE MADE IN ADVANCE BY CALLING EXT: 8920 OR BY EMAIL: YOGAFITNESS@COTTONHOUSE.NET
URL:https://mustique.life/event/private-personal-training-and-yoga/2026-04-29/
LOCATION:Gym Studio\, Saint Vincent and The Grenadines
CATEGORIES:Sport / Wellness
ATTACH;FMTTYPE=image/jpeg:https://mustique.life/wp-content/uploads/2024/03/Gentle-Yoga_GymStudio.jpg
END:VEVENT
BEGIN:VEVENT
DTSTART;TZID=America/St_Vincent:20260429T100000
DTEND;TZID=America/St_Vincent:20260429T110000
DTSTAMP:20260419T094914
CREATED:20260416T155312Z
LAST-MODIFIED:20260416T172311Z
UID:10023661-1777456800-1777460400@mustique.life
SUMMARY:Mat Pilates
DESCRIPTION:Join the gym team at the Gym Studio for an hour of pilates workouts that focus on control\, balance\, and breath.Feel strong\, centered\, and unstoppable! \nMonday\, Wednesday\, Friday \n10:00am – 11:00am \nALL BOOKINGS FOR GYM TIME SLOTS\, PRIVATE SESSIONS AND CLASSES MUST BE MADE IN ADVANCE BY CALLING EXT: 8920 OR BY EMAIL: YOGAFITNESS@COTTONHOUSE.NET \n 
URL:https://mustique.life/event/pilates-2/2026-04-29/
LOCATION:Gym Studio\, Saint Vincent and The Grenadines
CATEGORIES:Sport / Wellness
ATTACH;FMTTYPE=image/jpeg:https://mustique.life/wp-content/uploads/2024/01/images.jpg
END:VEVENT
BEGIN:VEVENT
DTSTART;TZID=America/St_Vincent:20260430T070000
DTEND;TZID=America/St_Vincent:20260430T190000
DTSTAMP:20260419T094914
CREATED:20251222T123041Z
LAST-MODIFIED:20260416T155054Z
UID:10023528-1777532400-1777575600@mustique.life
SUMMARY:Private Personal Training and Yoga
DESCRIPTION:ALL BOOKINGS FOR GYM TIME SLOTS\, PRIVATE SESSIONS AND CLASSES MUST BE MADE IN ADVANCE BY CALLING EXT: 8920 OR BY EMAIL: YOGAFITNESS@COTTONHOUSE.NET
URL:https://mustique.life/event/private-personal-training-and-yoga/2026-04-30/
LOCATION:Gym Studio\, Saint Vincent and The Grenadines
CATEGORIES:Sport / Wellness
ATTACH;FMTTYPE=image/jpeg:https://mustique.life/wp-content/uploads/2024/03/Gentle-Yoga_GymStudio.jpg
END:VEVENT
BEGIN:VEVENT
DTSTART;TZID=America/St_Vincent:20260501T070000
DTEND;TZID=America/St_Vincent:20260501T190000
DTSTAMP:20260419T094914
CREATED:20251222T123041Z
LAST-MODIFIED:20260416T155054Z
UID:10023529-1777618800-1777662000@mustique.life
SUMMARY:Private Personal Training and Yoga
DESCRIPTION:ALL BOOKINGS FOR GYM TIME SLOTS\, PRIVATE SESSIONS AND CLASSES MUST BE MADE IN ADVANCE BY CALLING EXT: 8920 OR BY EMAIL: YOGAFITNESS@COTTONHOUSE.NET
URL:https://mustique.life/event/private-personal-training-and-yoga/2026-05-01/
LOCATION:Gym Studio\, Saint Vincent and The Grenadines
CATEGORIES:Sport / Wellness
ATTACH;FMTTYPE=image/jpeg:https://mustique.life/wp-content/uploads/2024/03/Gentle-Yoga_GymStudio.jpg
END:VEVENT
BEGIN:VEVENT
DTSTART;TZID=America/St_Vincent:20260502T070000
DTEND;TZID=America/St_Vincent:20260502T190000
DTSTAMP:20260419T094914
CREATED:20251222T123041Z
LAST-MODIFIED:20260416T155054Z
UID:10023530-1777705200-1777748400@mustique.life
SUMMARY:Private Personal Training and Yoga
DESCRIPTION:ALL BOOKINGS FOR GYM TIME SLOTS\, PRIVATE SESSIONS AND CLASSES MUST BE MADE IN ADVANCE BY CALLING EXT: 8920 OR BY EMAIL: YOGAFITNESS@COTTONHOUSE.NET
URL:https://mustique.life/event/private-personal-training-and-yoga/2026-05-02/
LOCATION:Gym Studio\, Saint Vincent and The Grenadines
CATEGORIES:Sport / Wellness
ATTACH;FMTTYPE=image/jpeg:https://mustique.life/wp-content/uploads/2024/03/Gentle-Yoga_GymStudio.jpg
END:VEVENT
BEGIN:VEVENT
DTSTART;TZID=America/St_Vincent:20260503T070000
DTEND;TZID=America/St_Vincent:20260503T190000
DTSTAMP:20260419T094914
CREATED:20251222T123041Z
LAST-MODIFIED:20260416T155054Z
UID:10023531-1777791600-1777834800@mustique.life
SUMMARY:Private Personal Training and Yoga
DESCRIPTION:ALL BOOKINGS FOR GYM TIME SLOTS\, PRIVATE SESSIONS AND CLASSES MUST BE MADE IN ADVANCE BY CALLING EXT: 8920 OR BY EMAIL: YOGAFITNESS@COTTONHOUSE.NET
URL:https://mustique.life/event/private-personal-training-and-yoga/2026-05-03/
LOCATION:Gym Studio\, Saint Vincent and The Grenadines
CATEGORIES:Sport / Wellness
ATTACH;FMTTYPE=image/jpeg:https://mustique.life/wp-content/uploads/2024/03/Gentle-Yoga_GymStudio.jpg
END:VEVENT
BEGIN:VEVENT
DTSTART;TZID=America/St_Vincent:20260504T070000
DTEND;TZID=America/St_Vincent:20260504T190000
DTSTAMP:20260419T094914
CREATED:20251222T123041Z
LAST-MODIFIED:20260416T155054Z
UID:10023532-1777878000-1777921200@mustique.life
SUMMARY:Private Personal Training and Yoga
DESCRIPTION:ALL BOOKINGS FOR GYM TIME SLOTS\, PRIVATE SESSIONS AND CLASSES MUST BE MADE IN ADVANCE BY CALLING EXT: 8920 OR BY EMAIL: YOGAFITNESS@COTTONHOUSE.NET
URL:https://mustique.life/event/private-personal-training-and-yoga/2026-05-04/
LOCATION:Gym Studio\, Saint Vincent and The Grenadines
CATEGORIES:Sport / Wellness
ATTACH;FMTTYPE=image/jpeg:https://mustique.life/wp-content/uploads/2024/03/Gentle-Yoga_GymStudio.jpg
END:VEVENT
BEGIN:VEVENT
DTSTART;TZID=America/St_Vincent:20260505T070000
DTEND;TZID=America/St_Vincent:20260505T190000
DTSTAMP:20260419T094914
CREATED:20251222T123041Z
LAST-MODIFIED:20260416T155054Z
UID:10023533-1777964400-1778007600@mustique.life
SUMMARY:Private Personal Training and Yoga
DESCRIPTION:ALL BOOKINGS FOR GYM TIME SLOTS\, PRIVATE SESSIONS AND CLASSES MUST BE MADE IN ADVANCE BY CALLING EXT: 8920 OR BY EMAIL: YOGAFITNESS@COTTONHOUSE.NET
URL:https://mustique.life/event/private-personal-training-and-yoga/2026-05-05/
LOCATION:Gym Studio\, Saint Vincent and The Grenadines
CATEGORIES:Sport / Wellness
ATTACH;FMTTYPE=image/jpeg:https://mustique.life/wp-content/uploads/2024/03/Gentle-Yoga_GymStudio.jpg
END:VEVENT
BEGIN:VEVENT
DTSTART;TZID=America/St_Vincent:20260506T070000
DTEND;TZID=America/St_Vincent:20260506T190000
DTSTAMP:20260419T094914
CREATED:20251222T123041Z
LAST-MODIFIED:20260416T155054Z
UID:10023534-1778050800-1778094000@mustique.life
SUMMARY:Private Personal Training and Yoga
DESCRIPTION:ALL BOOKINGS FOR GYM TIME SLOTS\, PRIVATE SESSIONS AND CLASSES MUST BE MADE IN ADVANCE BY CALLING EXT: 8920 OR BY EMAIL: YOGAFITNESS@COTTONHOUSE.NET
URL:https://mustique.life/event/private-personal-training-and-yoga/2026-05-06/
LOCATION:Gym Studio\, Saint Vincent and The Grenadines
CATEGORIES:Sport / Wellness
ATTACH;FMTTYPE=image/jpeg:https://mustique.life/wp-content/uploads/2024/03/Gentle-Yoga_GymStudio.jpg
END:VEVENT
BEGIN:VEVENT
DTSTART;TZID=America/St_Vincent:20260507T070000
DTEND;TZID=America/St_Vincent:20260507T190000
DTSTAMP:20260419T094914
CREATED:20251222T123041Z
LAST-MODIFIED:20260416T155054Z
UID:10023535-1778137200-1778180400@mustique.life
SUMMARY:Private Personal Training and Yoga
DESCRIPTION:ALL BOOKINGS FOR GYM TIME SLOTS\, PRIVATE SESSIONS AND CLASSES MUST BE MADE IN ADVANCE BY CALLING EXT: 8920 OR BY EMAIL: YOGAFITNESS@COTTONHOUSE.NET
URL:https://mustique.life/event/private-personal-training-and-yoga/2026-05-07/
LOCATION:Gym Studio\, Saint Vincent and The Grenadines
CATEGORIES:Sport / Wellness
ATTACH;FMTTYPE=image/jpeg:https://mustique.life/wp-content/uploads/2024/03/Gentle-Yoga_GymStudio.jpg
END:VEVENT
BEGIN:VEVENT
DTSTART;TZID=America/St_Vincent:20260508T070000
DTEND;TZID=America/St_Vincent:20260508T190000
DTSTAMP:20260419T094914
CREATED:20251222T123041Z
LAST-MODIFIED:20260416T155054Z
UID:10023536-1778223600-1778266800@mustique.life
SUMMARY:Private Personal Training and Yoga
DESCRIPTION:ALL BOOKINGS FOR GYM TIME SLOTS\, PRIVATE SESSIONS AND CLASSES MUST BE MADE IN ADVANCE BY CALLING EXT: 8920 OR BY EMAIL: YOGAFITNESS@COTTONHOUSE.NET
URL:https://mustique.life/event/private-personal-training-and-yoga/2026-05-08/
LOCATION:Gym Studio\, Saint Vincent and The Grenadines
CATEGORIES:Sport / Wellness
ATTACH;FMTTYPE=image/jpeg:https://mustique.life/wp-content/uploads/2024/03/Gentle-Yoga_GymStudio.jpg
END:VEVENT
BEGIN:VEVENT
DTSTART;TZID=America/St_Vincent:20260509T070000
DTEND;TZID=America/St_Vincent:20260509T190000
DTSTAMP:20260419T094914
CREATED:20251222T123041Z
LAST-MODIFIED:20260416T155054Z
UID:10023537-1778310000-1778353200@mustique.life
SUMMARY:Private Personal Training and Yoga
DESCRIPTION:ALL BOOKINGS FOR GYM TIME SLOTS\, PRIVATE SESSIONS AND CLASSES MUST BE MADE IN ADVANCE BY CALLING EXT: 8920 OR BY EMAIL: YOGAFITNESS@COTTONHOUSE.NET
URL:https://mustique.life/event/private-personal-training-and-yoga/2026-05-09/
LOCATION:Gym Studio\, Saint Vincent and The Grenadines
CATEGORIES:Sport / Wellness
ATTACH;FMTTYPE=image/jpeg:https://mustique.life/wp-content/uploads/2024/03/Gentle-Yoga_GymStudio.jpg
END:VEVENT
BEGIN:VEVENT
DTSTART;TZID=America/St_Vincent:20260510T070000
DTEND;TZID=America/St_Vincent:20260510T190000
DTSTAMP:20260419T094914
CREATED:20251222T123041Z
LAST-MODIFIED:20260416T155054Z
UID:10023538-1778396400-1778439600@mustique.life
SUMMARY:Private Personal Training and Yoga
DESCRIPTION:ALL BOOKINGS FOR GYM TIME SLOTS\, PRIVATE SESSIONS AND CLASSES MUST BE MADE IN ADVANCE BY CALLING EXT: 8920 OR BY EMAIL: YOGAFITNESS@COTTONHOUSE.NET
URL:https://mustique.life/event/private-personal-training-and-yoga/2026-05-10/
LOCATION:Gym Studio\, Saint Vincent and The Grenadines
CATEGORIES:Sport / Wellness
ATTACH;FMTTYPE=image/jpeg:https://mustique.life/wp-content/uploads/2024/03/Gentle-Yoga_GymStudio.jpg
END:VEVENT
BEGIN:VEVENT
DTSTART;TZID=America/St_Vincent:20260511T070000
DTEND;TZID=America/St_Vincent:20260511T190000
DTSTAMP:20260419T094914
CREATED:20251222T123041Z
LAST-MODIFIED:20260416T155054Z
UID:10023539-1778482800-1778526000@mustique.life
SUMMARY:Private Personal Training and Yoga
DESCRIPTION:ALL BOOKINGS FOR GYM TIME SLOTS\, PRIVATE SESSIONS AND CLASSES MUST BE MADE IN ADVANCE BY CALLING EXT: 8920 OR BY EMAIL: YOGAFITNESS@COTTONHOUSE.NET
URL:https://mustique.life/event/private-personal-training-and-yoga/2026-05-11/
LOCATION:Gym Studio\, Saint Vincent and The Grenadines
CATEGORIES:Sport / Wellness
ATTACH;FMTTYPE=image/jpeg:https://mustique.life/wp-content/uploads/2024/03/Gentle-Yoga_GymStudio.jpg
END:VEVENT
BEGIN:VEVENT
DTSTART;TZID=America/St_Vincent:20260512T070000
DTEND;TZID=America/St_Vincent:20260512T190000
DTSTAMP:20260419T094914
CREATED:20251222T123041Z
LAST-MODIFIED:20260416T155054Z
UID:10023540-1778569200-1778612400@mustique.life
SUMMARY:Private Personal Training and Yoga
DESCRIPTION:ALL BOOKINGS FOR GYM TIME SLOTS\, PRIVATE SESSIONS AND CLASSES MUST BE MADE IN ADVANCE BY CALLING EXT: 8920 OR BY EMAIL: YOGAFITNESS@COTTONHOUSE.NET
URL:https://mustique.life/event/private-personal-training-and-yoga/2026-05-12/
LOCATION:Gym Studio\, Saint Vincent and The Grenadines
CATEGORIES:Sport / Wellness
ATTACH;FMTTYPE=image/jpeg:https://mustique.life/wp-content/uploads/2024/03/Gentle-Yoga_GymStudio.jpg
END:VEVENT
END:VCALENDAR