BEGIN:VCALENDAR
VERSION:2.0
PRODID:-//Mustique Events - Calendar - ECPv6.15.17.1//NONSGML v1.0//EN
CALSCALE:GREGORIAN
METHOD:PUBLISH
X-ORIGINAL-URL:https://mustique.life
X-WR-CALDESC:Events for Mustique Events - Calendar
REFRESH-INTERVAL;VALUE=DURATION:PT1H
X-Robots-Tag:noindex
X-PUBLISHED-TTL:PT1H
BEGIN:VTIMEZONE
TZID:America/St_Vincent
BEGIN:STANDARD
TZOFFSETFROM:-0400
TZOFFSETTO:-0400
TZNAME:AST
DTSTART:20250101T000000
END:STANDARD
END:VTIMEZONE
BEGIN:VEVENT
DTSTART;TZID=America/St_Vincent:20260418T150000
DTEND;TZID=America/St_Vincent:20260418T160000
DTSTAMP:20260419T112343
CREATED:20260320T033104Z
LAST-MODIFIED:20260416T172239Z
UID:10023658-1776524400-1776528000@mustique.life
SUMMARY:Adult Kickboxing
DESCRIPTION:Stronger body. Sharper mind. Unleash your power with Kickboxing with the Gym team \nSaturday \n3:00pm \nGym Studio \nALL BOOKINGS FOR GYM TIME SLOTS\, PRIVATE SESSIONS AND CLASSES MUST BE MADE IN ADVANCE BY CALLING EXT: 8920 OR BY EMAIL: YOGAFITNESS@COTTONHOUSE.NET \n 
URL:https://mustique.life/event/kickboxing-2/2026-04-18/
LOCATION:Gym Studio\, Saint Vincent and The Grenadines
CATEGORIES:Sport / Wellness
ATTACH;FMTTYPE=image/jpeg:https://mustique.life/wp-content/uploads/2024/03/Gentle-Yoga_GymStudio.jpg
END:VEVENT
BEGIN:VEVENT
DTSTART;TZID=America/St_Vincent:20260418T070000
DTEND;TZID=America/St_Vincent:20260418T190000
DTSTAMP:20260419T112343
CREATED:20251222T123041Z
LAST-MODIFIED:20260416T155054Z
UID:10023516-1776495600-1776538800@mustique.life
SUMMARY:Private Personal Training and Yoga
DESCRIPTION:ALL BOOKINGS FOR GYM TIME SLOTS\, PRIVATE SESSIONS AND CLASSES MUST BE MADE IN ADVANCE BY CALLING EXT: 8920 OR BY EMAIL: YOGAFITNESS@COTTONHOUSE.NET
URL:https://mustique.life/event/private-personal-training-and-yoga/2026-04-18/
LOCATION:Gym Studio\, Saint Vincent and The Grenadines
CATEGORIES:Sport / Wellness
ATTACH;FMTTYPE=image/jpeg:https://mustique.life/wp-content/uploads/2024/03/Gentle-Yoga_GymStudio.jpg
END:VEVENT
BEGIN:VEVENT
DTSTART;TZID=America/St_Vincent:20260417T100000
DTEND;TZID=America/St_Vincent:20260417T110000
DTSTAMP:20260419T112343
CREATED:20260416T155312Z
LAST-MODIFIED:20260416T172311Z
UID:10023654-1776420000-1776423600@mustique.life
SUMMARY:Mat Pilates
DESCRIPTION:Join the gym team at the Gym Studio for an hour of pilates workouts that focus on control\, balance\, and breath.Feel strong\, centered\, and unstoppable! \nMonday\, Wednesday\, Friday \n10:00am – 11:00am \nALL BOOKINGS FOR GYM TIME SLOTS\, PRIVATE SESSIONS AND CLASSES MUST BE MADE IN ADVANCE BY CALLING EXT: 8920 OR BY EMAIL: YOGAFITNESS@COTTONHOUSE.NET \n 
URL:https://mustique.life/event/pilates-2/2026-04-17/
LOCATION:Gym Studio\, Saint Vincent and The Grenadines
CATEGORIES:Sport / Wellness
ATTACH;FMTTYPE=image/jpeg:https://mustique.life/wp-content/uploads/2024/01/images.jpg
END:VEVENT
BEGIN:VEVENT
DTSTART;TZID=America/St_Vincent:20260417T070000
DTEND;TZID=America/St_Vincent:20260417T190000
DTSTAMP:20260419T112343
CREATED:20251222T123041Z
LAST-MODIFIED:20260416T155054Z
UID:10023515-1776409200-1776452400@mustique.life
SUMMARY:Private Personal Training and Yoga
DESCRIPTION:ALL BOOKINGS FOR GYM TIME SLOTS\, PRIVATE SESSIONS AND CLASSES MUST BE MADE IN ADVANCE BY CALLING EXT: 8920 OR BY EMAIL: YOGAFITNESS@COTTONHOUSE.NET
URL:https://mustique.life/event/private-personal-training-and-yoga/2026-04-17/
LOCATION:Gym Studio\, Saint Vincent and The Grenadines
CATEGORIES:Sport / Wellness
ATTACH;FMTTYPE=image/jpeg:https://mustique.life/wp-content/uploads/2024/03/Gentle-Yoga_GymStudio.jpg
END:VEVENT
BEGIN:VEVENT
DTSTART;TZID=America/St_Vincent:20260416T070000
DTEND;TZID=America/St_Vincent:20260416T190000
DTSTAMP:20260419T112343
CREATED:20251222T123041Z
LAST-MODIFIED:20260416T155054Z
UID:10023514-1776322800-1776366000@mustique.life
SUMMARY:Private Personal Training and Yoga
DESCRIPTION:ALL BOOKINGS FOR GYM TIME SLOTS\, PRIVATE SESSIONS AND CLASSES MUST BE MADE IN ADVANCE BY CALLING EXT: 8920 OR BY EMAIL: YOGAFITNESS@COTTONHOUSE.NET
URL:https://mustique.life/event/private-personal-training-and-yoga/2026-04-16/
LOCATION:Gym Studio\, Saint Vincent and The Grenadines
CATEGORIES:Sport / Wellness
ATTACH;FMTTYPE=image/jpeg:https://mustique.life/wp-content/uploads/2024/03/Gentle-Yoga_GymStudio.jpg
END:VEVENT
BEGIN:VEVENT
DTSTART;TZID=America/St_Vincent:20260415T100000
DTEND;TZID=America/St_Vincent:20260415T110000
DTSTAMP:20260419T112343
CREATED:20260416T155312Z
LAST-MODIFIED:20260416T172311Z
UID:10023653-1776247200-1776250800@mustique.life
SUMMARY:Mat Pilates
DESCRIPTION:Join the gym team at the Gym Studio for an hour of pilates workouts that focus on control\, balance\, and breath.Feel strong\, centered\, and unstoppable! \nMonday\, Wednesday\, Friday \n10:00am – 11:00am \nALL BOOKINGS FOR GYM TIME SLOTS\, PRIVATE SESSIONS AND CLASSES MUST BE MADE IN ADVANCE BY CALLING EXT: 8920 OR BY EMAIL: YOGAFITNESS@COTTONHOUSE.NET \n 
URL:https://mustique.life/event/pilates-2/2026-04-15/
LOCATION:Gym Studio\, Saint Vincent and The Grenadines
CATEGORIES:Sport / Wellness
ATTACH;FMTTYPE=image/jpeg:https://mustique.life/wp-content/uploads/2024/01/images.jpg
END:VEVENT
BEGIN:VEVENT
DTSTART;TZID=America/St_Vincent:20260415T070000
DTEND;TZID=America/St_Vincent:20260415T190000
DTSTAMP:20260419T112343
CREATED:20251222T123041Z
LAST-MODIFIED:20260416T155054Z
UID:10023513-1776236400-1776279600@mustique.life
SUMMARY:Private Personal Training and Yoga
DESCRIPTION:ALL BOOKINGS FOR GYM TIME SLOTS\, PRIVATE SESSIONS AND CLASSES MUST BE MADE IN ADVANCE BY CALLING EXT: 8920 OR BY EMAIL: YOGAFITNESS@COTTONHOUSE.NET
URL:https://mustique.life/event/private-personal-training-and-yoga/2026-04-15/
LOCATION:Gym Studio\, Saint Vincent and The Grenadines
CATEGORIES:Sport / Wellness
ATTACH;FMTTYPE=image/jpeg:https://mustique.life/wp-content/uploads/2024/03/Gentle-Yoga_GymStudio.jpg
END:VEVENT
BEGIN:VEVENT
DTSTART;TZID=America/St_Vincent:20260414T070000
DTEND;TZID=America/St_Vincent:20260414T190000
DTSTAMP:20260419T112343
CREATED:20251222T123041Z
LAST-MODIFIED:20260416T155054Z
UID:10023512-1776150000-1776193200@mustique.life
SUMMARY:Private Personal Training and Yoga
DESCRIPTION:ALL BOOKINGS FOR GYM TIME SLOTS\, PRIVATE SESSIONS AND CLASSES MUST BE MADE IN ADVANCE BY CALLING EXT: 8920 OR BY EMAIL: YOGAFITNESS@COTTONHOUSE.NET
URL:https://mustique.life/event/private-personal-training-and-yoga/2026-04-14/
LOCATION:Gym Studio\, Saint Vincent and The Grenadines
CATEGORIES:Sport / Wellness
ATTACH;FMTTYPE=image/jpeg:https://mustique.life/wp-content/uploads/2024/03/Gentle-Yoga_GymStudio.jpg
END:VEVENT
BEGIN:VEVENT
DTSTART;TZID=America/St_Vincent:20260413T100000
DTEND;TZID=America/St_Vincent:20260413T110000
DTSTAMP:20260419T112343
CREATED:20260416T155312Z
LAST-MODIFIED:20260416T172311Z
UID:10017723-1776074400-1776078000@mustique.life
SUMMARY:Mat Pilates
DESCRIPTION:Join the gym team at the Gym Studio for an hour of pilates workouts that focus on control\, balance\, and breath.Feel strong\, centered\, and unstoppable! \nMonday\, Wednesday\, Friday \n10:00am – 11:00am \nALL BOOKINGS FOR GYM TIME SLOTS\, PRIVATE SESSIONS AND CLASSES MUST BE MADE IN ADVANCE BY CALLING EXT: 8920 OR BY EMAIL: YOGAFITNESS@COTTONHOUSE.NET \n 
URL:https://mustique.life/event/pilates-2/2026-04-13/
LOCATION:Gym Studio\, Saint Vincent and The Grenadines
CATEGORIES:Sport / Wellness
ATTACH;FMTTYPE=image/jpeg:https://mustique.life/wp-content/uploads/2024/01/images.jpg
END:VEVENT
BEGIN:VEVENT
DTSTART;TZID=America/St_Vincent:20260413T070000
DTEND;TZID=America/St_Vincent:20260413T190000
DTSTAMP:20260419T112343
CREATED:20251222T123041Z
LAST-MODIFIED:20260416T155054Z
UID:10023511-1776063600-1776106800@mustique.life
SUMMARY:Private Personal Training and Yoga
DESCRIPTION:ALL BOOKINGS FOR GYM TIME SLOTS\, PRIVATE SESSIONS AND CLASSES MUST BE MADE IN ADVANCE BY CALLING EXT: 8920 OR BY EMAIL: YOGAFITNESS@COTTONHOUSE.NET
URL:https://mustique.life/event/private-personal-training-and-yoga/2026-04-13/
LOCATION:Gym Studio\, Saint Vincent and The Grenadines
CATEGORIES:Sport / Wellness
ATTACH;FMTTYPE=image/jpeg:https://mustique.life/wp-content/uploads/2024/03/Gentle-Yoga_GymStudio.jpg
END:VEVENT
BEGIN:VEVENT
DTSTART;TZID=America/St_Vincent:20260412T070000
DTEND;TZID=America/St_Vincent:20260412T190000
DTSTAMP:20260419T112343
CREATED:20251222T123041Z
LAST-MODIFIED:20260416T155054Z
UID:10023510-1775977200-1776020400@mustique.life
SUMMARY:Private Personal Training and Yoga
DESCRIPTION:ALL BOOKINGS FOR GYM TIME SLOTS\, PRIVATE SESSIONS AND CLASSES MUST BE MADE IN ADVANCE BY CALLING EXT: 8920 OR BY EMAIL: YOGAFITNESS@COTTONHOUSE.NET
URL:https://mustique.life/event/private-personal-training-and-yoga/2026-04-12/
LOCATION:Gym Studio\, Saint Vincent and The Grenadines
CATEGORIES:Sport / Wellness
ATTACH;FMTTYPE=image/jpeg:https://mustique.life/wp-content/uploads/2024/03/Gentle-Yoga_GymStudio.jpg
END:VEVENT
BEGIN:VEVENT
DTSTART;TZID=America/St_Vincent:20260411T150000
DTEND;TZID=America/St_Vincent:20260411T160000
DTSTAMP:20260419T112343
CREATED:20260320T033104Z
LAST-MODIFIED:20260416T172239Z
UID:10017744-1775919600-1775923200@mustique.life
SUMMARY:Adult Kickboxing
DESCRIPTION:Stronger body. Sharper mind. Unleash your power with Kickboxing with the Gym team \nSaturday \n3:00pm \nGym Studio \nALL BOOKINGS FOR GYM TIME SLOTS\, PRIVATE SESSIONS AND CLASSES MUST BE MADE IN ADVANCE BY CALLING EXT: 8920 OR BY EMAIL: YOGAFITNESS@COTTONHOUSE.NET \n 
URL:https://mustique.life/event/kickboxing-2/2026-04-11/
LOCATION:Gym Studio\, Saint Vincent and The Grenadines
CATEGORIES:Sport / Wellness
ATTACH;FMTTYPE=image/jpeg:https://mustique.life/wp-content/uploads/2024/03/Gentle-Yoga_GymStudio.jpg
END:VEVENT
BEGIN:VEVENT
DTSTART;TZID=America/St_Vincent:20260411T070000
DTEND;TZID=America/St_Vincent:20260411T190000
DTSTAMP:20260419T112343
CREATED:20251222T123041Z
LAST-MODIFIED:20260416T155054Z
UID:10023509-1775890800-1775934000@mustique.life
SUMMARY:Private Personal Training and Yoga
DESCRIPTION:ALL BOOKINGS FOR GYM TIME SLOTS\, PRIVATE SESSIONS AND CLASSES MUST BE MADE IN ADVANCE BY CALLING EXT: 8920 OR BY EMAIL: YOGAFITNESS@COTTONHOUSE.NET
URL:https://mustique.life/event/private-personal-training-and-yoga/2026-04-11/
LOCATION:Gym Studio\, Saint Vincent and The Grenadines
CATEGORIES:Sport / Wellness
ATTACH;FMTTYPE=image/jpeg:https://mustique.life/wp-content/uploads/2024/03/Gentle-Yoga_GymStudio.jpg
END:VEVENT
BEGIN:VEVENT
DTSTART;TZID=America/St_Vincent:20260410T070000
DTEND;TZID=America/St_Vincent:20260410T190000
DTSTAMP:20260419T112343
CREATED:20251222T123041Z
LAST-MODIFIED:20260416T155054Z
UID:10023508-1775804400-1775847600@mustique.life
SUMMARY:Private Personal Training and Yoga
DESCRIPTION:ALL BOOKINGS FOR GYM TIME SLOTS\, PRIVATE SESSIONS AND CLASSES MUST BE MADE IN ADVANCE BY CALLING EXT: 8920 OR BY EMAIL: YOGAFITNESS@COTTONHOUSE.NET
URL:https://mustique.life/event/private-personal-training-and-yoga/2026-04-10/
LOCATION:Gym Studio\, Saint Vincent and The Grenadines
CATEGORIES:Sport / Wellness
ATTACH;FMTTYPE=image/jpeg:https://mustique.life/wp-content/uploads/2024/03/Gentle-Yoga_GymStudio.jpg
END:VEVENT
BEGIN:VEVENT
DTSTART;TZID=America/St_Vincent:20260409T100000
DTEND;TZID=America/St_Vincent:20260409T110000
DTSTAMP:20260419T112343
CREATED:20260319T033103Z
LAST-MODIFIED:20260320T183147Z
UID:10017722-1775728800-1775732400@mustique.life
SUMMARY:Pilates
DESCRIPTION:Join the gym team at the Gym Studio for an hour of pilates workouts that focus on control\, balance\, and breath.Feel strong\, centered\, and unstoppable! \nMonday – Friday \n10:00am – 11:00am \nALL BOOKINGS FOR GYM TIME SLOTS\, PRIVATE SESSIONS AND CLASSES MUST BE MADE IN ADVANCE BY CALLING EXT: 8920 OR BY EMAIL: YOGAFITNESS@COTTONHOUSE.NET \n 
URL:https://mustique.life/event/pilates/2026-04-09/
LOCATION:Gym Studio\, Saint Vincent and The Grenadines
CATEGORIES:Sport / Wellness
ATTACH;FMTTYPE=image/jpeg:https://mustique.life/wp-content/uploads/2024/01/images.jpg
END:VEVENT
BEGIN:VEVENT
DTSTART;TZID=America/St_Vincent:20260409T070000
DTEND;TZID=America/St_Vincent:20260409T190000
DTSTAMP:20260419T112343
CREATED:20251222T123041Z
LAST-MODIFIED:20260416T155054Z
UID:10023507-1775718000-1775761200@mustique.life
SUMMARY:Private Personal Training and Yoga
DESCRIPTION:ALL BOOKINGS FOR GYM TIME SLOTS\, PRIVATE SESSIONS AND CLASSES MUST BE MADE IN ADVANCE BY CALLING EXT: 8920 OR BY EMAIL: YOGAFITNESS@COTTONHOUSE.NET
URL:https://mustique.life/event/private-personal-training-and-yoga/2026-04-09/
LOCATION:Gym Studio\, Saint Vincent and The Grenadines
CATEGORIES:Sport / Wellness
ATTACH;FMTTYPE=image/jpeg:https://mustique.life/wp-content/uploads/2024/03/Gentle-Yoga_GymStudio.jpg
END:VEVENT
BEGIN:VEVENT
DTSTART;TZID=America/St_Vincent:20260408T100000
DTEND;TZID=America/St_Vincent:20260408T110000
DTSTAMP:20260419T112343
CREATED:20260319T033103Z
LAST-MODIFIED:20260320T183147Z
UID:10017721-1775642400-1775646000@mustique.life
SUMMARY:Pilates
DESCRIPTION:Join the gym team at the Gym Studio for an hour of pilates workouts that focus on control\, balance\, and breath.Feel strong\, centered\, and unstoppable! \nMonday – Friday \n10:00am – 11:00am \nALL BOOKINGS FOR GYM TIME SLOTS\, PRIVATE SESSIONS AND CLASSES MUST BE MADE IN ADVANCE BY CALLING EXT: 8920 OR BY EMAIL: YOGAFITNESS@COTTONHOUSE.NET \n 
URL:https://mustique.life/event/pilates/2026-04-08/
LOCATION:Gym Studio\, Saint Vincent and The Grenadines
CATEGORIES:Sport / Wellness
ATTACH;FMTTYPE=image/jpeg:https://mustique.life/wp-content/uploads/2024/01/images.jpg
END:VEVENT
BEGIN:VEVENT
DTSTART;TZID=America/St_Vincent:20260408T070000
DTEND;TZID=America/St_Vincent:20260408T190000
DTSTAMP:20260419T112343
CREATED:20251222T123041Z
LAST-MODIFIED:20260416T155054Z
UID:10023506-1775631600-1775674800@mustique.life
SUMMARY:Private Personal Training and Yoga
DESCRIPTION:ALL BOOKINGS FOR GYM TIME SLOTS\, PRIVATE SESSIONS AND CLASSES MUST BE MADE IN ADVANCE BY CALLING EXT: 8920 OR BY EMAIL: YOGAFITNESS@COTTONHOUSE.NET
URL:https://mustique.life/event/private-personal-training-and-yoga/2026-04-08/
LOCATION:Gym Studio\, Saint Vincent and The Grenadines
CATEGORIES:Sport / Wellness
ATTACH;FMTTYPE=image/jpeg:https://mustique.life/wp-content/uploads/2024/03/Gentle-Yoga_GymStudio.jpg
END:VEVENT
BEGIN:VEVENT
DTSTART;TZID=America/St_Vincent:20260407T160000
DTEND;TZID=America/St_Vincent:20260407T170000
DTSTAMP:20260419T112343
CREATED:20260320T185727Z
LAST-MODIFIED:20260320T185727Z
UID:10017749-1775577600-1775581200@mustique.life
SUMMARY:Body Pump
DESCRIPTION:Let the Gym team to transform your body and boost your strength with Body Pump;  high-energy workouts\, motivating music and fgymull-body results. \nTuesdays \n4:00pm – 5:00pm \nGym Studio \nALL BOOKINGS FOR GYM TIME SLOTS\, PRIVATE SESSIONS AND CLASSES MUST BE MADE IN ADVANCE BY CALLING EXT: 8920 OR BY EMAIL: YOGAFITNESS@COTTONHOUSE.NET
URL:https://mustique.life/event/body-pump/2026-04-07/
LOCATION:Gym Studio\, Saint Vincent and The Grenadines
CATEGORIES:Sport / Wellness
ATTACH;FMTTYPE=image/jpeg:https://mustique.life/wp-content/uploads/2024/03/Gentle-Yoga_GymStudio.jpg
END:VEVENT
BEGIN:VEVENT
DTSTART;TZID=America/St_Vincent:20260407T100000
DTEND;TZID=America/St_Vincent:20260407T110000
DTSTAMP:20260419T112343
CREATED:20260319T033103Z
LAST-MODIFIED:20260320T183147Z
UID:10017720-1775556000-1775559600@mustique.life
SUMMARY:Pilates
DESCRIPTION:Join the gym team at the Gym Studio for an hour of pilates workouts that focus on control\, balance\, and breath.Feel strong\, centered\, and unstoppable! \nMonday – Friday \n10:00am – 11:00am \nALL BOOKINGS FOR GYM TIME SLOTS\, PRIVATE SESSIONS AND CLASSES MUST BE MADE IN ADVANCE BY CALLING EXT: 8920 OR BY EMAIL: YOGAFITNESS@COTTONHOUSE.NET \n 
URL:https://mustique.life/event/pilates/2026-04-07/
LOCATION:Gym Studio\, Saint Vincent and The Grenadines
CATEGORIES:Sport / Wellness
ATTACH;FMTTYPE=image/jpeg:https://mustique.life/wp-content/uploads/2024/01/images.jpg
END:VEVENT
BEGIN:VEVENT
DTSTART;TZID=America/St_Vincent:20260407T070000
DTEND;TZID=America/St_Vincent:20260407T190000
DTSTAMP:20260419T112343
CREATED:20251222T123041Z
LAST-MODIFIED:20260416T155054Z
UID:10023505-1775545200-1775588400@mustique.life
SUMMARY:Private Personal Training and Yoga
DESCRIPTION:ALL BOOKINGS FOR GYM TIME SLOTS\, PRIVATE SESSIONS AND CLASSES MUST BE MADE IN ADVANCE BY CALLING EXT: 8920 OR BY EMAIL: YOGAFITNESS@COTTONHOUSE.NET
URL:https://mustique.life/event/private-personal-training-and-yoga/2026-04-07/
LOCATION:Gym Studio\, Saint Vincent and The Grenadines
CATEGORIES:Sport / Wellness
ATTACH;FMTTYPE=image/jpeg:https://mustique.life/wp-content/uploads/2024/03/Gentle-Yoga_GymStudio.jpg
END:VEVENT
BEGIN:VEVENT
DTSTART;TZID=America/St_Vincent:20260406T100000
DTEND;TZID=America/St_Vincent:20260406T110000
DTSTAMP:20260419T112343
CREATED:20260319T033103Z
LAST-MODIFIED:20260320T183147Z
UID:10017719-1775469600-1775473200@mustique.life
SUMMARY:Pilates
DESCRIPTION:Join the gym team at the Gym Studio for an hour of pilates workouts that focus on control\, balance\, and breath.Feel strong\, centered\, and unstoppable! \nMonday – Friday \n10:00am – 11:00am \nALL BOOKINGS FOR GYM TIME SLOTS\, PRIVATE SESSIONS AND CLASSES MUST BE MADE IN ADVANCE BY CALLING EXT: 8920 OR BY EMAIL: YOGAFITNESS@COTTONHOUSE.NET \n 
URL:https://mustique.life/event/pilates/2026-04-06/
LOCATION:Gym Studio\, Saint Vincent and The Grenadines
CATEGORIES:Sport / Wellness
ATTACH;FMTTYPE=image/jpeg:https://mustique.life/wp-content/uploads/2024/01/images.jpg
END:VEVENT
BEGIN:VEVENT
DTSTART;TZID=America/St_Vincent:20260406T070000
DTEND;TZID=America/St_Vincent:20260406T190000
DTSTAMP:20260419T112343
CREATED:20251222T123041Z
LAST-MODIFIED:20260416T155054Z
UID:10023504-1775458800-1775502000@mustique.life
SUMMARY:Private Personal Training and Yoga
DESCRIPTION:ALL BOOKINGS FOR GYM TIME SLOTS\, PRIVATE SESSIONS AND CLASSES MUST BE MADE IN ADVANCE BY CALLING EXT: 8920 OR BY EMAIL: YOGAFITNESS@COTTONHOUSE.NET
URL:https://mustique.life/event/private-personal-training-and-yoga/2026-04-06/
LOCATION:Gym Studio\, Saint Vincent and The Grenadines
CATEGORIES:Sport / Wellness
ATTACH;FMTTYPE=image/jpeg:https://mustique.life/wp-content/uploads/2024/03/Gentle-Yoga_GymStudio.jpg
END:VEVENT
BEGIN:VEVENT
DTSTART;TZID=America/St_Vincent:20260405T070000
DTEND;TZID=America/St_Vincent:20260405T190000
DTSTAMP:20260419T112343
CREATED:20251222T123041Z
LAST-MODIFIED:20260416T155054Z
UID:10023503-1775372400-1775415600@mustique.life
SUMMARY:Private Personal Training and Yoga
DESCRIPTION:ALL BOOKINGS FOR GYM TIME SLOTS\, PRIVATE SESSIONS AND CLASSES MUST BE MADE IN ADVANCE BY CALLING EXT: 8920 OR BY EMAIL: YOGAFITNESS@COTTONHOUSE.NET
URL:https://mustique.life/event/private-personal-training-and-yoga/2026-04-05/
LOCATION:Gym Studio\, Saint Vincent and The Grenadines
CATEGORIES:Sport / Wellness
ATTACH;FMTTYPE=image/jpeg:https://mustique.life/wp-content/uploads/2024/03/Gentle-Yoga_GymStudio.jpg
END:VEVENT
BEGIN:VEVENT
DTSTART;TZID=America/St_Vincent:20260404T150000
DTEND;TZID=America/St_Vincent:20260404T160000
DTSTAMP:20260419T112343
CREATED:20260320T033104Z
LAST-MODIFIED:20260416T172239Z
UID:10017743-1775314800-1775318400@mustique.life
SUMMARY:Adult Kickboxing
DESCRIPTION:Stronger body. Sharper mind. Unleash your power with Kickboxing with the Gym team \nSaturday \n3:00pm \nGym Studio \nALL BOOKINGS FOR GYM TIME SLOTS\, PRIVATE SESSIONS AND CLASSES MUST BE MADE IN ADVANCE BY CALLING EXT: 8920 OR BY EMAIL: YOGAFITNESS@COTTONHOUSE.NET \n 
URL:https://mustique.life/event/kickboxing-2/2026-04-04/
LOCATION:Gym Studio\, Saint Vincent and The Grenadines
CATEGORIES:Sport / Wellness
ATTACH;FMTTYPE=image/jpeg:https://mustique.life/wp-content/uploads/2024/03/Gentle-Yoga_GymStudio.jpg
END:VEVENT
BEGIN:VEVENT
DTSTART;TZID=America/St_Vincent:20260404T070000
DTEND;TZID=America/St_Vincent:20260404T190000
DTSTAMP:20260419T112343
CREATED:20251222T123041Z
LAST-MODIFIED:20260416T155054Z
UID:10023502-1775286000-1775329200@mustique.life
SUMMARY:Private Personal Training and Yoga
DESCRIPTION:ALL BOOKINGS FOR GYM TIME SLOTS\, PRIVATE SESSIONS AND CLASSES MUST BE MADE IN ADVANCE BY CALLING EXT: 8920 OR BY EMAIL: YOGAFITNESS@COTTONHOUSE.NET
URL:https://mustique.life/event/private-personal-training-and-yoga/2026-04-04/
LOCATION:Gym Studio\, Saint Vincent and The Grenadines
CATEGORIES:Sport / Wellness
ATTACH;FMTTYPE=image/jpeg:https://mustique.life/wp-content/uploads/2024/03/Gentle-Yoga_GymStudio.jpg
END:VEVENT
BEGIN:VEVENT
DTSTART;TZID=America/St_Vincent:20260403T100000
DTEND;TZID=America/St_Vincent:20260403T110000
DTSTAMP:20260419T112343
CREATED:20260319T033103Z
LAST-MODIFIED:20260320T183147Z
UID:10017718-1775210400-1775214000@mustique.life
SUMMARY:Pilates
DESCRIPTION:Join the gym team at the Gym Studio for an hour of pilates workouts that focus on control\, balance\, and breath.Feel strong\, centered\, and unstoppable! \nMonday – Friday \n10:00am – 11:00am \nALL BOOKINGS FOR GYM TIME SLOTS\, PRIVATE SESSIONS AND CLASSES MUST BE MADE IN ADVANCE BY CALLING EXT: 8920 OR BY EMAIL: YOGAFITNESS@COTTONHOUSE.NET \n 
URL:https://mustique.life/event/pilates/2026-04-03/
LOCATION:Gym Studio\, Saint Vincent and The Grenadines
CATEGORIES:Sport / Wellness
ATTACH;FMTTYPE=image/jpeg:https://mustique.life/wp-content/uploads/2024/01/images.jpg
END:VEVENT
BEGIN:VEVENT
DTSTART;TZID=America/St_Vincent:20260403T070000
DTEND;TZID=America/St_Vincent:20260403T190000
DTSTAMP:20260419T112343
CREATED:20251222T123041Z
LAST-MODIFIED:20260416T155054Z
UID:10023501-1775199600-1775242800@mustique.life
SUMMARY:Private Personal Training and Yoga
DESCRIPTION:ALL BOOKINGS FOR GYM TIME SLOTS\, PRIVATE SESSIONS AND CLASSES MUST BE MADE IN ADVANCE BY CALLING EXT: 8920 OR BY EMAIL: YOGAFITNESS@COTTONHOUSE.NET
URL:https://mustique.life/event/private-personal-training-and-yoga/2026-04-03/
LOCATION:Gym Studio\, Saint Vincent and The Grenadines
CATEGORIES:Sport / Wellness
ATTACH;FMTTYPE=image/jpeg:https://mustique.life/wp-content/uploads/2024/03/Gentle-Yoga_GymStudio.jpg
END:VEVENT
BEGIN:VEVENT
DTSTART;TZID=America/St_Vincent:20260402T100000
DTEND;TZID=America/St_Vincent:20260402T110000
DTSTAMP:20260419T112343
CREATED:20260319T033103Z
LAST-MODIFIED:20260320T183147Z
UID:10017717-1775124000-1775127600@mustique.life
SUMMARY:Pilates
DESCRIPTION:Join the gym team at the Gym Studio for an hour of pilates workouts that focus on control\, balance\, and breath.Feel strong\, centered\, and unstoppable! \nMonday – Friday \n10:00am – 11:00am \nALL BOOKINGS FOR GYM TIME SLOTS\, PRIVATE SESSIONS AND CLASSES MUST BE MADE IN ADVANCE BY CALLING EXT: 8920 OR BY EMAIL: YOGAFITNESS@COTTONHOUSE.NET \n 
URL:https://mustique.life/event/pilates/2026-04-02/
LOCATION:Gym Studio\, Saint Vincent and The Grenadines
CATEGORIES:Sport / Wellness
ATTACH;FMTTYPE=image/jpeg:https://mustique.life/wp-content/uploads/2024/01/images.jpg
END:VEVENT
BEGIN:VEVENT
DTSTART;TZID=America/St_Vincent:20260402T070000
DTEND;TZID=America/St_Vincent:20260402T190000
DTSTAMP:20260419T112343
CREATED:20251222T123041Z
LAST-MODIFIED:20260416T155054Z
UID:10023500-1775113200-1775156400@mustique.life
SUMMARY:Private Personal Training and Yoga
DESCRIPTION:ALL BOOKINGS FOR GYM TIME SLOTS\, PRIVATE SESSIONS AND CLASSES MUST BE MADE IN ADVANCE BY CALLING EXT: 8920 OR BY EMAIL: YOGAFITNESS@COTTONHOUSE.NET
URL:https://mustique.life/event/private-personal-training-and-yoga/2026-04-02/
LOCATION:Gym Studio\, Saint Vincent and The Grenadines
CATEGORIES:Sport / Wellness
ATTACH;FMTTYPE=image/jpeg:https://mustique.life/wp-content/uploads/2024/03/Gentle-Yoga_GymStudio.jpg
END:VEVENT
END:VCALENDAR