BEGIN:VCALENDAR
VERSION:2.0
PRODID:-//Mustique Events - Calendar - ECPv6.15.17.1//NONSGML v1.0//EN
CALSCALE:GREGORIAN
METHOD:PUBLISH
X-ORIGINAL-URL:https://mustique.life
X-WR-CALDESC:Events for Mustique Events - Calendar
REFRESH-INTERVAL;VALUE=DURATION:PT1H
X-Robots-Tag:noindex
X-PUBLISHED-TTL:PT1H
BEGIN:VTIMEZONE
TZID:America/St_Vincent
BEGIN:STANDARD
TZOFFSETFROM:-0400
TZOFFSETTO:-0400
TZNAME:AST
DTSTART:20250101T000000
END:STANDARD
END:VTIMEZONE
BEGIN:VEVENT
DTSTART;TZID=America/St_Vincent:20260420T170000
DTEND;TZID=America/St_Vincent:20260420T180000
DTSTAMP:20260419T094914
CREATED:20250819T140612Z
LAST-MODIFIED:20260320T185126Z
UID:10012899-1776704400-1776708000@mustique.life
SUMMARY:Rum Tasting Masterclass
DESCRIPTION:Learn the finer points of rum with a tasting in the Great Room at the Cotton House \nYou must pre-register for this event by midday on Monday at the latest. \nPlease pre-book by calling the Cotton House reception on 8250
URL:https://mustique.life/event/rum-tasting-masterclass/2026-04-20/
LOCATION:Great Room
CATEGORIES:Entertainment
ATTACH;FMTTYPE=image/jpeg:https://mustique.life/wp-content/uploads/2022/03/Rum-tasting.jpg
END:VEVENT
BEGIN:VEVENT
DTSTART;TZID=America/St_Vincent:20260421T190000
DTEND;TZID=America/St_Vincent:20260421T203000
DTSTAMP:20260419T094914
CREATED:20250819T140725Z
LAST-MODIFIED:20251003T132136Z
UID:10012946-1776798000-1776803400@mustique.life
SUMMARY:The Mustique Company Cocktail Party
DESCRIPTION:Join other guests for a cocktail in the Great Room at The Cotton House from 7 to 8.30pm. \nBy invitation only.
URL:https://mustique.life/event/the-mustique-company-cocktail-party/2026-04-21/
LOCATION:Great Room
CATEGORIES:Entertainment
ATTACH;FMTTYPE=image/jpeg:https://mustique.life/wp-content/uploads/2022/04/untitled-3258.jpg
END:VEVENT
BEGIN:VEVENT
DTSTART;TZID=America/St_Vincent:20260427T170000
DTEND;TZID=America/St_Vincent:20260427T180000
DTSTAMP:20260419T094914
CREATED:20250819T140612Z
LAST-MODIFIED:20260320T185126Z
UID:10012900-1777309200-1777312800@mustique.life
SUMMARY:Rum Tasting Masterclass
DESCRIPTION:Learn the finer points of rum with a tasting in the Great Room at the Cotton House \nYou must pre-register for this event by midday on Monday at the latest. \nPlease pre-book by calling the Cotton House reception on 8250
URL:https://mustique.life/event/rum-tasting-masterclass/2026-04-27/
LOCATION:Great Room
CATEGORIES:Entertainment
ATTACH;FMTTYPE=image/jpeg:https://mustique.life/wp-content/uploads/2022/03/Rum-tasting.jpg
END:VEVENT
BEGIN:VEVENT
DTSTART;TZID=America/St_Vincent:20260428T190000
DTEND;TZID=America/St_Vincent:20260428T203000
DTSTAMP:20260419T094914
CREATED:20250819T140725Z
LAST-MODIFIED:20251003T132136Z
UID:10012947-1777402800-1777408200@mustique.life
SUMMARY:The Mustique Company Cocktail Party
DESCRIPTION:Join other guests for a cocktail in the Great Room at The Cotton House from 7 to 8.30pm. \nBy invitation only.
URL:https://mustique.life/event/the-mustique-company-cocktail-party/2026-04-28/
LOCATION:Great Room
CATEGORIES:Entertainment
ATTACH;FMTTYPE=image/jpeg:https://mustique.life/wp-content/uploads/2022/04/untitled-3258.jpg
END:VEVENT
BEGIN:VEVENT
DTSTART;TZID=America/St_Vincent:20260504T170000
DTEND;TZID=America/St_Vincent:20260504T180000
DTSTAMP:20260419T094914
CREATED:20250819T140612Z
LAST-MODIFIED:20260320T185126Z
UID:10012901-1777914000-1777917600@mustique.life
SUMMARY:Rum Tasting Masterclass
DESCRIPTION:Learn the finer points of rum with a tasting in the Great Room at the Cotton House \nYou must pre-register for this event by midday on Monday at the latest. \nPlease pre-book by calling the Cotton House reception on 8250
URL:https://mustique.life/event/rum-tasting-masterclass/2026-05-04/
LOCATION:Great Room
CATEGORIES:Entertainment
ATTACH;FMTTYPE=image/jpeg:https://mustique.life/wp-content/uploads/2022/03/Rum-tasting.jpg
END:VEVENT
BEGIN:VEVENT
DTSTART;TZID=America/St_Vincent:20260505T190000
DTEND;TZID=America/St_Vincent:20260505T203000
DTSTAMP:20260419T094914
CREATED:20250819T140725Z
LAST-MODIFIED:20251003T132136Z
UID:10012948-1778007600-1778013000@mustique.life
SUMMARY:The Mustique Company Cocktail Party
DESCRIPTION:Join other guests for a cocktail in the Great Room at The Cotton House from 7 to 8.30pm. \nBy invitation only.
URL:https://mustique.life/event/the-mustique-company-cocktail-party/2026-05-05/
LOCATION:Great Room
CATEGORIES:Entertainment
ATTACH;FMTTYPE=image/jpeg:https://mustique.life/wp-content/uploads/2022/04/untitled-3258.jpg
END:VEVENT
BEGIN:VEVENT
DTSTART;TZID=America/St_Vincent:20260511T170000
DTEND;TZID=America/St_Vincent:20260511T180000
DTSTAMP:20260419T094914
CREATED:20250819T140612Z
LAST-MODIFIED:20260320T185126Z
UID:10012902-1778518800-1778522400@mustique.life
SUMMARY:Rum Tasting Masterclass
DESCRIPTION:Learn the finer points of rum with a tasting in the Great Room at the Cotton House \nYou must pre-register for this event by midday on Monday at the latest. \nPlease pre-book by calling the Cotton House reception on 8250
URL:https://mustique.life/event/rum-tasting-masterclass/2026-05-11/
LOCATION:Great Room
CATEGORIES:Entertainment
ATTACH;FMTTYPE=image/jpeg:https://mustique.life/wp-content/uploads/2022/03/Rum-tasting.jpg
END:VEVENT
BEGIN:VEVENT
DTSTART;TZID=America/St_Vincent:20260512T190000
DTEND;TZID=America/St_Vincent:20260512T203000
DTSTAMP:20260419T094914
CREATED:20250819T140725Z
LAST-MODIFIED:20251003T132136Z
UID:10012949-1778612400-1778617800@mustique.life
SUMMARY:The Mustique Company Cocktail Party
DESCRIPTION:Join other guests for a cocktail in the Great Room at The Cotton House from 7 to 8.30pm. \nBy invitation only.
URL:https://mustique.life/event/the-mustique-company-cocktail-party/2026-05-12/
LOCATION:Great Room
CATEGORIES:Entertainment
ATTACH;FMTTYPE=image/jpeg:https://mustique.life/wp-content/uploads/2022/04/untitled-3258.jpg
END:VEVENT
BEGIN:VEVENT
DTSTART;TZID=America/St_Vincent:20260518T170000
DTEND;TZID=America/St_Vincent:20260518T180000
DTSTAMP:20260419T094914
CREATED:20250819T140612Z
LAST-MODIFIED:20260320T185126Z
UID:10012903-1779123600-1779127200@mustique.life
SUMMARY:Rum Tasting Masterclass
DESCRIPTION:Learn the finer points of rum with a tasting in the Great Room at the Cotton House \nYou must pre-register for this event by midday on Monday at the latest. \nPlease pre-book by calling the Cotton House reception on 8250
URL:https://mustique.life/event/rum-tasting-masterclass/2026-05-18/
LOCATION:Great Room
CATEGORIES:Entertainment
ATTACH;FMTTYPE=image/jpeg:https://mustique.life/wp-content/uploads/2022/03/Rum-tasting.jpg
END:VEVENT
BEGIN:VEVENT
DTSTART;TZID=America/St_Vincent:20260519T190000
DTEND;TZID=America/St_Vincent:20260519T203000
DTSTAMP:20260419T094914
CREATED:20250819T140725Z
LAST-MODIFIED:20251003T132136Z
UID:10012950-1779217200-1779222600@mustique.life
SUMMARY:The Mustique Company Cocktail Party
DESCRIPTION:Join other guests for a cocktail in the Great Room at The Cotton House from 7 to 8.30pm. \nBy invitation only.
URL:https://mustique.life/event/the-mustique-company-cocktail-party/2026-05-19/
LOCATION:Great Room
CATEGORIES:Entertainment
ATTACH;FMTTYPE=image/jpeg:https://mustique.life/wp-content/uploads/2022/04/untitled-3258.jpg
END:VEVENT
BEGIN:VEVENT
DTSTART;TZID=America/St_Vincent:20260525T170000
DTEND;TZID=America/St_Vincent:20260525T180000
DTSTAMP:20260419T094914
CREATED:20250819T140612Z
LAST-MODIFIED:20260320T185126Z
UID:10012904-1779728400-1779732000@mustique.life
SUMMARY:Rum Tasting Masterclass
DESCRIPTION:Learn the finer points of rum with a tasting in the Great Room at the Cotton House \nYou must pre-register for this event by midday on Monday at the latest. \nPlease pre-book by calling the Cotton House reception on 8250
URL:https://mustique.life/event/rum-tasting-masterclass/2026-05-25/
LOCATION:Great Room
CATEGORIES:Entertainment
ATTACH;FMTTYPE=image/jpeg:https://mustique.life/wp-content/uploads/2022/03/Rum-tasting.jpg
END:VEVENT
BEGIN:VEVENT
DTSTART;TZID=America/St_Vincent:20260526T190000
DTEND;TZID=America/St_Vincent:20260526T203000
DTSTAMP:20260419T094914
CREATED:20250819T140725Z
LAST-MODIFIED:20251003T132136Z
UID:10012951-1779822000-1779827400@mustique.life
SUMMARY:The Mustique Company Cocktail Party
DESCRIPTION:Join other guests for a cocktail in the Great Room at The Cotton House from 7 to 8.30pm. \nBy invitation only.
URL:https://mustique.life/event/the-mustique-company-cocktail-party/2026-05-26/
LOCATION:Great Room
CATEGORIES:Entertainment
ATTACH;FMTTYPE=image/jpeg:https://mustique.life/wp-content/uploads/2022/04/untitled-3258.jpg
END:VEVENT
BEGIN:VEVENT
DTSTART;TZID=America/St_Vincent:20260601T170000
DTEND;TZID=America/St_Vincent:20260601T180000
DTSTAMP:20260419T094914
CREATED:20250819T140612Z
LAST-MODIFIED:20260320T185126Z
UID:10012905-1780333200-1780336800@mustique.life
SUMMARY:Rum Tasting Masterclass
DESCRIPTION:Learn the finer points of rum with a tasting in the Great Room at the Cotton House \nYou must pre-register for this event by midday on Monday at the latest. \nPlease pre-book by calling the Cotton House reception on 8250
URL:https://mustique.life/event/rum-tasting-masterclass/2026-06-01/
LOCATION:Great Room
CATEGORIES:Entertainment
ATTACH;FMTTYPE=image/jpeg:https://mustique.life/wp-content/uploads/2022/03/Rum-tasting.jpg
END:VEVENT
BEGIN:VEVENT
DTSTART;TZID=America/St_Vincent:20260602T190000
DTEND;TZID=America/St_Vincent:20260602T203000
DTSTAMP:20260419T094914
CREATED:20250819T140725Z
LAST-MODIFIED:20251003T132136Z
UID:10012952-1780426800-1780432200@mustique.life
SUMMARY:The Mustique Company Cocktail Party
DESCRIPTION:Join other guests for a cocktail in the Great Room at The Cotton House from 7 to 8.30pm. \nBy invitation only.
URL:https://mustique.life/event/the-mustique-company-cocktail-party/2026-06-02/
LOCATION:Great Room
CATEGORIES:Entertainment
ATTACH;FMTTYPE=image/jpeg:https://mustique.life/wp-content/uploads/2022/04/untitled-3258.jpg
END:VEVENT
BEGIN:VEVENT
DTSTART;TZID=America/St_Vincent:20260608T170000
DTEND;TZID=America/St_Vincent:20260608T180000
DTSTAMP:20260419T094914
CREATED:20250819T140612Z
LAST-MODIFIED:20260320T185126Z
UID:10012906-1780938000-1780941600@mustique.life
SUMMARY:Rum Tasting Masterclass
DESCRIPTION:Learn the finer points of rum with a tasting in the Great Room at the Cotton House \nYou must pre-register for this event by midday on Monday at the latest. \nPlease pre-book by calling the Cotton House reception on 8250
URL:https://mustique.life/event/rum-tasting-masterclass/2026-06-08/
LOCATION:Great Room
CATEGORIES:Entertainment
ATTACH;FMTTYPE=image/jpeg:https://mustique.life/wp-content/uploads/2022/03/Rum-tasting.jpg
END:VEVENT
BEGIN:VEVENT
DTSTART;TZID=America/St_Vincent:20260609T190000
DTEND;TZID=America/St_Vincent:20260609T203000
DTSTAMP:20260419T094914
CREATED:20250819T140725Z
LAST-MODIFIED:20251003T132136Z
UID:10012953-1781031600-1781037000@mustique.life
SUMMARY:The Mustique Company Cocktail Party
DESCRIPTION:Join other guests for a cocktail in the Great Room at The Cotton House from 7 to 8.30pm. \nBy invitation only.
URL:https://mustique.life/event/the-mustique-company-cocktail-party/2026-06-09/
LOCATION:Great Room
CATEGORIES:Entertainment
ATTACH;FMTTYPE=image/jpeg:https://mustique.life/wp-content/uploads/2022/04/untitled-3258.jpg
END:VEVENT
BEGIN:VEVENT
DTSTART;TZID=America/St_Vincent:20260615T170000
DTEND;TZID=America/St_Vincent:20260615T180000
DTSTAMP:20260419T094914
CREATED:20250819T140612Z
LAST-MODIFIED:20260320T185126Z
UID:10012907-1781542800-1781546400@mustique.life
SUMMARY:Rum Tasting Masterclass
DESCRIPTION:Learn the finer points of rum with a tasting in the Great Room at the Cotton House \nYou must pre-register for this event by midday on Monday at the latest. \nPlease pre-book by calling the Cotton House reception on 8250
URL:https://mustique.life/event/rum-tasting-masterclass/2026-06-15/
LOCATION:Great Room
CATEGORIES:Entertainment
ATTACH;FMTTYPE=image/jpeg:https://mustique.life/wp-content/uploads/2022/03/Rum-tasting.jpg
END:VEVENT
BEGIN:VEVENT
DTSTART;TZID=America/St_Vincent:20260616T190000
DTEND;TZID=America/St_Vincent:20260616T203000
DTSTAMP:20260419T094914
CREATED:20250819T140725Z
LAST-MODIFIED:20251003T132136Z
UID:10012954-1781636400-1781641800@mustique.life
SUMMARY:The Mustique Company Cocktail Party
DESCRIPTION:Join other guests for a cocktail in the Great Room at The Cotton House from 7 to 8.30pm. \nBy invitation only.
URL:https://mustique.life/event/the-mustique-company-cocktail-party/2026-06-16/
LOCATION:Great Room
CATEGORIES:Entertainment
ATTACH;FMTTYPE=image/jpeg:https://mustique.life/wp-content/uploads/2022/04/untitled-3258.jpg
END:VEVENT
BEGIN:VEVENT
DTSTART;TZID=America/St_Vincent:20260622T170000
DTEND;TZID=America/St_Vincent:20260622T180000
DTSTAMP:20260419T094914
CREATED:20250819T140612Z
LAST-MODIFIED:20260320T185126Z
UID:10012908-1782147600-1782151200@mustique.life
SUMMARY:Rum Tasting Masterclass
DESCRIPTION:Learn the finer points of rum with a tasting in the Great Room at the Cotton House \nYou must pre-register for this event by midday on Monday at the latest. \nPlease pre-book by calling the Cotton House reception on 8250
URL:https://mustique.life/event/rum-tasting-masterclass/2026-06-22/
LOCATION:Great Room
CATEGORIES:Entertainment
ATTACH;FMTTYPE=image/jpeg:https://mustique.life/wp-content/uploads/2022/03/Rum-tasting.jpg
END:VEVENT
BEGIN:VEVENT
DTSTART;TZID=America/St_Vincent:20260623T190000
DTEND;TZID=America/St_Vincent:20260623T203000
DTSTAMP:20260419T094914
CREATED:20250819T140725Z
LAST-MODIFIED:20251003T132136Z
UID:10012955-1782241200-1782246600@mustique.life
SUMMARY:The Mustique Company Cocktail Party
DESCRIPTION:Join other guests for a cocktail in the Great Room at The Cotton House from 7 to 8.30pm. \nBy invitation only.
URL:https://mustique.life/event/the-mustique-company-cocktail-party/2026-06-23/
LOCATION:Great Room
CATEGORIES:Entertainment
ATTACH;FMTTYPE=image/jpeg:https://mustique.life/wp-content/uploads/2022/04/untitled-3258.jpg
END:VEVENT
BEGIN:VEVENT
DTSTART;TZID=America/St_Vincent:20260629T170000
DTEND;TZID=America/St_Vincent:20260629T180000
DTSTAMP:20260419T094914
CREATED:20250819T140612Z
LAST-MODIFIED:20260320T185126Z
UID:10012909-1782752400-1782756000@mustique.life
SUMMARY:Rum Tasting Masterclass
DESCRIPTION:Learn the finer points of rum with a tasting in the Great Room at the Cotton House \nYou must pre-register for this event by midday on Monday at the latest. \nPlease pre-book by calling the Cotton House reception on 8250
URL:https://mustique.life/event/rum-tasting-masterclass/2026-06-29/
LOCATION:Great Room
CATEGORIES:Entertainment
ATTACH;FMTTYPE=image/jpeg:https://mustique.life/wp-content/uploads/2022/03/Rum-tasting.jpg
END:VEVENT
BEGIN:VEVENT
DTSTART;TZID=America/St_Vincent:20260630T190000
DTEND;TZID=America/St_Vincent:20260630T203000
DTSTAMP:20260419T094914
CREATED:20250819T140725Z
LAST-MODIFIED:20251003T132136Z
UID:10012956-1782846000-1782851400@mustique.life
SUMMARY:The Mustique Company Cocktail Party
DESCRIPTION:Join other guests for a cocktail in the Great Room at The Cotton House from 7 to 8.30pm. \nBy invitation only.
URL:https://mustique.life/event/the-mustique-company-cocktail-party/2026-06-30/
LOCATION:Great Room
CATEGORIES:Entertainment
ATTACH;FMTTYPE=image/jpeg:https://mustique.life/wp-content/uploads/2022/04/untitled-3258.jpg
END:VEVENT
BEGIN:VEVENT
DTSTART;TZID=America/St_Vincent:20260706T170000
DTEND;TZID=America/St_Vincent:20260706T180000
DTSTAMP:20260419T094914
CREATED:20250819T140612Z
LAST-MODIFIED:20260320T185126Z
UID:10012910-1783357200-1783360800@mustique.life
SUMMARY:Rum Tasting Masterclass
DESCRIPTION:Learn the finer points of rum with a tasting in the Great Room at the Cotton House \nYou must pre-register for this event by midday on Monday at the latest. \nPlease pre-book by calling the Cotton House reception on 8250
URL:https://mustique.life/event/rum-tasting-masterclass/2026-07-06/
LOCATION:Great Room
CATEGORIES:Entertainment
ATTACH;FMTTYPE=image/jpeg:https://mustique.life/wp-content/uploads/2022/03/Rum-tasting.jpg
END:VEVENT
BEGIN:VEVENT
DTSTART;TZID=America/St_Vincent:20260707T190000
DTEND;TZID=America/St_Vincent:20260707T203000
DTSTAMP:20260419T094914
CREATED:20250819T140725Z
LAST-MODIFIED:20251003T132136Z
UID:10012957-1783450800-1783456200@mustique.life
SUMMARY:The Mustique Company Cocktail Party
DESCRIPTION:Join other guests for a cocktail in the Great Room at The Cotton House from 7 to 8.30pm. \nBy invitation only.
URL:https://mustique.life/event/the-mustique-company-cocktail-party/2026-07-07/
LOCATION:Great Room
CATEGORIES:Entertainment
ATTACH;FMTTYPE=image/jpeg:https://mustique.life/wp-content/uploads/2022/04/untitled-3258.jpg
END:VEVENT
BEGIN:VEVENT
DTSTART;TZID=America/St_Vincent:20260713T170000
DTEND;TZID=America/St_Vincent:20260713T180000
DTSTAMP:20260419T094914
CREATED:20250819T140612Z
LAST-MODIFIED:20260320T185126Z
UID:10012911-1783962000-1783965600@mustique.life
SUMMARY:Rum Tasting Masterclass
DESCRIPTION:Learn the finer points of rum with a tasting in the Great Room at the Cotton House \nYou must pre-register for this event by midday on Monday at the latest. \nPlease pre-book by calling the Cotton House reception on 8250
URL:https://mustique.life/event/rum-tasting-masterclass/2026-07-13/
LOCATION:Great Room
CATEGORIES:Entertainment
ATTACH;FMTTYPE=image/jpeg:https://mustique.life/wp-content/uploads/2022/03/Rum-tasting.jpg
END:VEVENT
BEGIN:VEVENT
DTSTART;TZID=America/St_Vincent:20260714T190000
DTEND;TZID=America/St_Vincent:20260714T203000
DTSTAMP:20260419T094914
CREATED:20250819T140725Z
LAST-MODIFIED:20251003T132136Z
UID:10012958-1784055600-1784061000@mustique.life
SUMMARY:The Mustique Company Cocktail Party
DESCRIPTION:Join other guests for a cocktail in the Great Room at The Cotton House from 7 to 8.30pm. \nBy invitation only.
URL:https://mustique.life/event/the-mustique-company-cocktail-party/2026-07-14/
LOCATION:Great Room
CATEGORIES:Entertainment
ATTACH;FMTTYPE=image/jpeg:https://mustique.life/wp-content/uploads/2022/04/untitled-3258.jpg
END:VEVENT
BEGIN:VEVENT
DTSTART;TZID=America/St_Vincent:20260720T170000
DTEND;TZID=America/St_Vincent:20260720T180000
DTSTAMP:20260419T094914
CREATED:20250819T140612Z
LAST-MODIFIED:20260320T185126Z
UID:10012912-1784566800-1784570400@mustique.life
SUMMARY:Rum Tasting Masterclass
DESCRIPTION:Learn the finer points of rum with a tasting in the Great Room at the Cotton House \nYou must pre-register for this event by midday on Monday at the latest. \nPlease pre-book by calling the Cotton House reception on 8250
URL:https://mustique.life/event/rum-tasting-masterclass/2026-07-20/
LOCATION:Great Room
CATEGORIES:Entertainment
ATTACH;FMTTYPE=image/jpeg:https://mustique.life/wp-content/uploads/2022/03/Rum-tasting.jpg
END:VEVENT
BEGIN:VEVENT
DTSTART;TZID=America/St_Vincent:20260721T190000
DTEND;TZID=America/St_Vincent:20260721T203000
DTSTAMP:20260419T094914
CREATED:20250819T140725Z
LAST-MODIFIED:20251003T132136Z
UID:10012959-1784660400-1784665800@mustique.life
SUMMARY:The Mustique Company Cocktail Party
DESCRIPTION:Join other guests for a cocktail in the Great Room at The Cotton House from 7 to 8.30pm. \nBy invitation only.
URL:https://mustique.life/event/the-mustique-company-cocktail-party/2026-07-21/
LOCATION:Great Room
CATEGORIES:Entertainment
ATTACH;FMTTYPE=image/jpeg:https://mustique.life/wp-content/uploads/2022/04/untitled-3258.jpg
END:VEVENT
BEGIN:VEVENT
DTSTART;TZID=America/St_Vincent:20260727T170000
DTEND;TZID=America/St_Vincent:20260727T180000
DTSTAMP:20260419T094914
CREATED:20250819T140612Z
LAST-MODIFIED:20260320T185126Z
UID:10012913-1785171600-1785175200@mustique.life
SUMMARY:Rum Tasting Masterclass
DESCRIPTION:Learn the finer points of rum with a tasting in the Great Room at the Cotton House \nYou must pre-register for this event by midday on Monday at the latest. \nPlease pre-book by calling the Cotton House reception on 8250
URL:https://mustique.life/event/rum-tasting-masterclass/2026-07-27/
LOCATION:Great Room
CATEGORIES:Entertainment
ATTACH;FMTTYPE=image/jpeg:https://mustique.life/wp-content/uploads/2022/03/Rum-tasting.jpg
END:VEVENT
BEGIN:VEVENT
DTSTART;TZID=America/St_Vincent:20260728T190000
DTEND;TZID=America/St_Vincent:20260728T203000
DTSTAMP:20260419T094914
CREATED:20250819T140725Z
LAST-MODIFIED:20251003T132136Z
UID:10012960-1785265200-1785270600@mustique.life
SUMMARY:The Mustique Company Cocktail Party
DESCRIPTION:Join other guests for a cocktail in the Great Room at The Cotton House from 7 to 8.30pm. \nBy invitation only.
URL:https://mustique.life/event/the-mustique-company-cocktail-party/2026-07-28/
LOCATION:Great Room
CATEGORIES:Entertainment
ATTACH;FMTTYPE=image/jpeg:https://mustique.life/wp-content/uploads/2022/04/untitled-3258.jpg
END:VEVENT
END:VCALENDAR