BEGIN:VCALENDAR
VERSION:2.0
PRODID:-//Mustique Events - Calendar - ECPv6.15.17.1//NONSGML v1.0//EN
CALSCALE:GREGORIAN
METHOD:PUBLISH
X-ORIGINAL-URL:https://mustique.life
X-WR-CALDESC:Events for Mustique Events - Calendar
REFRESH-INTERVAL;VALUE=DURATION:PT1H
X-Robots-Tag:noindex
X-PUBLISHED-TTL:PT1H
BEGIN:VTIMEZONE
TZID:America/St_Vincent
BEGIN:STANDARD
TZOFFSETFROM:-0400
TZOFFSETTO:-0400
TZNAME:AST
DTSTART:20250101T000000
END:STANDARD
END:VTIMEZONE
BEGIN:VEVENT
DTSTART;TZID=America/St_Vincent:20260414T190000
DTEND;TZID=America/St_Vincent:20260414T203000
DTSTAMP:20260419T112429
CREATED:20250819T140725Z
LAST-MODIFIED:20251003T132136Z
UID:10012945-1776193200-1776198600@mustique.life
SUMMARY:The Mustique Company Cocktail Party
DESCRIPTION:Join other guests for a cocktail in the Great Room at The Cotton House from 7 to 8.30pm. \nBy invitation only.
URL:https://mustique.life/event/the-mustique-company-cocktail-party/2026-04-14/
LOCATION:Great Room
CATEGORIES:Entertainment
ATTACH;FMTTYPE=image/jpeg:https://mustique.life/wp-content/uploads/2022/04/untitled-3258.jpg
END:VEVENT
BEGIN:VEVENT
DTSTART;TZID=America/St_Vincent:20260413T170000
DTEND;TZID=America/St_Vincent:20260413T180000
DTSTAMP:20260419T112429
CREATED:20250819T140612Z
LAST-MODIFIED:20260320T185126Z
UID:10012898-1776099600-1776103200@mustique.life
SUMMARY:Rum Tasting Masterclass
DESCRIPTION:Learn the finer points of rum with a tasting in the Great Room at the Cotton House \nYou must pre-register for this event by midday on Monday at the latest. \nPlease pre-book by calling the Cotton House reception on 8250
URL:https://mustique.life/event/rum-tasting-masterclass/2026-04-13/
LOCATION:Great Room
CATEGORIES:Entertainment
ATTACH;FMTTYPE=image/jpeg:https://mustique.life/wp-content/uploads/2022/03/Rum-tasting.jpg
END:VEVENT
BEGIN:VEVENT
DTSTART;TZID=America/St_Vincent:20260407T190000
DTEND;TZID=America/St_Vincent:20260407T203000
DTSTAMP:20260419T112429
CREATED:20250819T140725Z
LAST-MODIFIED:20251003T132136Z
UID:10012944-1775588400-1775593800@mustique.life
SUMMARY:The Mustique Company Cocktail Party
DESCRIPTION:Join other guests for a cocktail in the Great Room at The Cotton House from 7 to 8.30pm. \nBy invitation only.
URL:https://mustique.life/event/the-mustique-company-cocktail-party/2026-04-07/
LOCATION:Great Room
CATEGORIES:Entertainment
ATTACH;FMTTYPE=image/jpeg:https://mustique.life/wp-content/uploads/2022/04/untitled-3258.jpg
END:VEVENT
BEGIN:VEVENT
DTSTART;TZID=America/St_Vincent:20260406T170000
DTEND;TZID=America/St_Vincent:20260406T180000
DTSTAMP:20260419T112429
CREATED:20250819T140612Z
LAST-MODIFIED:20260320T185126Z
UID:10012897-1775494800-1775498400@mustique.life
SUMMARY:Rum Tasting Masterclass
DESCRIPTION:Learn the finer points of rum with a tasting in the Great Room at the Cotton House \nYou must pre-register for this event by midday on Monday at the latest. \nPlease pre-book by calling the Cotton House reception on 8250
URL:https://mustique.life/event/rum-tasting-masterclass/2026-04-06/
LOCATION:Great Room
CATEGORIES:Entertainment
ATTACH;FMTTYPE=image/jpeg:https://mustique.life/wp-content/uploads/2022/03/Rum-tasting.jpg
END:VEVENT
BEGIN:VEVENT
DTSTART;TZID=America/St_Vincent:20260401T170000
DTEND;TZID=America/St_Vincent:20260401T180000
DTSTAMP:20260419T112429
CREATED:20250819T140612Z
LAST-MODIFIED:20260320T185126Z
UID:10017746-1775062800-1775066400@mustique.life
SUMMARY:Rum Tasting Masterclass
DESCRIPTION:Learn the finer points of rum with a tasting in the Great Room at the Cotton House \nYou must pre-register for this event by midday on Monday at the latest. \nPlease pre-book by calling the Cotton House reception on 8250
URL:https://mustique.life/event/rum-tasting-masterclass/2026-04-01/
LOCATION:Great Room
CATEGORIES:Entertainment
ATTACH;FMTTYPE=image/jpeg:https://mustique.life/wp-content/uploads/2022/03/Rum-tasting.jpg
END:VEVENT
BEGIN:VEVENT
DTSTART;TZID=America/St_Vincent:20260331T190000
DTEND;TZID=America/St_Vincent:20260331T203000
DTSTAMP:20260419T112429
CREATED:20250819T140725Z
LAST-MODIFIED:20251003T132136Z
UID:10012943-1774983600-1774989000@mustique.life
SUMMARY:The Mustique Company Cocktail Party
DESCRIPTION:Join other guests for a cocktail in the Great Room at The Cotton House from 7 to 8.30pm. \nBy invitation only.
URL:https://mustique.life/event/the-mustique-company-cocktail-party/2026-03-31/
LOCATION:Great Room
CATEGORIES:Entertainment
ATTACH;FMTTYPE=image/jpeg:https://mustique.life/wp-content/uploads/2022/04/untitled-3258.jpg
END:VEVENT
BEGIN:VEVENT
DTSTART;TZID=America/St_Vincent:20260330T180000
DTEND;TZID=America/St_Vincent:20260330T180000
DTSTAMP:20260419T112429
CREATED:20260323T122729Z
LAST-MODIFIED:20260323T180837Z
UID:10017750-1774893600-1774893600@mustique.life
SUMMARY:Be Beautiful on Mustique: An Exclusive Evening at The Great Room
DESCRIPTION:Join us for a unique and inspiring experience celebrating beauty\, wellness\, and island style. \nA unique opportunity to meet Tammy Demos\, creator of Kleos & Klea\, and discover the GAIA facial\, receive expert hair guidance from John Vial\, and discover our unique Mustique Collaboration with designer Suzannah London. \nMonday 30th March\nWhere: The Great Room\nEvent Start: 6pm\nArrival Time: by 5:45pm \nThis event is free\, however with limited seating available\, you must pre-register your attendance with the Front Desk at frontdesk@cottonhouse.net by the 29th March. \nThe Great Room bar will be open from 5.30pm\, giving you plenty of time to get your drinks before the concert begins. \nWe look forward to seeing you there
URL:https://mustique.life/event/be-beautiful-on-mustique-an-exclusive-evening-at-the-great-room/
LOCATION:Great Room
CATEGORIES:Entertainment
ATTACH;FMTTYPE=image/png:https://mustique.life/wp-content/uploads/2026/03/Be-Beautiful-on-Mustique-app-1.png
END:VEVENT
BEGIN:VEVENT
DTSTART;TZID=America/St_Vincent:20260324T190000
DTEND;TZID=America/St_Vincent:20260324T203000
DTSTAMP:20260419T112429
CREATED:20250819T140725Z
LAST-MODIFIED:20251003T132136Z
UID:10012942-1774378800-1774384200@mustique.life
SUMMARY:The Mustique Company Cocktail Party
DESCRIPTION:Join other guests for a cocktail in the Great Room at The Cotton House from 7 to 8.30pm. \nBy invitation only.
URL:https://mustique.life/event/the-mustique-company-cocktail-party/2026-03-24/
LOCATION:Great Room
CATEGORIES:Entertainment
ATTACH;FMTTYPE=image/jpeg:https://mustique.life/wp-content/uploads/2022/04/untitled-3258.jpg
END:VEVENT
BEGIN:VEVENT
DTSTART;TZID=America/St_Vincent:20260323T170000
DTEND;TZID=America/St_Vincent:20260323T180000
DTSTAMP:20260419T112429
CREATED:20250819T140612Z
LAST-MODIFIED:20260320T185126Z
UID:10012895-1774285200-1774288800@mustique.life
SUMMARY:Rum Tasting Masterclass
DESCRIPTION:Learn the finer points of rum with a tasting in the Great Room at the Cotton House \nYou must pre-register for this event by midday on Monday at the latest. \nPlease pre-book by calling the Cotton House reception on 8250
URL:https://mustique.life/event/rum-tasting-masterclass/2026-03-23/
LOCATION:Great Room
CATEGORIES:Entertainment
ATTACH;FMTTYPE=image/jpeg:https://mustique.life/wp-content/uploads/2022/03/Rum-tasting.jpg
END:VEVENT
BEGIN:VEVENT
DTSTART;TZID=America/St_Vincent:20260317T190000
DTEND;TZID=America/St_Vincent:20260317T203000
DTSTAMP:20260419T112429
CREATED:20250819T140725Z
LAST-MODIFIED:20251003T132136Z
UID:10012941-1773774000-1773779400@mustique.life
SUMMARY:The Mustique Company Cocktail Party
DESCRIPTION:Join other guests for a cocktail in the Great Room at The Cotton House from 7 to 8.30pm. \nBy invitation only.
URL:https://mustique.life/event/the-mustique-company-cocktail-party/2026-03-17/
LOCATION:Great Room
CATEGORIES:Entertainment
ATTACH;FMTTYPE=image/jpeg:https://mustique.life/wp-content/uploads/2022/04/untitled-3258.jpg
END:VEVENT
BEGIN:VEVENT
DTSTART;TZID=America/St_Vincent:20260316T180000
DTEND;TZID=America/St_Vincent:20260316T190000
DTSTAMP:20260419T112429
CREATED:20260311T143102Z
LAST-MODIFIED:20260316T141307Z
UID:10017686-1773684000-1773687600@mustique.life
SUMMARY:An Evening of Opera & Broadway Hits with Mark Steven Doss and Melinda Hughes
DESCRIPTION:Updated Event Details: \nPlease join us for an hour of magnificent opera arias and Broadway hits in The Great Room. \nAmerican Grammy Award-winning Baritone Mark Steven Doss has appeared at many of the world’s leading opera houses\, including the Metropolitan Opera\, La Scala Milan\,\nChicago Lyric and The Royal Opera House Covent Garden. He will be joined by British soprano Melinda Hughes to sing exquisite arias and duets by Mozart\, Puccini and Verdi\,\nas well as musical favourites by Gershwin and Rodgers & Hammerstein. They will be accompanied by the renowned Italian conductor Gianluca Marcianò.\nThis promises to be a spectacular hour of passion\, music and laughter. \nMONDAY 16 MARCH\nWhere: The Great Room\nConcert: 6pm to 7pm\nArrival Time: by 5:45pm \nThe Great Room bar will be open from 5.30pm\, giving you plenty of time to get your drinks before the concert begins.\nThis event is free\, however with limited seating available\, you must pre-register your attendance with the Front Desk at frontdesk@cottonhouse.net  by 15th March. \nWe look forward to seeing you there
URL:https://mustique.life/event/an-evening-of-neapolitan-song-and-grand-opera-in-the-great-room/
LOCATION:Great Room
CATEGORIES:Entertainment
ATTACH;FMTTYPE=image/jpeg:https://mustique.life/wp-content/uploads/2026/03/An-Evening-of-Opera-Broadway-Hits.jpeg
END:VEVENT
BEGIN:VEVENT
DTSTART;TZID=America/St_Vincent:20260316T170000
DTEND;TZID=America/St_Vincent:20260316T180000
DTSTAMP:20260419T112429
CREATED:20250819T140612Z
LAST-MODIFIED:20260320T185126Z
UID:10012894-1773680400-1773684000@mustique.life
SUMMARY:Rum Tasting Masterclass
DESCRIPTION:Learn the finer points of rum with a tasting in the Great Room at the Cotton House \nYou must pre-register for this event by midday on Monday at the latest. \nPlease pre-book by calling the Cotton House reception on 8250
URL:https://mustique.life/event/rum-tasting-masterclass/2026-03-16/
LOCATION:Great Room
CATEGORIES:Entertainment
ATTACH;FMTTYPE=image/jpeg:https://mustique.life/wp-content/uploads/2022/03/Rum-tasting.jpg
END:VEVENT
BEGIN:VEVENT
DTSTART;TZID=America/St_Vincent:20260310T190000
DTEND;TZID=America/St_Vincent:20260310T203000
DTSTAMP:20260419T112429
CREATED:20250819T140725Z
LAST-MODIFIED:20251003T132136Z
UID:10012940-1773169200-1773174600@mustique.life
SUMMARY:The Mustique Company Cocktail Party
DESCRIPTION:Join other guests for a cocktail in the Great Room at The Cotton House from 7 to 8.30pm. \nBy invitation only.
URL:https://mustique.life/event/the-mustique-company-cocktail-party/2026-03-10/
LOCATION:Great Room
CATEGORIES:Entertainment
ATTACH;FMTTYPE=image/jpeg:https://mustique.life/wp-content/uploads/2022/04/untitled-3258.jpg
END:VEVENT
BEGIN:VEVENT
DTSTART;TZID=America/St_Vincent:20260309T170000
DTEND;TZID=America/St_Vincent:20260309T180000
DTSTAMP:20260419T112429
CREATED:20250819T140612Z
LAST-MODIFIED:20260320T185126Z
UID:10012893-1773075600-1773079200@mustique.life
SUMMARY:Rum Tasting Masterclass
DESCRIPTION:Learn the finer points of rum with a tasting in the Great Room at the Cotton House \nYou must pre-register for this event by midday on Monday at the latest. \nPlease pre-book by calling the Cotton House reception on 8250
URL:https://mustique.life/event/rum-tasting-masterclass/2026-03-09/
LOCATION:Great Room
CATEGORIES:Entertainment
ATTACH;FMTTYPE=image/jpeg:https://mustique.life/wp-content/uploads/2022/03/Rum-tasting.jpg
END:VEVENT
BEGIN:VEVENT
DTSTART;TZID=America/St_Vincent:20260303T190000
DTEND;TZID=America/St_Vincent:20260303T203000
DTSTAMP:20260419T112429
CREATED:20250819T140725Z
LAST-MODIFIED:20251003T132136Z
UID:10012939-1772564400-1772569800@mustique.life
SUMMARY:The Mustique Company Cocktail Party
DESCRIPTION:Join other guests for a cocktail in the Great Room at The Cotton House from 7 to 8.30pm. \nBy invitation only.
URL:https://mustique.life/event/the-mustique-company-cocktail-party/2026-03-03/
LOCATION:Great Room
CATEGORIES:Entertainment
ATTACH;FMTTYPE=image/jpeg:https://mustique.life/wp-content/uploads/2022/04/untitled-3258.jpg
END:VEVENT
BEGIN:VEVENT
DTSTART;TZID=America/St_Vincent:20260302T170000
DTEND;TZID=America/St_Vincent:20260302T180000
DTSTAMP:20260419T112429
CREATED:20250819T140612Z
LAST-MODIFIED:20260320T185126Z
UID:10012892-1772470800-1772474400@mustique.life
SUMMARY:Rum Tasting Masterclass
DESCRIPTION:Learn the finer points of rum with a tasting in the Great Room at the Cotton House \nYou must pre-register for this event by midday on Monday at the latest. \nPlease pre-book by calling the Cotton House reception on 8250
URL:https://mustique.life/event/rum-tasting-masterclass/2026-03-02/
LOCATION:Great Room
CATEGORIES:Entertainment
ATTACH;FMTTYPE=image/jpeg:https://mustique.life/wp-content/uploads/2022/03/Rum-tasting.jpg
END:VEVENT
BEGIN:VEVENT
DTSTART;TZID=America/St_Vincent:20260224T190000
DTEND;TZID=America/St_Vincent:20260224T203000
DTSTAMP:20260419T112429
CREATED:20250819T140725Z
LAST-MODIFIED:20251003T132136Z
UID:10012938-1771959600-1771965000@mustique.life
SUMMARY:The Mustique Company Cocktail Party
DESCRIPTION:Join other guests for a cocktail in the Great Room at The Cotton House from 7 to 8.30pm. \nBy invitation only.
URL:https://mustique.life/event/the-mustique-company-cocktail-party/2026-02-24/
LOCATION:Great Room
CATEGORIES:Entertainment
ATTACH;FMTTYPE=image/jpeg:https://mustique.life/wp-content/uploads/2022/04/untitled-3258.jpg
END:VEVENT
END:VCALENDAR