BEGIN:VCALENDAR
VERSION:2.0
PRODID:-//Mustique Events - Calendar - ECPv6.15.17.1//NONSGML v1.0//EN
CALSCALE:GREGORIAN
METHOD:PUBLISH
X-WR-CALNAME:Mustique Events - Calendar
X-ORIGINAL-URL:https://mustique.life
X-WR-CALDESC:Events for Mustique Events - Calendar
REFRESH-INTERVAL;VALUE=DURATION:PT1H
X-Robots-Tag:noindex
X-PUBLISHED-TTL:PT1H
BEGIN:VTIMEZONE
TZID:America/St_Vincent
BEGIN:STANDARD
TZOFFSETFROM:-0400
TZOFFSETTO:-0400
TZNAME:AST
DTSTART:20250101T000000
END:STANDARD
END:VTIMEZONE
BEGIN:VEVENT
DTSTART;TZID=America/St_Vincent:20260416T100000
DTEND;TZID=America/St_Vincent:20260416T110000
DTSTAMP:20260419T112429
CREATED:20260416T155643Z
LAST-MODIFIED:20260416T172407Z
UID:10023650-1776333600-1776337200@mustique.life
SUMMARY:Aqua Aerobics
DESCRIPTION:Join the gym team at the Cotton House Pool  for an hour of aqua aerobic workouts that focus to improve cardiovascular health\, build strength\, and increase flexibility. \nFeel strong\, centered\, and unstoppable! \nTuesday\, Thursday \n10:00am – 11:00am \nALL BOOKINGS FOR GYM TIME SLOTS\, PRIVATE SESSIONS AND CLASSES MUST BE MADE IN ADVANCE BY CALLING EXT: 8920 OR BY EMAIL: YOGAFITNESS@COTTONHOUSE.NET \n 
URL:https://mustique.life/event/aqua-aerobics-2/2026-04-16/
LOCATION:Cotton House Pool
CATEGORIES:Sport / Wellness
ATTACH;FMTTYPE=image/jpeg:https://mustique.life/wp-content/uploads/2024/11/WhatsApp-Image-2024-11-22-at-19.22.16.jpeg
END:VEVENT
BEGIN:VEVENT
DTSTART;TZID=America/St_Vincent:20260414T100000
DTEND;TZID=America/St_Vincent:20260414T110000
DTSTAMP:20260419T112429
CREATED:20260416T155643Z
LAST-MODIFIED:20260416T172407Z
UID:10017741-1776160800-1776164400@mustique.life
SUMMARY:Aqua Aerobics
DESCRIPTION:Join the gym team at the Cotton House Pool  for an hour of aqua aerobic workouts that focus to improve cardiovascular health\, build strength\, and increase flexibility. \nFeel strong\, centered\, and unstoppable! \nTuesday\, Thursday \n10:00am – 11:00am \nALL BOOKINGS FOR GYM TIME SLOTS\, PRIVATE SESSIONS AND CLASSES MUST BE MADE IN ADVANCE BY CALLING EXT: 8920 OR BY EMAIL: YOGAFITNESS@COTTONHOUSE.NET \n 
URL:https://mustique.life/event/aqua-aerobics-2/2026-04-14/
LOCATION:Cotton House Pool
CATEGORIES:Sport / Wellness
ATTACH;FMTTYPE=image/jpeg:https://mustique.life/wp-content/uploads/2024/11/WhatsApp-Image-2024-11-22-at-19.22.16.jpeg
END:VEVENT
BEGIN:VEVENT
DTSTART;TZID=America/St_Vincent:20260409T100000
DTEND;TZID=America/St_Vincent:20260409T110000
DTSTAMP:20260419T112429
CREATED:20260320T033103Z
LAST-MODIFIED:20260320T184330Z
UID:10017740-1775728800-1775732400@mustique.life
SUMMARY:Aqua Aerobics
DESCRIPTION:Join the gym team at the Cotton House Pool  for an hour of aqua aerobic workouts that focus to improve cardiovascular health\, build strength\, and increase flexibility. \nFeel strong\, centered\, and unstoppable! \nTuesday\, Thursday\, Saturday \n10:00am – 11:00am \nALL BOOKINGS FOR GYM TIME SLOTS\, PRIVATE SESSIONS AND CLASSES MUST BE MADE IN ADVANCE BY CALLING EXT: 8920 OR BY EMAIL: YOGAFITNESS@COTTONHOUSE.NET \n 
URL:https://mustique.life/event/aqua-aerobics/2026-04-09/
LOCATION:Cotton House Pool
CATEGORIES:Sport / Wellness
ATTACH;FMTTYPE=image/jpeg:https://mustique.life/wp-content/uploads/2024/11/WhatsApp-Image-2024-11-22-at-19.22.16.jpeg
END:VEVENT
BEGIN:VEVENT
DTSTART;TZID=America/St_Vincent:20260407T100000
DTEND;TZID=America/St_Vincent:20260407T110000
DTSTAMP:20260419T112429
CREATED:20260320T033103Z
LAST-MODIFIED:20260320T184330Z
UID:10017739-1775556000-1775559600@mustique.life
SUMMARY:Aqua Aerobics
DESCRIPTION:Join the gym team at the Cotton House Pool  for an hour of aqua aerobic workouts that focus to improve cardiovascular health\, build strength\, and increase flexibility. \nFeel strong\, centered\, and unstoppable! \nTuesday\, Thursday\, Saturday \n10:00am – 11:00am \nALL BOOKINGS FOR GYM TIME SLOTS\, PRIVATE SESSIONS AND CLASSES MUST BE MADE IN ADVANCE BY CALLING EXT: 8920 OR BY EMAIL: YOGAFITNESS@COTTONHOUSE.NET \n 
URL:https://mustique.life/event/aqua-aerobics/2026-04-07/
LOCATION:Cotton House Pool
CATEGORIES:Sport / Wellness
ATTACH;FMTTYPE=image/jpeg:https://mustique.life/wp-content/uploads/2024/11/WhatsApp-Image-2024-11-22-at-19.22.16.jpeg
END:VEVENT
BEGIN:VEVENT
DTSTART;TZID=America/St_Vincent:20260404T100000
DTEND;TZID=America/St_Vincent:20260404T110000
DTSTAMP:20260419T112429
CREATED:20260320T033103Z
LAST-MODIFIED:20260320T184330Z
UID:10017738-1775296800-1775300400@mustique.life
SUMMARY:Aqua Aerobics
DESCRIPTION:Join the gym team at the Cotton House Pool  for an hour of aqua aerobic workouts that focus to improve cardiovascular health\, build strength\, and increase flexibility. \nFeel strong\, centered\, and unstoppable! \nTuesday\, Thursday\, Saturday \n10:00am – 11:00am \nALL BOOKINGS FOR GYM TIME SLOTS\, PRIVATE SESSIONS AND CLASSES MUST BE MADE IN ADVANCE BY CALLING EXT: 8920 OR BY EMAIL: YOGAFITNESS@COTTONHOUSE.NET \n 
URL:https://mustique.life/event/aqua-aerobics/2026-04-04/
LOCATION:Cotton House Pool
CATEGORIES:Sport / Wellness
ATTACH;FMTTYPE=image/jpeg:https://mustique.life/wp-content/uploads/2024/11/WhatsApp-Image-2024-11-22-at-19.22.16.jpeg
END:VEVENT
BEGIN:VEVENT
DTSTART;TZID=America/St_Vincent:20260402T100000
DTEND;TZID=America/St_Vincent:20260402T110000
DTSTAMP:20260419T112429
CREATED:20260320T033103Z
LAST-MODIFIED:20260320T184330Z
UID:10017737-1775124000-1775127600@mustique.life
SUMMARY:Aqua Aerobics
DESCRIPTION:Join the gym team at the Cotton House Pool  for an hour of aqua aerobic workouts that focus to improve cardiovascular health\, build strength\, and increase flexibility. \nFeel strong\, centered\, and unstoppable! \nTuesday\, Thursday\, Saturday \n10:00am – 11:00am \nALL BOOKINGS FOR GYM TIME SLOTS\, PRIVATE SESSIONS AND CLASSES MUST BE MADE IN ADVANCE BY CALLING EXT: 8920 OR BY EMAIL: YOGAFITNESS@COTTONHOUSE.NET \n 
URL:https://mustique.life/event/aqua-aerobics/2026-04-02/
LOCATION:Cotton House Pool
CATEGORIES:Sport / Wellness
ATTACH;FMTTYPE=image/jpeg:https://mustique.life/wp-content/uploads/2024/11/WhatsApp-Image-2024-11-22-at-19.22.16.jpeg
END:VEVENT
BEGIN:VEVENT
DTSTART;TZID=America/St_Vincent:20260331T100000
DTEND;TZID=America/St_Vincent:20260331T110000
DTSTAMP:20260419T112429
CREATED:20260320T033103Z
LAST-MODIFIED:20260320T184330Z
UID:10017736-1774951200-1774954800@mustique.life
SUMMARY:Aqua Aerobics
DESCRIPTION:Join the gym team at the Cotton House Pool  for an hour of aqua aerobic workouts that focus to improve cardiovascular health\, build strength\, and increase flexibility. \nFeel strong\, centered\, and unstoppable! \nTuesday\, Thursday\, Saturday \n10:00am – 11:00am \nALL BOOKINGS FOR GYM TIME SLOTS\, PRIVATE SESSIONS AND CLASSES MUST BE MADE IN ADVANCE BY CALLING EXT: 8920 OR BY EMAIL: YOGAFITNESS@COTTONHOUSE.NET \n 
URL:https://mustique.life/event/aqua-aerobics/2026-03-31/
LOCATION:Cotton House Pool
CATEGORIES:Sport / Wellness
ATTACH;FMTTYPE=image/jpeg:https://mustique.life/wp-content/uploads/2024/11/WhatsApp-Image-2024-11-22-at-19.22.16.jpeg
END:VEVENT
BEGIN:VEVENT
DTSTART;TZID=America/St_Vincent:20260328T100000
DTEND;TZID=America/St_Vincent:20260328T110000
DTSTAMP:20260419T112429
CREATED:20260320T033103Z
LAST-MODIFIED:20260320T184330Z
UID:10017735-1774692000-1774695600@mustique.life
SUMMARY:Aqua Aerobics
DESCRIPTION:Join the gym team at the Cotton House Pool  for an hour of aqua aerobic workouts that focus to improve cardiovascular health\, build strength\, and increase flexibility. \nFeel strong\, centered\, and unstoppable! \nTuesday\, Thursday\, Saturday \n10:00am – 11:00am \nALL BOOKINGS FOR GYM TIME SLOTS\, PRIVATE SESSIONS AND CLASSES MUST BE MADE IN ADVANCE BY CALLING EXT: 8920 OR BY EMAIL: YOGAFITNESS@COTTONHOUSE.NET \n 
URL:https://mustique.life/event/aqua-aerobics/2026-03-28/
LOCATION:Cotton House Pool
CATEGORIES:Sport / Wellness
ATTACH;FMTTYPE=image/jpeg:https://mustique.life/wp-content/uploads/2024/11/WhatsApp-Image-2024-11-22-at-19.22.16.jpeg
END:VEVENT
BEGIN:VEVENT
DTSTART;TZID=America/St_Vincent:20260326T100000
DTEND;TZID=America/St_Vincent:20260326T110000
DTSTAMP:20260419T112429
CREATED:20260320T033103Z
LAST-MODIFIED:20260320T184330Z
UID:10017734-1774519200-1774522800@mustique.life
SUMMARY:Aqua Aerobics
DESCRIPTION:Join the gym team at the Cotton House Pool  for an hour of aqua aerobic workouts that focus to improve cardiovascular health\, build strength\, and increase flexibility. \nFeel strong\, centered\, and unstoppable! \nTuesday\, Thursday\, Saturday \n10:00am – 11:00am \nALL BOOKINGS FOR GYM TIME SLOTS\, PRIVATE SESSIONS AND CLASSES MUST BE MADE IN ADVANCE BY CALLING EXT: 8920 OR BY EMAIL: YOGAFITNESS@COTTONHOUSE.NET \n 
URL:https://mustique.life/event/aqua-aerobics/2026-03-26/
LOCATION:Cotton House Pool
CATEGORIES:Sport / Wellness
ATTACH;FMTTYPE=image/jpeg:https://mustique.life/wp-content/uploads/2024/11/WhatsApp-Image-2024-11-22-at-19.22.16.jpeg
END:VEVENT
BEGIN:VEVENT
DTSTART;TZID=America/St_Vincent:20260324T100000
DTEND;TZID=America/St_Vincent:20260324T110000
DTSTAMP:20260419T112429
CREATED:20260320T033103Z
LAST-MODIFIED:20260320T184330Z
UID:10017733-1774346400-1774350000@mustique.life
SUMMARY:Aqua Aerobics
DESCRIPTION:Join the gym team at the Cotton House Pool  for an hour of aqua aerobic workouts that focus to improve cardiovascular health\, build strength\, and increase flexibility. \nFeel strong\, centered\, and unstoppable! \nTuesday\, Thursday\, Saturday \n10:00am – 11:00am \nALL BOOKINGS FOR GYM TIME SLOTS\, PRIVATE SESSIONS AND CLASSES MUST BE MADE IN ADVANCE BY CALLING EXT: 8920 OR BY EMAIL: YOGAFITNESS@COTTONHOUSE.NET \n 
URL:https://mustique.life/event/aqua-aerobics/2026-03-24/
LOCATION:Cotton House Pool
CATEGORIES:Sport / Wellness
ATTACH;FMTTYPE=image/jpeg:https://mustique.life/wp-content/uploads/2024/11/WhatsApp-Image-2024-11-22-at-19.22.16.jpeg
END:VEVENT
BEGIN:VEVENT
DTSTART;TZID=America/St_Vincent:20260321T100000
DTEND;TZID=America/St_Vincent:20260321T110000
DTSTAMP:20260419T112429
CREATED:20260107T033102Z
LAST-MODIFIED:20260227T142258Z
UID:10017519-1774087200-1774090800@mustique.life
SUMMARY:Aqua Aerobics
DESCRIPTION:Join the gym team at the Cotton House Pool  for an hour of aqua aerobic workouts that focus to improve cardiovascular health\, build strength\, and increase flexibility. \nFeel strong\, centered\, and unstoppable! \nTuesday\, Thursday\, Saturday \n10:00am – 11:00am \nALL BOOKINGS FOR GYM TIME SLOTS\, PRIVATE SESSIONS AND CLASSES MUST BE MADE IN ADVANCE BY CALLING EXT: 8920 OR BY EMAIL: YOGAFITNESS@COTTONHOUSE.NET \n 
URL:https://mustique.life/event/aqua-aerobics-3/2026-03-21/
LOCATION:Cotton House Pool
CATEGORIES:Sport / Wellness
ATTACH;FMTTYPE=image/jpeg:https://mustique.life/wp-content/uploads/2024/11/WhatsApp-Image-2024-11-22-at-19.22.16.jpeg
END:VEVENT
BEGIN:VEVENT
DTSTART;TZID=America/St_Vincent:20260319T100000
DTEND;TZID=America/St_Vincent:20260319T110000
DTSTAMP:20260419T112429
CREATED:20260107T033102Z
LAST-MODIFIED:20260227T142258Z
UID:10017518-1773914400-1773918000@mustique.life
SUMMARY:Aqua Aerobics
DESCRIPTION:Join the gym team at the Cotton House Pool  for an hour of aqua aerobic workouts that focus to improve cardiovascular health\, build strength\, and increase flexibility. \nFeel strong\, centered\, and unstoppable! \nTuesday\, Thursday\, Saturday \n10:00am – 11:00am \nALL BOOKINGS FOR GYM TIME SLOTS\, PRIVATE SESSIONS AND CLASSES MUST BE MADE IN ADVANCE BY CALLING EXT: 8920 OR BY EMAIL: YOGAFITNESS@COTTONHOUSE.NET \n 
URL:https://mustique.life/event/aqua-aerobics-3/2026-03-19/
LOCATION:Cotton House Pool
CATEGORIES:Sport / Wellness
ATTACH;FMTTYPE=image/jpeg:https://mustique.life/wp-content/uploads/2024/11/WhatsApp-Image-2024-11-22-at-19.22.16.jpeg
END:VEVENT
BEGIN:VEVENT
DTSTART;TZID=America/St_Vincent:20260317T100000
DTEND;TZID=America/St_Vincent:20260317T110000
DTSTAMP:20260419T112429
CREATED:20260107T033102Z
LAST-MODIFIED:20260227T142258Z
UID:10017517-1773741600-1773745200@mustique.life
SUMMARY:Aqua Aerobics
DESCRIPTION:Join the gym team at the Cotton House Pool  for an hour of aqua aerobic workouts that focus to improve cardiovascular health\, build strength\, and increase flexibility. \nFeel strong\, centered\, and unstoppable! \nTuesday\, Thursday\, Saturday \n10:00am – 11:00am \nALL BOOKINGS FOR GYM TIME SLOTS\, PRIVATE SESSIONS AND CLASSES MUST BE MADE IN ADVANCE BY CALLING EXT: 8920 OR BY EMAIL: YOGAFITNESS@COTTONHOUSE.NET \n 
URL:https://mustique.life/event/aqua-aerobics-3/2026-03-17/
LOCATION:Cotton House Pool
CATEGORIES:Sport / Wellness
ATTACH;FMTTYPE=image/jpeg:https://mustique.life/wp-content/uploads/2024/11/WhatsApp-Image-2024-11-22-at-19.22.16.jpeg
END:VEVENT
BEGIN:VEVENT
DTSTART;TZID=America/St_Vincent:20260314T100000
DTEND;TZID=America/St_Vincent:20260314T110000
DTSTAMP:20260419T112429
CREATED:20260107T033102Z
LAST-MODIFIED:20260227T142258Z
UID:10017516-1773482400-1773486000@mustique.life
SUMMARY:Aqua Aerobics
DESCRIPTION:Join the gym team at the Cotton House Pool  for an hour of aqua aerobic workouts that focus to improve cardiovascular health\, build strength\, and increase flexibility. \nFeel strong\, centered\, and unstoppable! \nTuesday\, Thursday\, Saturday \n10:00am – 11:00am \nALL BOOKINGS FOR GYM TIME SLOTS\, PRIVATE SESSIONS AND CLASSES MUST BE MADE IN ADVANCE BY CALLING EXT: 8920 OR BY EMAIL: YOGAFITNESS@COTTONHOUSE.NET \n 
URL:https://mustique.life/event/aqua-aerobics-3/2026-03-14/
LOCATION:Cotton House Pool
CATEGORIES:Sport / Wellness
ATTACH;FMTTYPE=image/jpeg:https://mustique.life/wp-content/uploads/2024/11/WhatsApp-Image-2024-11-22-at-19.22.16.jpeg
END:VEVENT
BEGIN:VEVENT
DTSTART;TZID=America/St_Vincent:20260312T100000
DTEND;TZID=America/St_Vincent:20260312T110000
DTSTAMP:20260419T112429
CREATED:20260107T033102Z
LAST-MODIFIED:20260227T142258Z
UID:10017515-1773309600-1773313200@mustique.life
SUMMARY:Aqua Aerobics
DESCRIPTION:Join the gym team at the Cotton House Pool  for an hour of aqua aerobic workouts that focus to improve cardiovascular health\, build strength\, and increase flexibility. \nFeel strong\, centered\, and unstoppable! \nTuesday\, Thursday\, Saturday \n10:00am – 11:00am \nALL BOOKINGS FOR GYM TIME SLOTS\, PRIVATE SESSIONS AND CLASSES MUST BE MADE IN ADVANCE BY CALLING EXT: 8920 OR BY EMAIL: YOGAFITNESS@COTTONHOUSE.NET \n 
URL:https://mustique.life/event/aqua-aerobics-3/2026-03-12/
LOCATION:Cotton House Pool
CATEGORIES:Sport / Wellness
ATTACH;FMTTYPE=image/jpeg:https://mustique.life/wp-content/uploads/2024/11/WhatsApp-Image-2024-11-22-at-19.22.16.jpeg
END:VEVENT
BEGIN:VEVENT
DTSTART;TZID=America/St_Vincent:20260310T100000
DTEND;TZID=America/St_Vincent:20260310T110000
DTSTAMP:20260419T112429
CREATED:20260107T033102Z
LAST-MODIFIED:20260227T142258Z
UID:10017514-1773136800-1773140400@mustique.life
SUMMARY:Aqua Aerobics
DESCRIPTION:Join the gym team at the Cotton House Pool  for an hour of aqua aerobic workouts that focus to improve cardiovascular health\, build strength\, and increase flexibility. \nFeel strong\, centered\, and unstoppable! \nTuesday\, Thursday\, Saturday \n10:00am – 11:00am \nALL BOOKINGS FOR GYM TIME SLOTS\, PRIVATE SESSIONS AND CLASSES MUST BE MADE IN ADVANCE BY CALLING EXT: 8920 OR BY EMAIL: YOGAFITNESS@COTTONHOUSE.NET \n 
URL:https://mustique.life/event/aqua-aerobics-3/2026-03-10/
LOCATION:Cotton House Pool
CATEGORIES:Sport / Wellness
ATTACH;FMTTYPE=image/jpeg:https://mustique.life/wp-content/uploads/2024/11/WhatsApp-Image-2024-11-22-at-19.22.16.jpeg
END:VEVENT
BEGIN:VEVENT
DTSTART;TZID=America/St_Vincent:20260307T100000
DTEND;TZID=America/St_Vincent:20260307T110000
DTSTAMP:20260419T112429
CREATED:20260107T033102Z
LAST-MODIFIED:20260227T142258Z
UID:10017513-1772877600-1772881200@mustique.life
SUMMARY:Aqua Aerobics
DESCRIPTION:Join the gym team at the Cotton House Pool  for an hour of aqua aerobic workouts that focus to improve cardiovascular health\, build strength\, and increase flexibility. \nFeel strong\, centered\, and unstoppable! \nTuesday\, Thursday\, Saturday \n10:00am – 11:00am \nALL BOOKINGS FOR GYM TIME SLOTS\, PRIVATE SESSIONS AND CLASSES MUST BE MADE IN ADVANCE BY CALLING EXT: 8920 OR BY EMAIL: YOGAFITNESS@COTTONHOUSE.NET \n 
URL:https://mustique.life/event/aqua-aerobics-3/2026-03-07/
LOCATION:Cotton House Pool
CATEGORIES:Sport / Wellness
ATTACH;FMTTYPE=image/jpeg:https://mustique.life/wp-content/uploads/2024/11/WhatsApp-Image-2024-11-22-at-19.22.16.jpeg
END:VEVENT
BEGIN:VEVENT
DTSTART;TZID=America/St_Vincent:20260305T100000
DTEND;TZID=America/St_Vincent:20260305T110000
DTSTAMP:20260419T112429
CREATED:20260107T033102Z
LAST-MODIFIED:20260227T142258Z
UID:10017512-1772704800-1772708400@mustique.life
SUMMARY:Aqua Aerobics
DESCRIPTION:Join the gym team at the Cotton House Pool  for an hour of aqua aerobic workouts that focus to improve cardiovascular health\, build strength\, and increase flexibility. \nFeel strong\, centered\, and unstoppable! \nTuesday\, Thursday\, Saturday \n10:00am – 11:00am \nALL BOOKINGS FOR GYM TIME SLOTS\, PRIVATE SESSIONS AND CLASSES MUST BE MADE IN ADVANCE BY CALLING EXT: 8920 OR BY EMAIL: YOGAFITNESS@COTTONHOUSE.NET \n 
URL:https://mustique.life/event/aqua-aerobics-3/2026-03-05/
LOCATION:Cotton House Pool
CATEGORIES:Sport / Wellness
ATTACH;FMTTYPE=image/jpeg:https://mustique.life/wp-content/uploads/2024/11/WhatsApp-Image-2024-11-22-at-19.22.16.jpeg
END:VEVENT
BEGIN:VEVENT
DTSTART;TZID=America/St_Vincent:20260303T100000
DTEND;TZID=America/St_Vincent:20260303T110000
DTSTAMP:20260419T112429
CREATED:20260107T033102Z
LAST-MODIFIED:20260227T142258Z
UID:10017511-1772532000-1772535600@mustique.life
SUMMARY:Aqua Aerobics
DESCRIPTION:Join the gym team at the Cotton House Pool  for an hour of aqua aerobic workouts that focus to improve cardiovascular health\, build strength\, and increase flexibility. \nFeel strong\, centered\, and unstoppable! \nTuesday\, Thursday\, Saturday \n10:00am – 11:00am \nALL BOOKINGS FOR GYM TIME SLOTS\, PRIVATE SESSIONS AND CLASSES MUST BE MADE IN ADVANCE BY CALLING EXT: 8920 OR BY EMAIL: YOGAFITNESS@COTTONHOUSE.NET \n 
URL:https://mustique.life/event/aqua-aerobics-3/2026-03-03/
LOCATION:Cotton House Pool
CATEGORIES:Sport / Wellness
ATTACH;FMTTYPE=image/jpeg:https://mustique.life/wp-content/uploads/2024/11/WhatsApp-Image-2024-11-22-at-19.22.16.jpeg
END:VEVENT
BEGIN:VEVENT
DTSTART;TZID=America/St_Vincent:20260228T100000
DTEND;TZID=America/St_Vincent:20260228T110000
DTSTAMP:20260419T112429
CREATED:20260107T033102Z
LAST-MODIFIED:20260227T142258Z
UID:10015775-1772272800-1772276400@mustique.life
SUMMARY:Aqua Aerobics
DESCRIPTION:Join the gym team at the Cotton House Pool  for an hour of aqua aerobic workouts that focus to improve cardiovascular health\, build strength\, and increase flexibility. \nFeel strong\, centered\, and unstoppable! \nTuesday\, Thursday\, Saturday \n10:00am – 11:00am \nALL BOOKINGS FOR GYM TIME SLOTS\, PRIVATE SESSIONS AND CLASSES MUST BE MADE IN ADVANCE BY CALLING EXT: 8920 OR BY EMAIL: YOGAFITNESS@COTTONHOUSE.NET \n 
URL:https://mustique.life/event/aqua-aerobics-3/2026-02-28/
LOCATION:Cotton House Pool
CATEGORIES:Sport / Wellness
ATTACH;FMTTYPE=image/jpeg:https://mustique.life/wp-content/uploads/2024/11/WhatsApp-Image-2024-11-22-at-19.22.16.jpeg
END:VEVENT
BEGIN:VEVENT
DTSTART;TZID=America/St_Vincent:20260226T100000
DTEND;TZID=America/St_Vincent:20260226T110000
DTSTAMP:20260419T112429
CREATED:20260107T033102Z
LAST-MODIFIED:20260227T142258Z
UID:10015774-1772100000-1772103600@mustique.life
SUMMARY:Aqua Aerobics
DESCRIPTION:Join the gym team at the Cotton House Pool  for an hour of aqua aerobic workouts that focus to improve cardiovascular health\, build strength\, and increase flexibility. \nFeel strong\, centered\, and unstoppable! \nTuesday\, Thursday\, Saturday \n10:00am – 11:00am \nALL BOOKINGS FOR GYM TIME SLOTS\, PRIVATE SESSIONS AND CLASSES MUST BE MADE IN ADVANCE BY CALLING EXT: 8920 OR BY EMAIL: YOGAFITNESS@COTTONHOUSE.NET \n 
URL:https://mustique.life/event/aqua-aerobics-3/2026-02-26/
LOCATION:Cotton House Pool
CATEGORIES:Sport / Wellness
ATTACH;FMTTYPE=image/jpeg:https://mustique.life/wp-content/uploads/2024/11/WhatsApp-Image-2024-11-22-at-19.22.16.jpeg
END:VEVENT
END:VCALENDAR