BEGIN:VCALENDAR
VERSION:2.0
PRODID:-//Mustique Events - Calendar - ECPv6.15.17.1//NONSGML v1.0//EN
CALSCALE:GREGORIAN
METHOD:PUBLISH
X-WR-CALNAME:Mustique Events - Calendar
X-ORIGINAL-URL:https://mustique.life
X-WR-CALDESC:Events for Mustique Events - Calendar
REFRESH-INTERVAL;VALUE=DURATION:PT1H
X-Robots-Tag:noindex
X-PUBLISHED-TTL:PT1H
BEGIN:VTIMEZONE
TZID:America/St_Vincent
BEGIN:STANDARD
TZOFFSETFROM:-0400
TZOFFSETTO:-0400
TZNAME:AST
DTSTART:20250101T000000
END:STANDARD
END:VTIMEZONE
BEGIN:VEVENT
DTSTART;TZID=America/St_Vincent:20260421T183000
DTEND;TZID=America/St_Vincent:20260421T200000
DTSTAMP:20260419T095016
CREATED:20251126T131710Z
LAST-MODIFIED:20260402T124643Z
UID:10014785-1776796200-1776801600@mustique.life
SUMMARY:Kids Movie Night: Turning Red
DESCRIPTION:Kids movies on the Cotton House Lawn. \nFree.
URL:https://mustique.life/event/kids-movie-night-the-smurfs-2/
LOCATION:Cotton House Lawn
CATEGORIES:Kids Activities
ATTACH;FMTTYPE=image/jpeg:https://mustique.life/wp-content/uploads/2022/03/Movie-Night.jpg
END:VEVENT
BEGIN:VEVENT
DTSTART;TZID=America/St_Vincent:20260423T183000
DTEND;TZID=America/St_Vincent:20260423T200000
DTSTAMP:20260419T095016
CREATED:20260115T134016Z
LAST-MODIFIED:20260115T134016Z
UID:10015819-1776969000-1776974400@mustique.life
SUMMARY:Projection of Eccentria: A Mustique Tale
DESCRIPTION:This entertaining documentary tells the story of how Mustique became the island we know and love today! \nIn the 1960’s Colin Tennant\, a scion of Scottish aristocracy\, bought a deserted Caribbean island. He fashioned it into a stage upon which he produced the theatre of his life – rich with eccentricity and adventure. In doing so\, he and his friends created the legend of Mustique. Eccentria tells their astonishing story through the memories of those who were there. \nThurdays \n6:30 – 8:00pm \nCotton House Lawn \nRSVP to the Cotton House Front Desk at frontdesk@cottonhouse.net\, to make sure we have enough seats! The Beach Café bar will be open.
URL:https://mustique.life/event/projection-of-eccentria-a-mustique-tale/2026-04-23/
LOCATION:Cotton House Lawn
CATEGORIES:Entertainment
ATTACH;FMTTYPE=image/jpeg:https://mustique.life/wp-content/uploads/2023/12/eccentria-movie.jpg
END:VEVENT
BEGIN:VEVENT
DTSTART;TZID=America/St_Vincent:20260424T183000
DTEND;TZID=America/St_Vincent:20260424T200000
DTSTAMP:20260419T095016
CREATED:20251015T132936Z
LAST-MODIFIED:20260402T124713Z
UID:10014470-1777055400-1777060800@mustique.life
SUMMARY:Kids Movie Night: Kung Fu Panda
DESCRIPTION:Kids movies on the Cotton House Lawn. \nFree.
URL:https://mustique.life/event/kids-movie-night-the-lion-king/
LOCATION:Cotton House Lawn
CATEGORIES:Kids Activities
ATTACH;FMTTYPE=image/jpeg:https://mustique.life/wp-content/uploads/2022/03/Movie-Night.jpg
END:VEVENT
BEGIN:VEVENT
DTSTART;TZID=America/St_Vincent:20260428T183000
DTEND;TZID=America/St_Vincent:20260428T200000
DTSTAMP:20260419T095016
CREATED:20251015T132810Z
LAST-MODIFIED:20260402T124743Z
UID:10014468-1777401000-1777406400@mustique.life
SUMMARY:Kids Movie Night: Sing
DESCRIPTION:Kids movies on the Cotton House Lawn. \nFree.
URL:https://mustique.life/event/kids-movie-night-happy-feet/
LOCATION:Cotton House Lawn
CATEGORIES:Kids Activities
ATTACH;FMTTYPE=image/jpeg:https://mustique.life/wp-content/uploads/2022/03/Movie-Night.jpg
END:VEVENT
BEGIN:VEVENT
DTSTART;TZID=America/St_Vincent:20260430T183000
DTEND;TZID=America/St_Vincent:20260430T200000
DTSTAMP:20260419T095016
CREATED:20260115T134016Z
LAST-MODIFIED:20260115T134016Z
UID:10015820-1777573800-1777579200@mustique.life
SUMMARY:Projection of Eccentria: A Mustique Tale
DESCRIPTION:This entertaining documentary tells the story of how Mustique became the island we know and love today! \nIn the 1960’s Colin Tennant\, a scion of Scottish aristocracy\, bought a deserted Caribbean island. He fashioned it into a stage upon which he produced the theatre of his life – rich with eccentricity and adventure. In doing so\, he and his friends created the legend of Mustique. Eccentria tells their astonishing story through the memories of those who were there. \nThurdays \n6:30 – 8:00pm \nCotton House Lawn \nRSVP to the Cotton House Front Desk at frontdesk@cottonhouse.net\, to make sure we have enough seats! The Beach Café bar will be open.
URL:https://mustique.life/event/projection-of-eccentria-a-mustique-tale/2026-04-30/
LOCATION:Cotton House Lawn
CATEGORIES:Entertainment
ATTACH;FMTTYPE=image/jpeg:https://mustique.life/wp-content/uploads/2023/12/eccentria-movie.jpg
END:VEVENT
BEGIN:VEVENT
DTSTART;TZID=America/St_Vincent:20260501T183000
DTEND;TZID=America/St_Vincent:20260501T200000
DTSTAMP:20260419T095016
CREATED:20251015T132625Z
LAST-MODIFIED:20260402T124828Z
UID:10014467-1777660200-1777665600@mustique.life
SUMMARY:Kids Movie Night: The Super Mario
DESCRIPTION:Kids movies on the Cotton House Lawn. \nFree.
URL:https://mustique.life/event/kids-movie-night-penguins/
LOCATION:Cotton House Lawn
CATEGORIES:Kids Activities
ATTACH;FMTTYPE=image/jpeg:https://mustique.life/wp-content/uploads/2022/03/Movie-Night.jpg
END:VEVENT
BEGIN:VEVENT
DTSTART;TZID=America/St_Vincent:20260505T183000
DTEND;TZID=America/St_Vincent:20260505T200000
DTSTAMP:20260419T095016
CREATED:20250630T194532Z
LAST-MODIFIED:20260402T124858Z
UID:10012618-1778005800-1778011200@mustique.life
SUMMARY:Kids Movie Night: Hotel Transylvania 2
DESCRIPTION:Kids movies on the Cotton House Lawn. \nFree.
URL:https://mustique.life/event/kids-movie-night-sing/
LOCATION:Cotton House Lawn
CATEGORIES:Kids Activities
ATTACH;FMTTYPE=image/jpeg:https://mustique.life/wp-content/uploads/2022/03/Movie-Night.jpg
END:VEVENT
BEGIN:VEVENT
DTSTART;TZID=America/St_Vincent:20260507T183000
DTEND;TZID=America/St_Vincent:20260507T200000
DTSTAMP:20260419T095016
CREATED:20260115T134016Z
LAST-MODIFIED:20260115T134016Z
UID:10015821-1778178600-1778184000@mustique.life
SUMMARY:Projection of Eccentria: A Mustique Tale
DESCRIPTION:This entertaining documentary tells the story of how Mustique became the island we know and love today! \nIn the 1960’s Colin Tennant\, a scion of Scottish aristocracy\, bought a deserted Caribbean island. He fashioned it into a stage upon which he produced the theatre of his life – rich with eccentricity and adventure. In doing so\, he and his friends created the legend of Mustique. Eccentria tells their astonishing story through the memories of those who were there. \nThurdays \n6:30 – 8:00pm \nCotton House Lawn \nRSVP to the Cotton House Front Desk at frontdesk@cottonhouse.net\, to make sure we have enough seats! The Beach Café bar will be open.
URL:https://mustique.life/event/projection-of-eccentria-a-mustique-tale/2026-05-07/
LOCATION:Cotton House Lawn
CATEGORIES:Entertainment
ATTACH;FMTTYPE=image/jpeg:https://mustique.life/wp-content/uploads/2023/12/eccentria-movie.jpg
END:VEVENT
BEGIN:VEVENT
DTSTART;TZID=America/St_Vincent:20260514T183000
DTEND;TZID=America/St_Vincent:20260514T200000
DTSTAMP:20260419T095016
CREATED:20260115T134016Z
LAST-MODIFIED:20260115T134016Z
UID:10015822-1778783400-1778788800@mustique.life
SUMMARY:Projection of Eccentria: A Mustique Tale
DESCRIPTION:This entertaining documentary tells the story of how Mustique became the island we know and love today! \nIn the 1960’s Colin Tennant\, a scion of Scottish aristocracy\, bought a deserted Caribbean island. He fashioned it into a stage upon which he produced the theatre of his life – rich with eccentricity and adventure. In doing so\, he and his friends created the legend of Mustique. Eccentria tells their astonishing story through the memories of those who were there. \nThurdays \n6:30 – 8:00pm \nCotton House Lawn \nRSVP to the Cotton House Front Desk at frontdesk@cottonhouse.net\, to make sure we have enough seats! The Beach Café bar will be open.
URL:https://mustique.life/event/projection-of-eccentria-a-mustique-tale/2026-05-14/
LOCATION:Cotton House Lawn
CATEGORIES:Entertainment
ATTACH;FMTTYPE=image/jpeg:https://mustique.life/wp-content/uploads/2023/12/eccentria-movie.jpg
END:VEVENT
BEGIN:VEVENT
DTSTART;TZID=America/St_Vincent:20260521T183000
DTEND;TZID=America/St_Vincent:20260521T200000
DTSTAMP:20260419T095016
CREATED:20260115T134016Z
LAST-MODIFIED:20260115T134016Z
UID:10015823-1779388200-1779393600@mustique.life
SUMMARY:Projection of Eccentria: A Mustique Tale
DESCRIPTION:This entertaining documentary tells the story of how Mustique became the island we know and love today! \nIn the 1960’s Colin Tennant\, a scion of Scottish aristocracy\, bought a deserted Caribbean island. He fashioned it into a stage upon which he produced the theatre of his life – rich with eccentricity and adventure. In doing so\, he and his friends created the legend of Mustique. Eccentria tells their astonishing story through the memories of those who were there. \nThurdays \n6:30 – 8:00pm \nCotton House Lawn \nRSVP to the Cotton House Front Desk at frontdesk@cottonhouse.net\, to make sure we have enough seats! The Beach Café bar will be open.
URL:https://mustique.life/event/projection-of-eccentria-a-mustique-tale/2026-05-21/
LOCATION:Cotton House Lawn
CATEGORIES:Entertainment
ATTACH;FMTTYPE=image/jpeg:https://mustique.life/wp-content/uploads/2023/12/eccentria-movie.jpg
END:VEVENT
BEGIN:VEVENT
DTSTART;TZID=America/St_Vincent:20260528T183000
DTEND;TZID=America/St_Vincent:20260528T200000
DTSTAMP:20260419T095016
CREATED:20260115T134016Z
LAST-MODIFIED:20260115T134016Z
UID:10015824-1779993000-1779998400@mustique.life
SUMMARY:Projection of Eccentria: A Mustique Tale
DESCRIPTION:This entertaining documentary tells the story of how Mustique became the island we know and love today! \nIn the 1960’s Colin Tennant\, a scion of Scottish aristocracy\, bought a deserted Caribbean island. He fashioned it into a stage upon which he produced the theatre of his life – rich with eccentricity and adventure. In doing so\, he and his friends created the legend of Mustique. Eccentria tells their astonishing story through the memories of those who were there. \nThurdays \n6:30 – 8:00pm \nCotton House Lawn \nRSVP to the Cotton House Front Desk at frontdesk@cottonhouse.net\, to make sure we have enough seats! The Beach Café bar will be open.
URL:https://mustique.life/event/projection-of-eccentria-a-mustique-tale/2026-05-28/
LOCATION:Cotton House Lawn
CATEGORIES:Entertainment
ATTACH;FMTTYPE=image/jpeg:https://mustique.life/wp-content/uploads/2023/12/eccentria-movie.jpg
END:VEVENT
BEGIN:VEVENT
DTSTART;TZID=America/St_Vincent:20260604T183000
DTEND;TZID=America/St_Vincent:20260604T200000
DTSTAMP:20260419T095016
CREATED:20260115T134016Z
LAST-MODIFIED:20260115T134016Z
UID:10015825-1780597800-1780603200@mustique.life
SUMMARY:Projection of Eccentria: A Mustique Tale
DESCRIPTION:This entertaining documentary tells the story of how Mustique became the island we know and love today! \nIn the 1960’s Colin Tennant\, a scion of Scottish aristocracy\, bought a deserted Caribbean island. He fashioned it into a stage upon which he produced the theatre of his life – rich with eccentricity and adventure. In doing so\, he and his friends created the legend of Mustique. Eccentria tells their astonishing story through the memories of those who were there. \nThurdays \n6:30 – 8:00pm \nCotton House Lawn \nRSVP to the Cotton House Front Desk at frontdesk@cottonhouse.net\, to make sure we have enough seats! The Beach Café bar will be open.
URL:https://mustique.life/event/projection-of-eccentria-a-mustique-tale/2026-06-04/
LOCATION:Cotton House Lawn
CATEGORIES:Entertainment
ATTACH;FMTTYPE=image/jpeg:https://mustique.life/wp-content/uploads/2023/12/eccentria-movie.jpg
END:VEVENT
BEGIN:VEVENT
DTSTART;TZID=America/St_Vincent:20260611T183000
DTEND;TZID=America/St_Vincent:20260611T200000
DTSTAMP:20260419T095016
CREATED:20260115T134016Z
LAST-MODIFIED:20260115T134016Z
UID:10015826-1781202600-1781208000@mustique.life
SUMMARY:Projection of Eccentria: A Mustique Tale
DESCRIPTION:This entertaining documentary tells the story of how Mustique became the island we know and love today! \nIn the 1960’s Colin Tennant\, a scion of Scottish aristocracy\, bought a deserted Caribbean island. He fashioned it into a stage upon which he produced the theatre of his life – rich with eccentricity and adventure. In doing so\, he and his friends created the legend of Mustique. Eccentria tells their astonishing story through the memories of those who were there. \nThurdays \n6:30 – 8:00pm \nCotton House Lawn \nRSVP to the Cotton House Front Desk at frontdesk@cottonhouse.net\, to make sure we have enough seats! The Beach Café bar will be open.
URL:https://mustique.life/event/projection-of-eccentria-a-mustique-tale/2026-06-11/
LOCATION:Cotton House Lawn
CATEGORIES:Entertainment
ATTACH;FMTTYPE=image/jpeg:https://mustique.life/wp-content/uploads/2023/12/eccentria-movie.jpg
END:VEVENT
BEGIN:VEVENT
DTSTART;TZID=America/St_Vincent:20260618T183000
DTEND;TZID=America/St_Vincent:20260618T200000
DTSTAMP:20260419T095016
CREATED:20260115T134016Z
LAST-MODIFIED:20260115T134016Z
UID:10015827-1781807400-1781812800@mustique.life
SUMMARY:Projection of Eccentria: A Mustique Tale
DESCRIPTION:This entertaining documentary tells the story of how Mustique became the island we know and love today! \nIn the 1960’s Colin Tennant\, a scion of Scottish aristocracy\, bought a deserted Caribbean island. He fashioned it into a stage upon which he produced the theatre of his life – rich with eccentricity and adventure. In doing so\, he and his friends created the legend of Mustique. Eccentria tells their astonishing story through the memories of those who were there. \nThurdays \n6:30 – 8:00pm \nCotton House Lawn \nRSVP to the Cotton House Front Desk at frontdesk@cottonhouse.net\, to make sure we have enough seats! The Beach Café bar will be open.
URL:https://mustique.life/event/projection-of-eccentria-a-mustique-tale/2026-06-18/
LOCATION:Cotton House Lawn
CATEGORIES:Entertainment
ATTACH;FMTTYPE=image/jpeg:https://mustique.life/wp-content/uploads/2023/12/eccentria-movie.jpg
END:VEVENT
BEGIN:VEVENT
DTSTART;TZID=America/St_Vincent:20260625T183000
DTEND;TZID=America/St_Vincent:20260625T200000
DTSTAMP:20260419T095016
CREATED:20260115T134016Z
LAST-MODIFIED:20260115T134016Z
UID:10015828-1782412200-1782417600@mustique.life
SUMMARY:Projection of Eccentria: A Mustique Tale
DESCRIPTION:This entertaining documentary tells the story of how Mustique became the island we know and love today! \nIn the 1960’s Colin Tennant\, a scion of Scottish aristocracy\, bought a deserted Caribbean island. He fashioned it into a stage upon which he produced the theatre of his life – rich with eccentricity and adventure. In doing so\, he and his friends created the legend of Mustique. Eccentria tells their astonishing story through the memories of those who were there. \nThurdays \n6:30 – 8:00pm \nCotton House Lawn \nRSVP to the Cotton House Front Desk at frontdesk@cottonhouse.net\, to make sure we have enough seats! The Beach Café bar will be open.
URL:https://mustique.life/event/projection-of-eccentria-a-mustique-tale/2026-06-25/
LOCATION:Cotton House Lawn
CATEGORIES:Entertainment
ATTACH;FMTTYPE=image/jpeg:https://mustique.life/wp-content/uploads/2023/12/eccentria-movie.jpg
END:VEVENT
BEGIN:VEVENT
DTSTART;TZID=America/St_Vincent:20260702T183000
DTEND;TZID=America/St_Vincent:20260702T200000
DTSTAMP:20260419T095016
CREATED:20260115T134016Z
LAST-MODIFIED:20260115T134016Z
UID:10015829-1783017000-1783022400@mustique.life
SUMMARY:Projection of Eccentria: A Mustique Tale
DESCRIPTION:This entertaining documentary tells the story of how Mustique became the island we know and love today! \nIn the 1960’s Colin Tennant\, a scion of Scottish aristocracy\, bought a deserted Caribbean island. He fashioned it into a stage upon which he produced the theatre of his life – rich with eccentricity and adventure. In doing so\, he and his friends created the legend of Mustique. Eccentria tells their astonishing story through the memories of those who were there. \nThurdays \n6:30 – 8:00pm \nCotton House Lawn \nRSVP to the Cotton House Front Desk at frontdesk@cottonhouse.net\, to make sure we have enough seats! The Beach Café bar will be open.
URL:https://mustique.life/event/projection-of-eccentria-a-mustique-tale/2026-07-02/
LOCATION:Cotton House Lawn
CATEGORIES:Entertainment
ATTACH;FMTTYPE=image/jpeg:https://mustique.life/wp-content/uploads/2023/12/eccentria-movie.jpg
END:VEVENT
BEGIN:VEVENT
DTSTART;TZID=America/St_Vincent:20260709T183000
DTEND;TZID=America/St_Vincent:20260709T200000
DTSTAMP:20260419T095016
CREATED:20260115T134016Z
LAST-MODIFIED:20260115T134016Z
UID:10015830-1783621800-1783627200@mustique.life
SUMMARY:Projection of Eccentria: A Mustique Tale
DESCRIPTION:This entertaining documentary tells the story of how Mustique became the island we know and love today! \nIn the 1960’s Colin Tennant\, a scion of Scottish aristocracy\, bought a deserted Caribbean island. He fashioned it into a stage upon which he produced the theatre of his life – rich with eccentricity and adventure. In doing so\, he and his friends created the legend of Mustique. Eccentria tells their astonishing story through the memories of those who were there. \nThurdays \n6:30 – 8:00pm \nCotton House Lawn \nRSVP to the Cotton House Front Desk at frontdesk@cottonhouse.net\, to make sure we have enough seats! The Beach Café bar will be open.
URL:https://mustique.life/event/projection-of-eccentria-a-mustique-tale/2026-07-09/
LOCATION:Cotton House Lawn
CATEGORIES:Entertainment
ATTACH;FMTTYPE=image/jpeg:https://mustique.life/wp-content/uploads/2023/12/eccentria-movie.jpg
END:VEVENT
BEGIN:VEVENT
DTSTART;TZID=America/St_Vincent:20260716T183000
DTEND;TZID=America/St_Vincent:20260716T200000
DTSTAMP:20260419T095016
CREATED:20260115T134016Z
LAST-MODIFIED:20260115T134016Z
UID:10015831-1784226600-1784232000@mustique.life
SUMMARY:Projection of Eccentria: A Mustique Tale
DESCRIPTION:This entertaining documentary tells the story of how Mustique became the island we know and love today! \nIn the 1960’s Colin Tennant\, a scion of Scottish aristocracy\, bought a deserted Caribbean island. He fashioned it into a stage upon which he produced the theatre of his life – rich with eccentricity and adventure. In doing so\, he and his friends created the legend of Mustique. Eccentria tells their astonishing story through the memories of those who were there. \nThurdays \n6:30 – 8:00pm \nCotton House Lawn \nRSVP to the Cotton House Front Desk at frontdesk@cottonhouse.net\, to make sure we have enough seats! The Beach Café bar will be open.
URL:https://mustique.life/event/projection-of-eccentria-a-mustique-tale/2026-07-16/
LOCATION:Cotton House Lawn
CATEGORIES:Entertainment
ATTACH;FMTTYPE=image/jpeg:https://mustique.life/wp-content/uploads/2023/12/eccentria-movie.jpg
END:VEVENT
BEGIN:VEVENT
DTSTART;TZID=America/St_Vincent:20260723T183000
DTEND;TZID=America/St_Vincent:20260723T200000
DTSTAMP:20260419T095016
CREATED:20260115T134016Z
LAST-MODIFIED:20260115T134016Z
UID:10015832-1784831400-1784836800@mustique.life
SUMMARY:Projection of Eccentria: A Mustique Tale
DESCRIPTION:This entertaining documentary tells the story of how Mustique became the island we know and love today! \nIn the 1960’s Colin Tennant\, a scion of Scottish aristocracy\, bought a deserted Caribbean island. He fashioned it into a stage upon which he produced the theatre of his life – rich with eccentricity and adventure. In doing so\, he and his friends created the legend of Mustique. Eccentria tells their astonishing story through the memories of those who were there. \nThurdays \n6:30 – 8:00pm \nCotton House Lawn \nRSVP to the Cotton House Front Desk at frontdesk@cottonhouse.net\, to make sure we have enough seats! The Beach Café bar will be open.
URL:https://mustique.life/event/projection-of-eccentria-a-mustique-tale/2026-07-23/
LOCATION:Cotton House Lawn
CATEGORIES:Entertainment
ATTACH;FMTTYPE=image/jpeg:https://mustique.life/wp-content/uploads/2023/12/eccentria-movie.jpg
END:VEVENT
BEGIN:VEVENT
DTSTART;TZID=America/St_Vincent:20260730T183000
DTEND;TZID=America/St_Vincent:20260730T200000
DTSTAMP:20260419T095016
CREATED:20260115T134016Z
LAST-MODIFIED:20260115T134016Z
UID:10015833-1785436200-1785441600@mustique.life
SUMMARY:Projection of Eccentria: A Mustique Tale
DESCRIPTION:This entertaining documentary tells the story of how Mustique became the island we know and love today! \nIn the 1960’s Colin Tennant\, a scion of Scottish aristocracy\, bought a deserted Caribbean island. He fashioned it into a stage upon which he produced the theatre of his life – rich with eccentricity and adventure. In doing so\, he and his friends created the legend of Mustique. Eccentria tells their astonishing story through the memories of those who were there. \nThurdays \n6:30 – 8:00pm \nCotton House Lawn \nRSVP to the Cotton House Front Desk at frontdesk@cottonhouse.net\, to make sure we have enough seats! The Beach Café bar will be open.
URL:https://mustique.life/event/projection-of-eccentria-a-mustique-tale/2026-07-30/
LOCATION:Cotton House Lawn
CATEGORIES:Entertainment
ATTACH;FMTTYPE=image/jpeg:https://mustique.life/wp-content/uploads/2023/12/eccentria-movie.jpg
END:VEVENT
BEGIN:VEVENT
DTSTART;TZID=America/St_Vincent:20260806T183000
DTEND;TZID=America/St_Vincent:20260806T200000
DTSTAMP:20260419T095016
CREATED:20260115T134016Z
LAST-MODIFIED:20260115T134016Z
UID:10015834-1786041000-1786046400@mustique.life
SUMMARY:Projection of Eccentria: A Mustique Tale
DESCRIPTION:This entertaining documentary tells the story of how Mustique became the island we know and love today! \nIn the 1960’s Colin Tennant\, a scion of Scottish aristocracy\, bought a deserted Caribbean island. He fashioned it into a stage upon which he produced the theatre of his life – rich with eccentricity and adventure. In doing so\, he and his friends created the legend of Mustique. Eccentria tells their astonishing story through the memories of those who were there. \nThurdays \n6:30 – 8:00pm \nCotton House Lawn \nRSVP to the Cotton House Front Desk at frontdesk@cottonhouse.net\, to make sure we have enough seats! The Beach Café bar will be open.
URL:https://mustique.life/event/projection-of-eccentria-a-mustique-tale/2026-08-06/
LOCATION:Cotton House Lawn
CATEGORIES:Entertainment
ATTACH;FMTTYPE=image/jpeg:https://mustique.life/wp-content/uploads/2023/12/eccentria-movie.jpg
END:VEVENT
BEGIN:VEVENT
DTSTART;TZID=America/St_Vincent:20260813T183000
DTEND;TZID=America/St_Vincent:20260813T200000
DTSTAMP:20260419T095016
CREATED:20260115T134016Z
LAST-MODIFIED:20260115T134016Z
UID:10015835-1786645800-1786651200@mustique.life
SUMMARY:Projection of Eccentria: A Mustique Tale
DESCRIPTION:This entertaining documentary tells the story of how Mustique became the island we know and love today! \nIn the 1960’s Colin Tennant\, a scion of Scottish aristocracy\, bought a deserted Caribbean island. He fashioned it into a stage upon which he produced the theatre of his life – rich with eccentricity and adventure. In doing so\, he and his friends created the legend of Mustique. Eccentria tells their astonishing story through the memories of those who were there. \nThurdays \n6:30 – 8:00pm \nCotton House Lawn \nRSVP to the Cotton House Front Desk at frontdesk@cottonhouse.net\, to make sure we have enough seats! The Beach Café bar will be open.
URL:https://mustique.life/event/projection-of-eccentria-a-mustique-tale/2026-08-13/
LOCATION:Cotton House Lawn
CATEGORIES:Entertainment
ATTACH;FMTTYPE=image/jpeg:https://mustique.life/wp-content/uploads/2023/12/eccentria-movie.jpg
END:VEVENT
BEGIN:VEVENT
DTSTART;TZID=America/St_Vincent:20260820T183000
DTEND;TZID=America/St_Vincent:20260820T200000
DTSTAMP:20260419T095016
CREATED:20260115T134016Z
LAST-MODIFIED:20260115T134016Z
UID:10015836-1787250600-1787256000@mustique.life
SUMMARY:Projection of Eccentria: A Mustique Tale
DESCRIPTION:This entertaining documentary tells the story of how Mustique became the island we know and love today! \nIn the 1960’s Colin Tennant\, a scion of Scottish aristocracy\, bought a deserted Caribbean island. He fashioned it into a stage upon which he produced the theatre of his life – rich with eccentricity and adventure. In doing so\, he and his friends created the legend of Mustique. Eccentria tells their astonishing story through the memories of those who were there. \nThurdays \n6:30 – 8:00pm \nCotton House Lawn \nRSVP to the Cotton House Front Desk at frontdesk@cottonhouse.net\, to make sure we have enough seats! The Beach Café bar will be open.
URL:https://mustique.life/event/projection-of-eccentria-a-mustique-tale/2026-08-20/
LOCATION:Cotton House Lawn
CATEGORIES:Entertainment
ATTACH;FMTTYPE=image/jpeg:https://mustique.life/wp-content/uploads/2023/12/eccentria-movie.jpg
END:VEVENT
BEGIN:VEVENT
DTSTART;TZID=America/St_Vincent:20260827T183000
DTEND;TZID=America/St_Vincent:20260827T200000
DTSTAMP:20260419T095016
CREATED:20260115T134016Z
LAST-MODIFIED:20260115T134016Z
UID:10015837-1787855400-1787860800@mustique.life
SUMMARY:Projection of Eccentria: A Mustique Tale
DESCRIPTION:This entertaining documentary tells the story of how Mustique became the island we know and love today! \nIn the 1960’s Colin Tennant\, a scion of Scottish aristocracy\, bought a deserted Caribbean island. He fashioned it into a stage upon which he produced the theatre of his life – rich with eccentricity and adventure. In doing so\, he and his friends created the legend of Mustique. Eccentria tells their astonishing story through the memories of those who were there. \nThurdays \n6:30 – 8:00pm \nCotton House Lawn \nRSVP to the Cotton House Front Desk at frontdesk@cottonhouse.net\, to make sure we have enough seats! The Beach Café bar will be open.
URL:https://mustique.life/event/projection-of-eccentria-a-mustique-tale/2026-08-27/
LOCATION:Cotton House Lawn
CATEGORIES:Entertainment
ATTACH;FMTTYPE=image/jpeg:https://mustique.life/wp-content/uploads/2023/12/eccentria-movie.jpg
END:VEVENT
END:VCALENDAR