BEGIN:VCALENDAR
VERSION:2.0
PRODID:-//Mustique Events - Calendar - ECPv6.15.17.1//NONSGML v1.0//EN
CALSCALE:GREGORIAN
METHOD:PUBLISH
X-WR-CALNAME:Mustique Events - Calendar
X-ORIGINAL-URL:https://mustique.life
X-WR-CALDESC:Events for Mustique Events - Calendar
REFRESH-INTERVAL;VALUE=DURATION:PT1H
X-Robots-Tag:noindex
X-PUBLISHED-TTL:PT1H
BEGIN:VTIMEZONE
TZID:America/St_Vincent
BEGIN:STANDARD
TZOFFSETFROM:-0400
TZOFFSETTO:-0400
TZNAME:AST
DTSTART:20250101T000000
END:STANDARD
END:VTIMEZONE
BEGIN:VEVENT
DTSTART;TZID=America/St_Vincent:20260416T140000
DTEND;TZID=America/St_Vincent:20260416T160000
DTSTAMP:20260419T112250
CREATED:20251003T033102Z
LAST-MODIFIED:20251006T123444Z
UID:10014267-1776348000-1776355200@mustique.life
SUMMARY:Snorkeling with Green Sea Turtles
DESCRIPTION:Come face to face with Mustique’s resident Green sea turtles in their natural habitat in front of Basil’s Bar. A member of the Watersports team will accompany you\,\nsharing fun facts about sea turtles and other ocean creatures along the way. \nPlease note that sea turtles are wild animals and sightings are not guaranteed\, please also do not chase or scare them. \nWhen? Every Tuesday & Thursday 14:00 – 16:00\nHow much? $50 pp (minimum 4 pax) \nTo book please contact watersports@mustique.vc \nIf you would like to personalise this experience and explore other areas of Mustique with your own private guide\, please contact watersports@mustique.vc. \nPlease note that additional fees apply
URL:https://mustique.life/event/__trashed-13/2026-04-16/
LOCATION:Britannia Bay
CATEGORIES:Sport / Wellness
ATTACH;FMTTYPE=image/jpeg:https://mustique.life/wp-content/uploads/2022/12/Turtles-MUSTIQUE-16.08.2019-20.jpg
END:VEVENT
BEGIN:VEVENT
DTSTART;TZID=America/St_Vincent:20260414T140000
DTEND;TZID=America/St_Vincent:20260414T160000
DTSTAMP:20260419T112250
CREATED:20251003T033102Z
LAST-MODIFIED:20251006T123444Z
UID:10014266-1776175200-1776182400@mustique.life
SUMMARY:Snorkeling with Green Sea Turtles
DESCRIPTION:Come face to face with Mustique’s resident Green sea turtles in their natural habitat in front of Basil’s Bar. A member of the Watersports team will accompany you\,\nsharing fun facts about sea turtles and other ocean creatures along the way. \nPlease note that sea turtles are wild animals and sightings are not guaranteed\, please also do not chase or scare them. \nWhen? Every Tuesday & Thursday 14:00 – 16:00\nHow much? $50 pp (minimum 4 pax) \nTo book please contact watersports@mustique.vc \nIf you would like to personalise this experience and explore other areas of Mustique with your own private guide\, please contact watersports@mustique.vc. \nPlease note that additional fees apply
URL:https://mustique.life/event/__trashed-13/2026-04-14/
LOCATION:Britannia Bay
CATEGORIES:Sport / Wellness
ATTACH;FMTTYPE=image/jpeg:https://mustique.life/wp-content/uploads/2022/12/Turtles-MUSTIQUE-16.08.2019-20.jpg
END:VEVENT
BEGIN:VEVENT
DTSTART;TZID=America/St_Vincent:20260409T140000
DTEND;TZID=America/St_Vincent:20260409T160000
DTSTAMP:20260419T112250
CREATED:20251003T033102Z
LAST-MODIFIED:20251006T123444Z
UID:10014265-1775743200-1775750400@mustique.life
SUMMARY:Snorkeling with Green Sea Turtles
DESCRIPTION:Come face to face with Mustique’s resident Green sea turtles in their natural habitat in front of Basil’s Bar. A member of the Watersports team will accompany you\,\nsharing fun facts about sea turtles and other ocean creatures along the way. \nPlease note that sea turtles are wild animals and sightings are not guaranteed\, please also do not chase or scare them. \nWhen? Every Tuesday & Thursday 14:00 – 16:00\nHow much? $50 pp (minimum 4 pax) \nTo book please contact watersports@mustique.vc \nIf you would like to personalise this experience and explore other areas of Mustique with your own private guide\, please contact watersports@mustique.vc. \nPlease note that additional fees apply
URL:https://mustique.life/event/__trashed-13/2026-04-09/
LOCATION:Britannia Bay
CATEGORIES:Sport / Wellness
ATTACH;FMTTYPE=image/jpeg:https://mustique.life/wp-content/uploads/2022/12/Turtles-MUSTIQUE-16.08.2019-20.jpg
END:VEVENT
BEGIN:VEVENT
DTSTART;TZID=America/St_Vincent:20260407T140000
DTEND;TZID=America/St_Vincent:20260407T160000
DTSTAMP:20260419T112250
CREATED:20251003T033102Z
LAST-MODIFIED:20251006T123444Z
UID:10014264-1775570400-1775577600@mustique.life
SUMMARY:Snorkeling with Green Sea Turtles
DESCRIPTION:Come face to face with Mustique’s resident Green sea turtles in their natural habitat in front of Basil’s Bar. A member of the Watersports team will accompany you\,\nsharing fun facts about sea turtles and other ocean creatures along the way. \nPlease note that sea turtles are wild animals and sightings are not guaranteed\, please also do not chase or scare them. \nWhen? Every Tuesday & Thursday 14:00 – 16:00\nHow much? $50 pp (minimum 4 pax) \nTo book please contact watersports@mustique.vc \nIf you would like to personalise this experience and explore other areas of Mustique with your own private guide\, please contact watersports@mustique.vc. \nPlease note that additional fees apply
URL:https://mustique.life/event/__trashed-13/2026-04-07/
LOCATION:Britannia Bay
CATEGORIES:Sport / Wellness
ATTACH;FMTTYPE=image/jpeg:https://mustique.life/wp-content/uploads/2022/12/Turtles-MUSTIQUE-16.08.2019-20.jpg
END:VEVENT
BEGIN:VEVENT
DTSTART;TZID=America/St_Vincent:20260402T140000
DTEND;TZID=America/St_Vincent:20260402T160000
DTSTAMP:20260419T112250
CREATED:20251003T033102Z
LAST-MODIFIED:20251006T123444Z
UID:10014263-1775138400-1775145600@mustique.life
SUMMARY:Snorkeling with Green Sea Turtles
DESCRIPTION:Come face to face with Mustique’s resident Green sea turtles in their natural habitat in front of Basil’s Bar. A member of the Watersports team will accompany you\,\nsharing fun facts about sea turtles and other ocean creatures along the way. \nPlease note that sea turtles are wild animals and sightings are not guaranteed\, please also do not chase or scare them. \nWhen? Every Tuesday & Thursday 14:00 – 16:00\nHow much? $50 pp (minimum 4 pax) \nTo book please contact watersports@mustique.vc \nIf you would like to personalise this experience and explore other areas of Mustique with your own private guide\, please contact watersports@mustique.vc. \nPlease note that additional fees apply
URL:https://mustique.life/event/__trashed-13/2026-04-02/
LOCATION:Britannia Bay
CATEGORIES:Sport / Wellness
ATTACH;FMTTYPE=image/jpeg:https://mustique.life/wp-content/uploads/2022/12/Turtles-MUSTIQUE-16.08.2019-20.jpg
END:VEVENT
BEGIN:VEVENT
DTSTART;TZID=America/St_Vincent:20260331T140000
DTEND;TZID=America/St_Vincent:20260331T160000
DTSTAMP:20260419T112250
CREATED:20251003T033102Z
LAST-MODIFIED:20251006T123444Z
UID:10014262-1774965600-1774972800@mustique.life
SUMMARY:Snorkeling with Green Sea Turtles
DESCRIPTION:Come face to face with Mustique’s resident Green sea turtles in their natural habitat in front of Basil’s Bar. A member of the Watersports team will accompany you\,\nsharing fun facts about sea turtles and other ocean creatures along the way. \nPlease note that sea turtles are wild animals and sightings are not guaranteed\, please also do not chase or scare them. \nWhen? Every Tuesday & Thursday 14:00 – 16:00\nHow much? $50 pp (minimum 4 pax) \nTo book please contact watersports@mustique.vc \nIf you would like to personalise this experience and explore other areas of Mustique with your own private guide\, please contact watersports@mustique.vc. \nPlease note that additional fees apply
URL:https://mustique.life/event/__trashed-13/2026-03-31/
LOCATION:Britannia Bay
CATEGORIES:Sport / Wellness
ATTACH;FMTTYPE=image/jpeg:https://mustique.life/wp-content/uploads/2022/12/Turtles-MUSTIQUE-16.08.2019-20.jpg
END:VEVENT
BEGIN:VEVENT
DTSTART;TZID=America/St_Vincent:20260326T140000
DTEND;TZID=America/St_Vincent:20260326T160000
DTSTAMP:20260419T112250
CREATED:20251003T033102Z
LAST-MODIFIED:20251006T123444Z
UID:10014261-1774533600-1774540800@mustique.life
SUMMARY:Snorkeling with Green Sea Turtles
DESCRIPTION:Come face to face with Mustique’s resident Green sea turtles in their natural habitat in front of Basil’s Bar. A member of the Watersports team will accompany you\,\nsharing fun facts about sea turtles and other ocean creatures along the way. \nPlease note that sea turtles are wild animals and sightings are not guaranteed\, please also do not chase or scare them. \nWhen? Every Tuesday & Thursday 14:00 – 16:00\nHow much? $50 pp (minimum 4 pax) \nTo book please contact watersports@mustique.vc \nIf you would like to personalise this experience and explore other areas of Mustique with your own private guide\, please contact watersports@mustique.vc. \nPlease note that additional fees apply
URL:https://mustique.life/event/__trashed-13/2026-03-26/
LOCATION:Britannia Bay
CATEGORIES:Sport / Wellness
ATTACH;FMTTYPE=image/jpeg:https://mustique.life/wp-content/uploads/2022/12/Turtles-MUSTIQUE-16.08.2019-20.jpg
END:VEVENT
BEGIN:VEVENT
DTSTART;TZID=America/St_Vincent:20260324T140000
DTEND;TZID=America/St_Vincent:20260324T160000
DTSTAMP:20260419T112250
CREATED:20251003T033102Z
LAST-MODIFIED:20251006T123444Z
UID:10014260-1774360800-1774368000@mustique.life
SUMMARY:Snorkeling with Green Sea Turtles
DESCRIPTION:Come face to face with Mustique’s resident Green sea turtles in their natural habitat in front of Basil’s Bar. A member of the Watersports team will accompany you\,\nsharing fun facts about sea turtles and other ocean creatures along the way. \nPlease note that sea turtles are wild animals and sightings are not guaranteed\, please also do not chase or scare them. \nWhen? Every Tuesday & Thursday 14:00 – 16:00\nHow much? $50 pp (minimum 4 pax) \nTo book please contact watersports@mustique.vc \nIf you would like to personalise this experience and explore other areas of Mustique with your own private guide\, please contact watersports@mustique.vc. \nPlease note that additional fees apply
URL:https://mustique.life/event/__trashed-13/2026-03-24/
LOCATION:Britannia Bay
CATEGORIES:Sport / Wellness
ATTACH;FMTTYPE=image/jpeg:https://mustique.life/wp-content/uploads/2022/12/Turtles-MUSTIQUE-16.08.2019-20.jpg
END:VEVENT
BEGIN:VEVENT
DTSTART;TZID=America/St_Vincent:20260319T140000
DTEND;TZID=America/St_Vincent:20260319T160000
DTSTAMP:20260419T112250
CREATED:20251003T033102Z
LAST-MODIFIED:20251006T123444Z
UID:10014259-1773928800-1773936000@mustique.life
SUMMARY:Snorkeling with Green Sea Turtles
DESCRIPTION:Come face to face with Mustique’s resident Green sea turtles in their natural habitat in front of Basil’s Bar. A member of the Watersports team will accompany you\,\nsharing fun facts about sea turtles and other ocean creatures along the way. \nPlease note that sea turtles are wild animals and sightings are not guaranteed\, please also do not chase or scare them. \nWhen? Every Tuesday & Thursday 14:00 – 16:00\nHow much? $50 pp (minimum 4 pax) \nTo book please contact watersports@mustique.vc \nIf you would like to personalise this experience and explore other areas of Mustique with your own private guide\, please contact watersports@mustique.vc. \nPlease note that additional fees apply
URL:https://mustique.life/event/__trashed-13/2026-03-19/
LOCATION:Britannia Bay
CATEGORIES:Sport / Wellness
ATTACH;FMTTYPE=image/jpeg:https://mustique.life/wp-content/uploads/2022/12/Turtles-MUSTIQUE-16.08.2019-20.jpg
END:VEVENT
BEGIN:VEVENT
DTSTART;TZID=America/St_Vincent:20260317T140000
DTEND;TZID=America/St_Vincent:20260317T160000
DTSTAMP:20260419T112250
CREATED:20251003T033102Z
LAST-MODIFIED:20251006T123444Z
UID:10014258-1773756000-1773763200@mustique.life
SUMMARY:Snorkeling with Green Sea Turtles
DESCRIPTION:Come face to face with Mustique’s resident Green sea turtles in their natural habitat in front of Basil’s Bar. A member of the Watersports team will accompany you\,\nsharing fun facts about sea turtles and other ocean creatures along the way. \nPlease note that sea turtles are wild animals and sightings are not guaranteed\, please also do not chase or scare them. \nWhen? Every Tuesday & Thursday 14:00 – 16:00\nHow much? $50 pp (minimum 4 pax) \nTo book please contact watersports@mustique.vc \nIf you would like to personalise this experience and explore other areas of Mustique with your own private guide\, please contact watersports@mustique.vc. \nPlease note that additional fees apply
URL:https://mustique.life/event/__trashed-13/2026-03-17/
LOCATION:Britannia Bay
CATEGORIES:Sport / Wellness
ATTACH;FMTTYPE=image/jpeg:https://mustique.life/wp-content/uploads/2022/12/Turtles-MUSTIQUE-16.08.2019-20.jpg
END:VEVENT
BEGIN:VEVENT
DTSTART;TZID=America/St_Vincent:20260312T140000
DTEND;TZID=America/St_Vincent:20260312T160000
DTSTAMP:20260419T112250
CREATED:20251003T033102Z
LAST-MODIFIED:20251006T123444Z
UID:10014257-1773324000-1773331200@mustique.life
SUMMARY:Snorkeling with Green Sea Turtles
DESCRIPTION:Come face to face with Mustique’s resident Green sea turtles in their natural habitat in front of Basil’s Bar. A member of the Watersports team will accompany you\,\nsharing fun facts about sea turtles and other ocean creatures along the way. \nPlease note that sea turtles are wild animals and sightings are not guaranteed\, please also do not chase or scare them. \nWhen? Every Tuesday & Thursday 14:00 – 16:00\nHow much? $50 pp (minimum 4 pax) \nTo book please contact watersports@mustique.vc \nIf you would like to personalise this experience and explore other areas of Mustique with your own private guide\, please contact watersports@mustique.vc. \nPlease note that additional fees apply
URL:https://mustique.life/event/__trashed-13/2026-03-12/
LOCATION:Britannia Bay
CATEGORIES:Sport / Wellness
ATTACH;FMTTYPE=image/jpeg:https://mustique.life/wp-content/uploads/2022/12/Turtles-MUSTIQUE-16.08.2019-20.jpg
END:VEVENT
BEGIN:VEVENT
DTSTART;TZID=America/St_Vincent:20260310T140000
DTEND;TZID=America/St_Vincent:20260310T160000
DTSTAMP:20260419T112250
CREATED:20251003T033102Z
LAST-MODIFIED:20251006T123444Z
UID:10014256-1773151200-1773158400@mustique.life
SUMMARY:Snorkeling with Green Sea Turtles
DESCRIPTION:Come face to face with Mustique’s resident Green sea turtles in their natural habitat in front of Basil’s Bar. A member of the Watersports team will accompany you\,\nsharing fun facts about sea turtles and other ocean creatures along the way. \nPlease note that sea turtles are wild animals and sightings are not guaranteed\, please also do not chase or scare them. \nWhen? Every Tuesday & Thursday 14:00 – 16:00\nHow much? $50 pp (minimum 4 pax) \nTo book please contact watersports@mustique.vc \nIf you would like to personalise this experience and explore other areas of Mustique with your own private guide\, please contact watersports@mustique.vc. \nPlease note that additional fees apply
URL:https://mustique.life/event/__trashed-13/2026-03-10/
LOCATION:Britannia Bay
CATEGORIES:Sport / Wellness
ATTACH;FMTTYPE=image/jpeg:https://mustique.life/wp-content/uploads/2022/12/Turtles-MUSTIQUE-16.08.2019-20.jpg
END:VEVENT
BEGIN:VEVENT
DTSTART;TZID=America/St_Vincent:20260305T140000
DTEND;TZID=America/St_Vincent:20260305T160000
DTSTAMP:20260419T112250
CREATED:20251003T033102Z
LAST-MODIFIED:20251006T123444Z
UID:10014255-1772719200-1772726400@mustique.life
SUMMARY:Snorkeling with Green Sea Turtles
DESCRIPTION:Come face to face with Mustique’s resident Green sea turtles in their natural habitat in front of Basil’s Bar. A member of the Watersports team will accompany you\,\nsharing fun facts about sea turtles and other ocean creatures along the way. \nPlease note that sea turtles are wild animals and sightings are not guaranteed\, please also do not chase or scare them. \nWhen? Every Tuesday & Thursday 14:00 – 16:00\nHow much? $50 pp (minimum 4 pax) \nTo book please contact watersports@mustique.vc \nIf you would like to personalise this experience and explore other areas of Mustique with your own private guide\, please contact watersports@mustique.vc. \nPlease note that additional fees apply
URL:https://mustique.life/event/__trashed-13/2026-03-05/
LOCATION:Britannia Bay
CATEGORIES:Sport / Wellness
ATTACH;FMTTYPE=image/jpeg:https://mustique.life/wp-content/uploads/2022/12/Turtles-MUSTIQUE-16.08.2019-20.jpg
END:VEVENT
BEGIN:VEVENT
DTSTART;TZID=America/St_Vincent:20260303T140000
DTEND;TZID=America/St_Vincent:20260303T160000
DTSTAMP:20260419T112250
CREATED:20251003T033102Z
LAST-MODIFIED:20251006T123444Z
UID:10014254-1772546400-1772553600@mustique.life
SUMMARY:Snorkeling with Green Sea Turtles
DESCRIPTION:Come face to face with Mustique’s resident Green sea turtles in their natural habitat in front of Basil’s Bar. A member of the Watersports team will accompany you\,\nsharing fun facts about sea turtles and other ocean creatures along the way. \nPlease note that sea turtles are wild animals and sightings are not guaranteed\, please also do not chase or scare them. \nWhen? Every Tuesday & Thursday 14:00 – 16:00\nHow much? $50 pp (minimum 4 pax) \nTo book please contact watersports@mustique.vc \nIf you would like to personalise this experience and explore other areas of Mustique with your own private guide\, please contact watersports@mustique.vc. \nPlease note that additional fees apply
URL:https://mustique.life/event/__trashed-13/2026-03-03/
LOCATION:Britannia Bay
CATEGORIES:Sport / Wellness
ATTACH;FMTTYPE=image/jpeg:https://mustique.life/wp-content/uploads/2022/12/Turtles-MUSTIQUE-16.08.2019-20.jpg
END:VEVENT
BEGIN:VEVENT
DTSTART;TZID=America/St_Vincent:20260226T140000
DTEND;TZID=America/St_Vincent:20260226T160000
DTSTAMP:20260419T112250
CREATED:20251003T033102Z
LAST-MODIFIED:20251006T123444Z
UID:10014253-1772114400-1772121600@mustique.life
SUMMARY:Snorkeling with Green Sea Turtles
DESCRIPTION:Come face to face with Mustique’s resident Green sea turtles in their natural habitat in front of Basil’s Bar. A member of the Watersports team will accompany you\,\nsharing fun facts about sea turtles and other ocean creatures along the way. \nPlease note that sea turtles are wild animals and sightings are not guaranteed\, please also do not chase or scare them. \nWhen? Every Tuesday & Thursday 14:00 – 16:00\nHow much? $50 pp (minimum 4 pax) \nTo book please contact watersports@mustique.vc \nIf you would like to personalise this experience and explore other areas of Mustique with your own private guide\, please contact watersports@mustique.vc. \nPlease note that additional fees apply
URL:https://mustique.life/event/__trashed-13/2026-02-26/
LOCATION:Britannia Bay
CATEGORIES:Sport / Wellness
ATTACH;FMTTYPE=image/jpeg:https://mustique.life/wp-content/uploads/2022/12/Turtles-MUSTIQUE-16.08.2019-20.jpg
END:VEVENT
END:VCALENDAR