BEGIN:VCALENDAR
VERSION:2.0
PRODID:-//Mustique Events - Calendar - ECPv6.15.17.1//NONSGML v1.0//EN
CALSCALE:GREGORIAN
METHOD:PUBLISH
X-WR-CALNAME:Mustique Events - Calendar
X-ORIGINAL-URL:https://mustique.life
X-WR-CALDESC:Events for Mustique Events - Calendar
REFRESH-INTERVAL;VALUE=DURATION:PT1H
X-Robots-Tag:noindex
X-PUBLISHED-TTL:PT1H
BEGIN:VTIMEZONE
TZID:America/St_Vincent
BEGIN:STANDARD
TZOFFSETFROM:-0400
TZOFFSETTO:-0400
TZNAME:AST
DTSTART:20250101T000000
END:STANDARD
END:VTIMEZONE
BEGIN:VEVENT
DTSTART;TZID=America/St_Vincent:20260421T193000
DTEND;TZID=America/St_Vincent:20260421T210000
DTSTAMP:20260419T094830
CREATED:20250819T141104Z
LAST-MODIFIED:20250819T141104Z
UID:10013083-1776799800-1776805200@mustique.life
SUMMARY:Cook On The Sand
DESCRIPTION:An evening of delicious food as our chefs cook over an open fire on the sand. \nBook your table by calling the Cotton House on 8215.
URL:https://mustique.life/event/cook-on-the-sand/2026-04-21/
LOCATION:Beach Cafe
CATEGORIES:Entertainment
ATTACH;FMTTYPE=image/jpeg:https://mustique.life/wp-content/uploads/2022/03/Cook-on-the-Sand.jpg
END:VEVENT
BEGIN:VEVENT
DTSTART;TZID=America/St_Vincent:20260423T190000
DTEND;TZID=America/St_Vincent:20260423T210000
DTSTAMP:20260419T094830
CREATED:20251015T135355Z
LAST-MODIFIED:20260115T141108Z
UID:10014696-1776970800-1776978000@mustique.life
SUMMARY:Beach Café BBQ & Mezze Night
DESCRIPTION:Enjoy a curated mix of BBQ and mezze\, served on shared platters for everyone to savor together. \nThursdays \n7:00pm \nBeach Cafe \n55USD per person including VAT and 12% service charge
URL:https://mustique.life/event/caribbean-bbq-dinner/2026-04-23/
LOCATION:Beach Cafe
CATEGORIES:Entertainment
ATTACH;FMTTYPE=image/jpeg:https://mustique.life/wp-content/uploads/2025/10/mezze-night.jpg
END:VEVENT
BEGIN:VEVENT
DTSTART;TZID=America/St_Vincent:20260424T183000
DTEND;TZID=America/St_Vincent:20260424T200000
DTSTAMP:20260419T094830
CREATED:20250819T140937Z
LAST-MODIFIED:20250819T140937Z
UID:10013039-1777055400-1777060800@mustique.life
SUMMARY:Happy Hour & a Half - Beach Café
DESCRIPTION:Half price drinks at the Beach Café and delicious pizzas from our pizza oven. \nJoin everyone from 6.30pm – 8pm.
URL:https://mustique.life/event/happy-hour-a-half-beach-cafe-2/2026-04-24/
LOCATION:Beach Cafe
CATEGORIES:Entertainment
ATTACH;FMTTYPE=image/jpeg:https://mustique.life/wp-content/uploads/2022/03/Happy-Hour-Beach-Cafe.jpg
END:VEVENT
BEGIN:VEVENT
DTSTART;TZID=America/St_Vincent:20260428T193000
DTEND;TZID=America/St_Vincent:20260428T210000
DTSTAMP:20260419T094830
CREATED:20250819T141104Z
LAST-MODIFIED:20250819T141104Z
UID:10013084-1777404600-1777410000@mustique.life
SUMMARY:Cook On The Sand
DESCRIPTION:An evening of delicious food as our chefs cook over an open fire on the sand. \nBook your table by calling the Cotton House on 8215.
URL:https://mustique.life/event/cook-on-the-sand/2026-04-28/
LOCATION:Beach Cafe
CATEGORIES:Entertainment
ATTACH;FMTTYPE=image/jpeg:https://mustique.life/wp-content/uploads/2022/03/Cook-on-the-Sand.jpg
END:VEVENT
BEGIN:VEVENT
DTSTART;TZID=America/St_Vincent:20260430T190000
DTEND;TZID=America/St_Vincent:20260430T210000
DTSTAMP:20260419T094830
CREATED:20251015T135355Z
LAST-MODIFIED:20260115T141108Z
UID:10014697-1777575600-1777582800@mustique.life
SUMMARY:Beach Café BBQ & Mezze Night
DESCRIPTION:Enjoy a curated mix of BBQ and mezze\, served on shared platters for everyone to savor together. \nThursdays \n7:00pm \nBeach Cafe \n55USD per person including VAT and 12% service charge
URL:https://mustique.life/event/caribbean-bbq-dinner/2026-04-30/
LOCATION:Beach Cafe
CATEGORIES:Entertainment
ATTACH;FMTTYPE=image/jpeg:https://mustique.life/wp-content/uploads/2025/10/mezze-night.jpg
END:VEVENT
BEGIN:VEVENT
DTSTART;TZID=America/St_Vincent:20260501T183000
DTEND;TZID=America/St_Vincent:20260501T200000
DTSTAMP:20260419T094830
CREATED:20250819T140937Z
LAST-MODIFIED:20250819T140937Z
UID:10013040-1777660200-1777665600@mustique.life
SUMMARY:Happy Hour & a Half - Beach Café
DESCRIPTION:Half price drinks at the Beach Café and delicious pizzas from our pizza oven. \nJoin everyone from 6.30pm – 8pm.
URL:https://mustique.life/event/happy-hour-a-half-beach-cafe-2/2026-05-01/
LOCATION:Beach Cafe
CATEGORIES:Entertainment
ATTACH;FMTTYPE=image/jpeg:https://mustique.life/wp-content/uploads/2022/03/Happy-Hour-Beach-Cafe.jpg
END:VEVENT
BEGIN:VEVENT
DTSTART;TZID=America/St_Vincent:20260505T193000
DTEND;TZID=America/St_Vincent:20260505T210000
DTSTAMP:20260419T094830
CREATED:20250819T141104Z
LAST-MODIFIED:20250819T141104Z
UID:10013085-1778009400-1778014800@mustique.life
SUMMARY:Cook On The Sand
DESCRIPTION:An evening of delicious food as our chefs cook over an open fire on the sand. \nBook your table by calling the Cotton House on 8215.
URL:https://mustique.life/event/cook-on-the-sand/2026-05-05/
LOCATION:Beach Cafe
CATEGORIES:Entertainment
ATTACH;FMTTYPE=image/jpeg:https://mustique.life/wp-content/uploads/2022/03/Cook-on-the-Sand.jpg
END:VEVENT
BEGIN:VEVENT
DTSTART;TZID=America/St_Vincent:20260507T190000
DTEND;TZID=America/St_Vincent:20260507T210000
DTSTAMP:20260419T094830
CREATED:20251015T135355Z
LAST-MODIFIED:20260115T141108Z
UID:10014698-1778180400-1778187600@mustique.life
SUMMARY:Beach Café BBQ & Mezze Night
DESCRIPTION:Enjoy a curated mix of BBQ and mezze\, served on shared platters for everyone to savor together. \nThursdays \n7:00pm \nBeach Cafe \n55USD per person including VAT and 12% service charge
URL:https://mustique.life/event/caribbean-bbq-dinner/2026-05-07/
LOCATION:Beach Cafe
CATEGORIES:Entertainment
ATTACH;FMTTYPE=image/jpeg:https://mustique.life/wp-content/uploads/2025/10/mezze-night.jpg
END:VEVENT
BEGIN:VEVENT
DTSTART;TZID=America/St_Vincent:20260508T183000
DTEND;TZID=America/St_Vincent:20260508T200000
DTSTAMP:20260419T094830
CREATED:20250819T140937Z
LAST-MODIFIED:20250819T140937Z
UID:10013041-1778265000-1778270400@mustique.life
SUMMARY:Happy Hour & a Half - Beach Café
DESCRIPTION:Half price drinks at the Beach Café and delicious pizzas from our pizza oven. \nJoin everyone from 6.30pm – 8pm.
URL:https://mustique.life/event/happy-hour-a-half-beach-cafe-2/2026-05-08/
LOCATION:Beach Cafe
CATEGORIES:Entertainment
ATTACH;FMTTYPE=image/jpeg:https://mustique.life/wp-content/uploads/2022/03/Happy-Hour-Beach-Cafe.jpg
END:VEVENT
BEGIN:VEVENT
DTSTART;TZID=America/St_Vincent:20260512T193000
DTEND;TZID=America/St_Vincent:20260512T210000
DTSTAMP:20260419T094830
CREATED:20250819T141104Z
LAST-MODIFIED:20250819T141104Z
UID:10013086-1778614200-1778619600@mustique.life
SUMMARY:Cook On The Sand
DESCRIPTION:An evening of delicious food as our chefs cook over an open fire on the sand. \nBook your table by calling the Cotton House on 8215.
URL:https://mustique.life/event/cook-on-the-sand/2026-05-12/
LOCATION:Beach Cafe
CATEGORIES:Entertainment
ATTACH;FMTTYPE=image/jpeg:https://mustique.life/wp-content/uploads/2022/03/Cook-on-the-Sand.jpg
END:VEVENT
BEGIN:VEVENT
DTSTART;TZID=America/St_Vincent:20260514T190000
DTEND;TZID=America/St_Vincent:20260514T210000
DTSTAMP:20260419T094830
CREATED:20251015T135355Z
LAST-MODIFIED:20260115T141108Z
UID:10014699-1778785200-1778792400@mustique.life
SUMMARY:Beach Café BBQ & Mezze Night
DESCRIPTION:Enjoy a curated mix of BBQ and mezze\, served on shared platters for everyone to savor together. \nThursdays \n7:00pm \nBeach Cafe \n55USD per person including VAT and 12% service charge
URL:https://mustique.life/event/caribbean-bbq-dinner/2026-05-14/
LOCATION:Beach Cafe
CATEGORIES:Entertainment
ATTACH;FMTTYPE=image/jpeg:https://mustique.life/wp-content/uploads/2025/10/mezze-night.jpg
END:VEVENT
BEGIN:VEVENT
DTSTART;TZID=America/St_Vincent:20260515T183000
DTEND;TZID=America/St_Vincent:20260515T200000
DTSTAMP:20260419T094830
CREATED:20250819T140937Z
LAST-MODIFIED:20250819T140937Z
UID:10013042-1778869800-1778875200@mustique.life
SUMMARY:Happy Hour & a Half - Beach Café
DESCRIPTION:Half price drinks at the Beach Café and delicious pizzas from our pizza oven. \nJoin everyone from 6.30pm – 8pm.
URL:https://mustique.life/event/happy-hour-a-half-beach-cafe-2/2026-05-15/
LOCATION:Beach Cafe
CATEGORIES:Entertainment
ATTACH;FMTTYPE=image/jpeg:https://mustique.life/wp-content/uploads/2022/03/Happy-Hour-Beach-Cafe.jpg
END:VEVENT
BEGIN:VEVENT
DTSTART;TZID=America/St_Vincent:20260519T193000
DTEND;TZID=America/St_Vincent:20260519T210000
DTSTAMP:20260419T094830
CREATED:20250819T141104Z
LAST-MODIFIED:20250819T141104Z
UID:10013087-1779219000-1779224400@mustique.life
SUMMARY:Cook On The Sand
DESCRIPTION:An evening of delicious food as our chefs cook over an open fire on the sand. \nBook your table by calling the Cotton House on 8215.
URL:https://mustique.life/event/cook-on-the-sand/2026-05-19/
LOCATION:Beach Cafe
CATEGORIES:Entertainment
ATTACH;FMTTYPE=image/jpeg:https://mustique.life/wp-content/uploads/2022/03/Cook-on-the-Sand.jpg
END:VEVENT
BEGIN:VEVENT
DTSTART;TZID=America/St_Vincent:20260521T190000
DTEND;TZID=America/St_Vincent:20260521T210000
DTSTAMP:20260419T094830
CREATED:20251015T135355Z
LAST-MODIFIED:20260115T141108Z
UID:10014700-1779390000-1779397200@mustique.life
SUMMARY:Beach Café BBQ & Mezze Night
DESCRIPTION:Enjoy a curated mix of BBQ and mezze\, served on shared platters for everyone to savor together. \nThursdays \n7:00pm \nBeach Cafe \n55USD per person including VAT and 12% service charge
URL:https://mustique.life/event/caribbean-bbq-dinner/2026-05-21/
LOCATION:Beach Cafe
CATEGORIES:Entertainment
ATTACH;FMTTYPE=image/jpeg:https://mustique.life/wp-content/uploads/2025/10/mezze-night.jpg
END:VEVENT
BEGIN:VEVENT
DTSTART;TZID=America/St_Vincent:20260522T183000
DTEND;TZID=America/St_Vincent:20260522T200000
DTSTAMP:20260419T094830
CREATED:20250819T140937Z
LAST-MODIFIED:20250819T140937Z
UID:10013043-1779474600-1779480000@mustique.life
SUMMARY:Happy Hour & a Half - Beach Café
DESCRIPTION:Half price drinks at the Beach Café and delicious pizzas from our pizza oven. \nJoin everyone from 6.30pm – 8pm.
URL:https://mustique.life/event/happy-hour-a-half-beach-cafe-2/2026-05-22/
LOCATION:Beach Cafe
CATEGORIES:Entertainment
ATTACH;FMTTYPE=image/jpeg:https://mustique.life/wp-content/uploads/2022/03/Happy-Hour-Beach-Cafe.jpg
END:VEVENT
BEGIN:VEVENT
DTSTART;TZID=America/St_Vincent:20260526T193000
DTEND;TZID=America/St_Vincent:20260526T210000
DTSTAMP:20260419T094830
CREATED:20250819T141104Z
LAST-MODIFIED:20250819T141104Z
UID:10013088-1779823800-1779829200@mustique.life
SUMMARY:Cook On The Sand
DESCRIPTION:An evening of delicious food as our chefs cook over an open fire on the sand. \nBook your table by calling the Cotton House on 8215.
URL:https://mustique.life/event/cook-on-the-sand/2026-05-26/
LOCATION:Beach Cafe
CATEGORIES:Entertainment
ATTACH;FMTTYPE=image/jpeg:https://mustique.life/wp-content/uploads/2022/03/Cook-on-the-Sand.jpg
END:VEVENT
BEGIN:VEVENT
DTSTART;TZID=America/St_Vincent:20260528T190000
DTEND;TZID=America/St_Vincent:20260528T210000
DTSTAMP:20260419T094830
CREATED:20251015T135355Z
LAST-MODIFIED:20260115T141108Z
UID:10014701-1779994800-1780002000@mustique.life
SUMMARY:Beach Café BBQ & Mezze Night
DESCRIPTION:Enjoy a curated mix of BBQ and mezze\, served on shared platters for everyone to savor together. \nThursdays \n7:00pm \nBeach Cafe \n55USD per person including VAT and 12% service charge
URL:https://mustique.life/event/caribbean-bbq-dinner/2026-05-28/
LOCATION:Beach Cafe
CATEGORIES:Entertainment
ATTACH;FMTTYPE=image/jpeg:https://mustique.life/wp-content/uploads/2025/10/mezze-night.jpg
END:VEVENT
BEGIN:VEVENT
DTSTART;TZID=America/St_Vincent:20260529T183000
DTEND;TZID=America/St_Vincent:20260529T200000
DTSTAMP:20260419T094830
CREATED:20250819T140937Z
LAST-MODIFIED:20250819T140937Z
UID:10013044-1780079400-1780084800@mustique.life
SUMMARY:Happy Hour & a Half - Beach Café
DESCRIPTION:Half price drinks at the Beach Café and delicious pizzas from our pizza oven. \nJoin everyone from 6.30pm – 8pm.
URL:https://mustique.life/event/happy-hour-a-half-beach-cafe-2/2026-05-29/
LOCATION:Beach Cafe
CATEGORIES:Entertainment
ATTACH;FMTTYPE=image/jpeg:https://mustique.life/wp-content/uploads/2022/03/Happy-Hour-Beach-Cafe.jpg
END:VEVENT
BEGIN:VEVENT
DTSTART;TZID=America/St_Vincent:20260602T193000
DTEND;TZID=America/St_Vincent:20260602T210000
DTSTAMP:20260419T094830
CREATED:20250819T141104Z
LAST-MODIFIED:20250819T141104Z
UID:10013089-1780428600-1780434000@mustique.life
SUMMARY:Cook On The Sand
DESCRIPTION:An evening of delicious food as our chefs cook over an open fire on the sand. \nBook your table by calling the Cotton House on 8215.
URL:https://mustique.life/event/cook-on-the-sand/2026-06-02/
LOCATION:Beach Cafe
CATEGORIES:Entertainment
ATTACH;FMTTYPE=image/jpeg:https://mustique.life/wp-content/uploads/2022/03/Cook-on-the-Sand.jpg
END:VEVENT
BEGIN:VEVENT
DTSTART;TZID=America/St_Vincent:20260604T190000
DTEND;TZID=America/St_Vincent:20260604T210000
DTSTAMP:20260419T094830
CREATED:20251015T135355Z
LAST-MODIFIED:20260115T141108Z
UID:10014702-1780599600-1780606800@mustique.life
SUMMARY:Beach Café BBQ & Mezze Night
DESCRIPTION:Enjoy a curated mix of BBQ and mezze\, served on shared platters for everyone to savor together. \nThursdays \n7:00pm \nBeach Cafe \n55USD per person including VAT and 12% service charge
URL:https://mustique.life/event/caribbean-bbq-dinner/2026-06-04/
LOCATION:Beach Cafe
CATEGORIES:Entertainment
ATTACH;FMTTYPE=image/jpeg:https://mustique.life/wp-content/uploads/2025/10/mezze-night.jpg
END:VEVENT
BEGIN:VEVENT
DTSTART;TZID=America/St_Vincent:20260605T183000
DTEND;TZID=America/St_Vincent:20260605T200000
DTSTAMP:20260419T094830
CREATED:20250819T140937Z
LAST-MODIFIED:20250819T140937Z
UID:10013045-1780684200-1780689600@mustique.life
SUMMARY:Happy Hour & a Half - Beach Café
DESCRIPTION:Half price drinks at the Beach Café and delicious pizzas from our pizza oven. \nJoin everyone from 6.30pm – 8pm.
URL:https://mustique.life/event/happy-hour-a-half-beach-cafe-2/2026-06-05/
LOCATION:Beach Cafe
CATEGORIES:Entertainment
ATTACH;FMTTYPE=image/jpeg:https://mustique.life/wp-content/uploads/2022/03/Happy-Hour-Beach-Cafe.jpg
END:VEVENT
BEGIN:VEVENT
DTSTART;TZID=America/St_Vincent:20260609T193000
DTEND;TZID=America/St_Vincent:20260609T210000
DTSTAMP:20260419T094830
CREATED:20250819T141104Z
LAST-MODIFIED:20250819T141104Z
UID:10013090-1781033400-1781038800@mustique.life
SUMMARY:Cook On The Sand
DESCRIPTION:An evening of delicious food as our chefs cook over an open fire on the sand. \nBook your table by calling the Cotton House on 8215.
URL:https://mustique.life/event/cook-on-the-sand/2026-06-09/
LOCATION:Beach Cafe
CATEGORIES:Entertainment
ATTACH;FMTTYPE=image/jpeg:https://mustique.life/wp-content/uploads/2022/03/Cook-on-the-Sand.jpg
END:VEVENT
BEGIN:VEVENT
DTSTART;TZID=America/St_Vincent:20260611T190000
DTEND;TZID=America/St_Vincent:20260611T210000
DTSTAMP:20260419T094830
CREATED:20251015T135355Z
LAST-MODIFIED:20260115T141108Z
UID:10014703-1781204400-1781211600@mustique.life
SUMMARY:Beach Café BBQ & Mezze Night
DESCRIPTION:Enjoy a curated mix of BBQ and mezze\, served on shared platters for everyone to savor together. \nThursdays \n7:00pm \nBeach Cafe \n55USD per person including VAT and 12% service charge
URL:https://mustique.life/event/caribbean-bbq-dinner/2026-06-11/
LOCATION:Beach Cafe
CATEGORIES:Entertainment
ATTACH;FMTTYPE=image/jpeg:https://mustique.life/wp-content/uploads/2025/10/mezze-night.jpg
END:VEVENT
BEGIN:VEVENT
DTSTART;TZID=America/St_Vincent:20260612T183000
DTEND;TZID=America/St_Vincent:20260612T200000
DTSTAMP:20260419T094830
CREATED:20250819T140937Z
LAST-MODIFIED:20250819T140937Z
UID:10013046-1781289000-1781294400@mustique.life
SUMMARY:Happy Hour & a Half - Beach Café
DESCRIPTION:Half price drinks at the Beach Café and delicious pizzas from our pizza oven. \nJoin everyone from 6.30pm – 8pm.
URL:https://mustique.life/event/happy-hour-a-half-beach-cafe-2/2026-06-12/
LOCATION:Beach Cafe
CATEGORIES:Entertainment
ATTACH;FMTTYPE=image/jpeg:https://mustique.life/wp-content/uploads/2022/03/Happy-Hour-Beach-Cafe.jpg
END:VEVENT
BEGIN:VEVENT
DTSTART;TZID=America/St_Vincent:20260616T193000
DTEND;TZID=America/St_Vincent:20260616T210000
DTSTAMP:20260419T094830
CREATED:20250819T141104Z
LAST-MODIFIED:20250819T141104Z
UID:10013091-1781638200-1781643600@mustique.life
SUMMARY:Cook On The Sand
DESCRIPTION:An evening of delicious food as our chefs cook over an open fire on the sand. \nBook your table by calling the Cotton House on 8215.
URL:https://mustique.life/event/cook-on-the-sand/2026-06-16/
LOCATION:Beach Cafe
CATEGORIES:Entertainment
ATTACH;FMTTYPE=image/jpeg:https://mustique.life/wp-content/uploads/2022/03/Cook-on-the-Sand.jpg
END:VEVENT
BEGIN:VEVENT
DTSTART;TZID=America/St_Vincent:20260618T190000
DTEND;TZID=America/St_Vincent:20260618T210000
DTSTAMP:20260419T094830
CREATED:20251015T135355Z
LAST-MODIFIED:20260115T141108Z
UID:10014704-1781809200-1781816400@mustique.life
SUMMARY:Beach Café BBQ & Mezze Night
DESCRIPTION:Enjoy a curated mix of BBQ and mezze\, served on shared platters for everyone to savor together. \nThursdays \n7:00pm \nBeach Cafe \n55USD per person including VAT and 12% service charge
URL:https://mustique.life/event/caribbean-bbq-dinner/2026-06-18/
LOCATION:Beach Cafe
CATEGORIES:Entertainment
ATTACH;FMTTYPE=image/jpeg:https://mustique.life/wp-content/uploads/2025/10/mezze-night.jpg
END:VEVENT
BEGIN:VEVENT
DTSTART;TZID=America/St_Vincent:20260619T183000
DTEND;TZID=America/St_Vincent:20260619T200000
DTSTAMP:20260419T094830
CREATED:20250819T140937Z
LAST-MODIFIED:20250819T140937Z
UID:10013047-1781893800-1781899200@mustique.life
SUMMARY:Happy Hour & a Half - Beach Café
DESCRIPTION:Half price drinks at the Beach Café and delicious pizzas from our pizza oven. \nJoin everyone from 6.30pm – 8pm.
URL:https://mustique.life/event/happy-hour-a-half-beach-cafe-2/2026-06-19/
LOCATION:Beach Cafe
CATEGORIES:Entertainment
ATTACH;FMTTYPE=image/jpeg:https://mustique.life/wp-content/uploads/2022/03/Happy-Hour-Beach-Cafe.jpg
END:VEVENT
BEGIN:VEVENT
DTSTART;TZID=America/St_Vincent:20260623T193000
DTEND;TZID=America/St_Vincent:20260623T210000
DTSTAMP:20260419T094830
CREATED:20250819T141104Z
LAST-MODIFIED:20250819T141104Z
UID:10013092-1782243000-1782248400@mustique.life
SUMMARY:Cook On The Sand
DESCRIPTION:An evening of delicious food as our chefs cook over an open fire on the sand. \nBook your table by calling the Cotton House on 8215.
URL:https://mustique.life/event/cook-on-the-sand/2026-06-23/
LOCATION:Beach Cafe
CATEGORIES:Entertainment
ATTACH;FMTTYPE=image/jpeg:https://mustique.life/wp-content/uploads/2022/03/Cook-on-the-Sand.jpg
END:VEVENT
BEGIN:VEVENT
DTSTART;TZID=America/St_Vincent:20260625T190000
DTEND;TZID=America/St_Vincent:20260625T210000
DTSTAMP:20260419T094830
CREATED:20251015T135355Z
LAST-MODIFIED:20260115T141108Z
UID:10014705-1782414000-1782421200@mustique.life
SUMMARY:Beach Café BBQ & Mezze Night
DESCRIPTION:Enjoy a curated mix of BBQ and mezze\, served on shared platters for everyone to savor together. \nThursdays \n7:00pm \nBeach Cafe \n55USD per person including VAT and 12% service charge
URL:https://mustique.life/event/caribbean-bbq-dinner/2026-06-25/
LOCATION:Beach Cafe
CATEGORIES:Entertainment
ATTACH;FMTTYPE=image/jpeg:https://mustique.life/wp-content/uploads/2025/10/mezze-night.jpg
END:VEVENT
BEGIN:VEVENT
DTSTART;TZID=America/St_Vincent:20260626T183000
DTEND;TZID=America/St_Vincent:20260626T200000
DTSTAMP:20260419T094830
CREATED:20250819T140937Z
LAST-MODIFIED:20250819T140937Z
UID:10013048-1782498600-1782504000@mustique.life
SUMMARY:Happy Hour & a Half - Beach Café
DESCRIPTION:Half price drinks at the Beach Café and delicious pizzas from our pizza oven. \nJoin everyone from 6.30pm – 8pm.
URL:https://mustique.life/event/happy-hour-a-half-beach-cafe-2/2026-06-26/
LOCATION:Beach Cafe
CATEGORIES:Entertainment
ATTACH;FMTTYPE=image/jpeg:https://mustique.life/wp-content/uploads/2022/03/Happy-Hour-Beach-Cafe.jpg
END:VEVENT
END:VCALENDAR