BEGIN:VCALENDAR
VERSION:2.0
PRODID:-//Mustique Events - Calendar - ECPv6.15.17.1//NONSGML v1.0//EN
CALSCALE:GREGORIAN
METHOD:PUBLISH
X-WR-CALNAME:Mustique Events - Calendar
X-ORIGINAL-URL:https://mustique.life
X-WR-CALDESC:Events for Mustique Events - Calendar
REFRESH-INTERVAL;VALUE=DURATION:PT1H
X-Robots-Tag:noindex
X-PUBLISHED-TTL:PT1H
BEGIN:VTIMEZONE
TZID:America/St_Vincent
BEGIN:STANDARD
TZOFFSETFROM:-0400
TZOFFSETTO:-0400
TZNAME:AST
DTSTART:20250101T000000
END:STANDARD
END:VTIMEZONE
BEGIN:VEVENT
DTSTART;TZID=America/St_Vincent:20260417T183000
DTEND;TZID=America/St_Vincent:20260417T200000
DTSTAMP:20260419T112241
CREATED:20250819T140937Z
LAST-MODIFIED:20250819T140937Z
UID:10013038-1776450600-1776456000@mustique.life
SUMMARY:Happy Hour & a Half - Beach Café
DESCRIPTION:Half price drinks at the Beach Café and delicious pizzas from our pizza oven. \nJoin everyone from 6.30pm – 8pm.
URL:https://mustique.life/event/happy-hour-a-half-beach-cafe-2/2026-04-17/
LOCATION:Beach Cafe
CATEGORIES:Entertainment
ATTACH;FMTTYPE=image/jpeg:https://mustique.life/wp-content/uploads/2022/03/Happy-Hour-Beach-Cafe.jpg
END:VEVENT
BEGIN:VEVENT
DTSTART;TZID=America/St_Vincent:20260416T190000
DTEND;TZID=America/St_Vincent:20260416T210000
DTSTAMP:20260419T112241
CREATED:20251015T135355Z
LAST-MODIFIED:20260115T141108Z
UID:10014695-1776366000-1776373200@mustique.life
SUMMARY:Beach Café BBQ & Mezze Night
DESCRIPTION:Enjoy a curated mix of BBQ and mezze\, served on shared platters for everyone to savor together. \nThursdays \n7:00pm \nBeach Cafe \n55USD per person including VAT and 12% service charge
URL:https://mustique.life/event/caribbean-bbq-dinner/2026-04-16/
LOCATION:Beach Cafe
CATEGORIES:Entertainment
ATTACH;FMTTYPE=image/jpeg:https://mustique.life/wp-content/uploads/2025/10/mezze-night.jpg
END:VEVENT
BEGIN:VEVENT
DTSTART;TZID=America/St_Vincent:20260414T193000
DTEND;TZID=America/St_Vincent:20260414T210000
DTSTAMP:20260419T112241
CREATED:20250819T141104Z
LAST-MODIFIED:20250819T141104Z
UID:10013082-1776195000-1776200400@mustique.life
SUMMARY:Cook On The Sand
DESCRIPTION:An evening of delicious food as our chefs cook over an open fire on the sand. \nBook your table by calling the Cotton House on 8215.
URL:https://mustique.life/event/cook-on-the-sand/2026-04-14/
LOCATION:Beach Cafe
CATEGORIES:Entertainment
ATTACH;FMTTYPE=image/jpeg:https://mustique.life/wp-content/uploads/2022/03/Cook-on-the-Sand.jpg
END:VEVENT
BEGIN:VEVENT
DTSTART;TZID=America/St_Vincent:20260410T183000
DTEND;TZID=America/St_Vincent:20260410T200000
DTSTAMP:20260419T112241
CREATED:20250819T140937Z
LAST-MODIFIED:20250819T140937Z
UID:10013037-1775845800-1775851200@mustique.life
SUMMARY:Happy Hour & a Half - Beach Café
DESCRIPTION:Half price drinks at the Beach Café and delicious pizzas from our pizza oven. \nJoin everyone from 6.30pm – 8pm.
URL:https://mustique.life/event/happy-hour-a-half-beach-cafe-2/2026-04-10/
LOCATION:Beach Cafe
CATEGORIES:Entertainment
ATTACH;FMTTYPE=image/jpeg:https://mustique.life/wp-content/uploads/2022/03/Happy-Hour-Beach-Cafe.jpg
END:VEVENT
BEGIN:VEVENT
DTSTART;TZID=America/St_Vincent:20260409T190000
DTEND;TZID=America/St_Vincent:20260409T210000
DTSTAMP:20260419T112241
CREATED:20251015T135355Z
LAST-MODIFIED:20260115T141108Z
UID:10014694-1775761200-1775768400@mustique.life
SUMMARY:Beach Café BBQ & Mezze Night
DESCRIPTION:Enjoy a curated mix of BBQ and mezze\, served on shared platters for everyone to savor together. \nThursdays \n7:00pm \nBeach Cafe \n55USD per person including VAT and 12% service charge
URL:https://mustique.life/event/caribbean-bbq-dinner/2026-04-09/
LOCATION:Beach Cafe
CATEGORIES:Entertainment
ATTACH;FMTTYPE=image/jpeg:https://mustique.life/wp-content/uploads/2025/10/mezze-night.jpg
END:VEVENT
BEGIN:VEVENT
DTSTART;TZID=America/St_Vincent:20260407T193000
DTEND;TZID=America/St_Vincent:20260407T210000
DTSTAMP:20260419T112241
CREATED:20250819T141104Z
LAST-MODIFIED:20250819T141104Z
UID:10013081-1775590200-1775595600@mustique.life
SUMMARY:Cook On The Sand
DESCRIPTION:An evening of delicious food as our chefs cook over an open fire on the sand. \nBook your table by calling the Cotton House on 8215.
URL:https://mustique.life/event/cook-on-the-sand/2026-04-07/
LOCATION:Beach Cafe
CATEGORIES:Entertainment
ATTACH;FMTTYPE=image/jpeg:https://mustique.life/wp-content/uploads/2022/03/Cook-on-the-Sand.jpg
END:VEVENT
BEGIN:VEVENT
DTSTART;TZID=America/St_Vincent:20260403T183000
DTEND;TZID=America/St_Vincent:20260403T200000
DTSTAMP:20260419T112241
CREATED:20250819T140937Z
LAST-MODIFIED:20250819T140937Z
UID:10013036-1775241000-1775246400@mustique.life
SUMMARY:Happy Hour & a Half - Beach Café
DESCRIPTION:Half price drinks at the Beach Café and delicious pizzas from our pizza oven. \nJoin everyone from 6.30pm – 8pm.
URL:https://mustique.life/event/happy-hour-a-half-beach-cafe-2/2026-04-03/
LOCATION:Beach Cafe
CATEGORIES:Entertainment
ATTACH;FMTTYPE=image/jpeg:https://mustique.life/wp-content/uploads/2022/03/Happy-Hour-Beach-Cafe.jpg
END:VEVENT
BEGIN:VEVENT
DTSTART;TZID=America/St_Vincent:20260402T190000
DTEND;TZID=America/St_Vincent:20260402T210000
DTSTAMP:20260419T112241
CREATED:20251015T135355Z
LAST-MODIFIED:20260115T141108Z
UID:10014693-1775156400-1775163600@mustique.life
SUMMARY:Beach Café BBQ & Mezze Night
DESCRIPTION:Enjoy a curated mix of BBQ and mezze\, served on shared platters for everyone to savor together. \nThursdays \n7:00pm \nBeach Cafe \n55USD per person including VAT and 12% service charge
URL:https://mustique.life/event/caribbean-bbq-dinner/2026-04-02/
LOCATION:Beach Cafe
CATEGORIES:Entertainment
ATTACH;FMTTYPE=image/jpeg:https://mustique.life/wp-content/uploads/2025/10/mezze-night.jpg
END:VEVENT
BEGIN:VEVENT
DTSTART;TZID=America/St_Vincent:20260331T193000
DTEND;TZID=America/St_Vincent:20260331T210000
DTSTAMP:20260419T112241
CREATED:20250819T141104Z
LAST-MODIFIED:20250819T141104Z
UID:10013080-1774985400-1774990800@mustique.life
SUMMARY:Cook On The Sand
DESCRIPTION:An evening of delicious food as our chefs cook over an open fire on the sand. \nBook your table by calling the Cotton House on 8215.
URL:https://mustique.life/event/cook-on-the-sand/2026-03-31/
LOCATION:Beach Cafe
CATEGORIES:Entertainment
ATTACH;FMTTYPE=image/jpeg:https://mustique.life/wp-content/uploads/2022/03/Cook-on-the-Sand.jpg
END:VEVENT
BEGIN:VEVENT
DTSTART;TZID=America/St_Vincent:20260327T183000
DTEND;TZID=America/St_Vincent:20260327T200000
DTSTAMP:20260419T112241
CREATED:20250819T140937Z
LAST-MODIFIED:20250819T140937Z
UID:10013035-1774636200-1774641600@mustique.life
SUMMARY:Happy Hour & a Half - Beach Café
DESCRIPTION:Half price drinks at the Beach Café and delicious pizzas from our pizza oven. \nJoin everyone from 6.30pm – 8pm.
URL:https://mustique.life/event/happy-hour-a-half-beach-cafe-2/2026-03-27/
LOCATION:Beach Cafe
CATEGORIES:Entertainment
ATTACH;FMTTYPE=image/jpeg:https://mustique.life/wp-content/uploads/2022/03/Happy-Hour-Beach-Cafe.jpg
END:VEVENT
BEGIN:VEVENT
DTSTART;TZID=America/St_Vincent:20260326T190000
DTEND;TZID=America/St_Vincent:20260326T210000
DTSTAMP:20260419T112241
CREATED:20251015T135355Z
LAST-MODIFIED:20260115T141108Z
UID:10014692-1774551600-1774558800@mustique.life
SUMMARY:Beach Café BBQ & Mezze Night
DESCRIPTION:Enjoy a curated mix of BBQ and mezze\, served on shared platters for everyone to savor together. \nThursdays \n7:00pm \nBeach Cafe \n55USD per person including VAT and 12% service charge
URL:https://mustique.life/event/caribbean-bbq-dinner/2026-03-26/
LOCATION:Beach Cafe
CATEGORIES:Entertainment
ATTACH;FMTTYPE=image/jpeg:https://mustique.life/wp-content/uploads/2025/10/mezze-night.jpg
END:VEVENT
BEGIN:VEVENT
DTSTART;TZID=America/St_Vincent:20260324T193000
DTEND;TZID=America/St_Vincent:20260324T210000
DTSTAMP:20260419T112241
CREATED:20250819T141104Z
LAST-MODIFIED:20250819T141104Z
UID:10013079-1774380600-1774386000@mustique.life
SUMMARY:Cook On The Sand
DESCRIPTION:An evening of delicious food as our chefs cook over an open fire on the sand. \nBook your table by calling the Cotton House on 8215.
URL:https://mustique.life/event/cook-on-the-sand/2026-03-24/
LOCATION:Beach Cafe
CATEGORIES:Entertainment
ATTACH;FMTTYPE=image/jpeg:https://mustique.life/wp-content/uploads/2022/03/Cook-on-the-Sand.jpg
END:VEVENT
BEGIN:VEVENT
DTSTART;TZID=America/St_Vincent:20260320T183000
DTEND;TZID=America/St_Vincent:20260320T200000
DTSTAMP:20260419T112241
CREATED:20250819T140937Z
LAST-MODIFIED:20250819T140937Z
UID:10013034-1774031400-1774036800@mustique.life
SUMMARY:Happy Hour & a Half - Beach Café
DESCRIPTION:Half price drinks at the Beach Café and delicious pizzas from our pizza oven. \nJoin everyone from 6.30pm – 8pm.
URL:https://mustique.life/event/happy-hour-a-half-beach-cafe-2/2026-03-20/
LOCATION:Beach Cafe
CATEGORIES:Entertainment
ATTACH;FMTTYPE=image/jpeg:https://mustique.life/wp-content/uploads/2022/03/Happy-Hour-Beach-Cafe.jpg
END:VEVENT
BEGIN:VEVENT
DTSTART;TZID=America/St_Vincent:20260319T190000
DTEND;TZID=America/St_Vincent:20260319T210000
DTSTAMP:20260419T112241
CREATED:20251015T135355Z
LAST-MODIFIED:20260115T141108Z
UID:10014691-1773946800-1773954000@mustique.life
SUMMARY:Beach Café BBQ & Mezze Night
DESCRIPTION:Enjoy a curated mix of BBQ and mezze\, served on shared platters for everyone to savor together. \nThursdays \n7:00pm \nBeach Cafe \n55USD per person including VAT and 12% service charge
URL:https://mustique.life/event/caribbean-bbq-dinner/2026-03-19/
LOCATION:Beach Cafe
CATEGORIES:Entertainment
ATTACH;FMTTYPE=image/jpeg:https://mustique.life/wp-content/uploads/2025/10/mezze-night.jpg
END:VEVENT
BEGIN:VEVENT
DTSTART;TZID=America/St_Vincent:20260317T193000
DTEND;TZID=America/St_Vincent:20260317T210000
DTSTAMP:20260419T112241
CREATED:20250819T141104Z
LAST-MODIFIED:20250819T141104Z
UID:10013078-1773775800-1773781200@mustique.life
SUMMARY:Cook On The Sand
DESCRIPTION:An evening of delicious food as our chefs cook over an open fire on the sand. \nBook your table by calling the Cotton House on 8215.
URL:https://mustique.life/event/cook-on-the-sand/2026-03-17/
LOCATION:Beach Cafe
CATEGORIES:Entertainment
ATTACH;FMTTYPE=image/jpeg:https://mustique.life/wp-content/uploads/2022/03/Cook-on-the-Sand.jpg
END:VEVENT
BEGIN:VEVENT
DTSTART;TZID=America/St_Vincent:20260313T183000
DTEND;TZID=America/St_Vincent:20260313T200000
DTSTAMP:20260419T112241
CREATED:20250819T140937Z
LAST-MODIFIED:20250819T140937Z
UID:10013033-1773426600-1773432000@mustique.life
SUMMARY:Happy Hour & a Half - Beach Café
DESCRIPTION:Half price drinks at the Beach Café and delicious pizzas from our pizza oven. \nJoin everyone from 6.30pm – 8pm.
URL:https://mustique.life/event/happy-hour-a-half-beach-cafe-2/2026-03-13/
LOCATION:Beach Cafe
CATEGORIES:Entertainment
ATTACH;FMTTYPE=image/jpeg:https://mustique.life/wp-content/uploads/2022/03/Happy-Hour-Beach-Cafe.jpg
END:VEVENT
BEGIN:VEVENT
DTSTART;TZID=America/St_Vincent:20260312T190000
DTEND;TZID=America/St_Vincent:20260312T210000
DTSTAMP:20260419T112241
CREATED:20251015T135355Z
LAST-MODIFIED:20260115T141108Z
UID:10014690-1773342000-1773349200@mustique.life
SUMMARY:Beach Café BBQ & Mezze Night
DESCRIPTION:Enjoy a curated mix of BBQ and mezze\, served on shared platters for everyone to savor together. \nThursdays \n7:00pm \nBeach Cafe \n55USD per person including VAT and 12% service charge
URL:https://mustique.life/event/caribbean-bbq-dinner/2026-03-12/
LOCATION:Beach Cafe
CATEGORIES:Entertainment
ATTACH;FMTTYPE=image/jpeg:https://mustique.life/wp-content/uploads/2025/10/mezze-night.jpg
END:VEVENT
BEGIN:VEVENT
DTSTART;TZID=America/St_Vincent:20260310T193000
DTEND;TZID=America/St_Vincent:20260310T210000
DTSTAMP:20260419T112241
CREATED:20250819T141104Z
LAST-MODIFIED:20250819T141104Z
UID:10013077-1773171000-1773176400@mustique.life
SUMMARY:Cook On The Sand
DESCRIPTION:An evening of delicious food as our chefs cook over an open fire on the sand. \nBook your table by calling the Cotton House on 8215.
URL:https://mustique.life/event/cook-on-the-sand/2026-03-10/
LOCATION:Beach Cafe
CATEGORIES:Entertainment
ATTACH;FMTTYPE=image/jpeg:https://mustique.life/wp-content/uploads/2022/03/Cook-on-the-Sand.jpg
END:VEVENT
BEGIN:VEVENT
DTSTART;TZID=America/St_Vincent:20260306T183000
DTEND;TZID=America/St_Vincent:20260306T200000
DTSTAMP:20260419T112241
CREATED:20250819T140937Z
LAST-MODIFIED:20250819T140937Z
UID:10013032-1772821800-1772827200@mustique.life
SUMMARY:Happy Hour & a Half - Beach Café
DESCRIPTION:Half price drinks at the Beach Café and delicious pizzas from our pizza oven. \nJoin everyone from 6.30pm – 8pm.
URL:https://mustique.life/event/happy-hour-a-half-beach-cafe-2/2026-03-06/
LOCATION:Beach Cafe
CATEGORIES:Entertainment
ATTACH;FMTTYPE=image/jpeg:https://mustique.life/wp-content/uploads/2022/03/Happy-Hour-Beach-Cafe.jpg
END:VEVENT
BEGIN:VEVENT
DTSTART;TZID=America/St_Vincent:20260305T190000
DTEND;TZID=America/St_Vincent:20260305T210000
DTSTAMP:20260419T112242
CREATED:20251015T135355Z
LAST-MODIFIED:20260115T141108Z
UID:10014689-1772737200-1772744400@mustique.life
SUMMARY:Beach Café BBQ & Mezze Night
DESCRIPTION:Enjoy a curated mix of BBQ and mezze\, served on shared platters for everyone to savor together. \nThursdays \n7:00pm \nBeach Cafe \n55USD per person including VAT and 12% service charge
URL:https://mustique.life/event/caribbean-bbq-dinner/2026-03-05/
LOCATION:Beach Cafe
CATEGORIES:Entertainment
ATTACH;FMTTYPE=image/jpeg:https://mustique.life/wp-content/uploads/2025/10/mezze-night.jpg
END:VEVENT
BEGIN:VEVENT
DTSTART;TZID=America/St_Vincent:20260303T193000
DTEND;TZID=America/St_Vincent:20260303T210000
DTSTAMP:20260419T112242
CREATED:20250819T141104Z
LAST-MODIFIED:20250819T141104Z
UID:10013076-1772566200-1772571600@mustique.life
SUMMARY:Cook On The Sand
DESCRIPTION:An evening of delicious food as our chefs cook over an open fire on the sand. \nBook your table by calling the Cotton House on 8215.
URL:https://mustique.life/event/cook-on-the-sand/2026-03-03/
LOCATION:Beach Cafe
CATEGORIES:Entertainment
ATTACH;FMTTYPE=image/jpeg:https://mustique.life/wp-content/uploads/2022/03/Cook-on-the-Sand.jpg
END:VEVENT
BEGIN:VEVENT
DTSTART;TZID=America/St_Vincent:20260227T183000
DTEND;TZID=America/St_Vincent:20260227T200000
DTSTAMP:20260419T112242
CREATED:20250819T140937Z
LAST-MODIFIED:20250819T140937Z
UID:10013031-1772217000-1772222400@mustique.life
SUMMARY:Happy Hour & a Half - Beach Café
DESCRIPTION:Half price drinks at the Beach Café and delicious pizzas from our pizza oven. \nJoin everyone from 6.30pm – 8pm.
URL:https://mustique.life/event/happy-hour-a-half-beach-cafe-2/2026-02-27/
LOCATION:Beach Cafe
CATEGORIES:Entertainment
ATTACH;FMTTYPE=image/jpeg:https://mustique.life/wp-content/uploads/2022/03/Happy-Hour-Beach-Cafe.jpg
END:VEVENT
BEGIN:VEVENT
DTSTART;TZID=America/St_Vincent:20260226T190000
DTEND;TZID=America/St_Vincent:20260226T210000
DTSTAMP:20260419T112242
CREATED:20251015T135355Z
LAST-MODIFIED:20260115T141108Z
UID:10014688-1772132400-1772139600@mustique.life
SUMMARY:Beach Café BBQ & Mezze Night
DESCRIPTION:Enjoy a curated mix of BBQ and mezze\, served on shared platters for everyone to savor together. \nThursdays \n7:00pm \nBeach Cafe \n55USD per person including VAT and 12% service charge
URL:https://mustique.life/event/caribbean-bbq-dinner/2026-02-26/
LOCATION:Beach Cafe
CATEGORIES:Entertainment
ATTACH;FMTTYPE=image/jpeg:https://mustique.life/wp-content/uploads/2025/10/mezze-night.jpg
END:VEVENT
BEGIN:VEVENT
DTSTART;TZID=America/St_Vincent:20260224T193000
DTEND;TZID=America/St_Vincent:20260224T210000
DTSTAMP:20260419T112242
CREATED:20250819T141104Z
LAST-MODIFIED:20250819T141104Z
UID:10013075-1771961400-1771966800@mustique.life
SUMMARY:Cook On The Sand
DESCRIPTION:An evening of delicious food as our chefs cook over an open fire on the sand. \nBook your table by calling the Cotton House on 8215.
URL:https://mustique.life/event/cook-on-the-sand/2026-02-24/
LOCATION:Beach Cafe
CATEGORIES:Entertainment
ATTACH;FMTTYPE=image/jpeg:https://mustique.life/wp-content/uploads/2022/03/Cook-on-the-Sand.jpg
END:VEVENT
END:VCALENDAR