BEGIN:VCALENDAR
VERSION:2.0
PRODID:-//Mustique Events - Calendar - ECPv6.15.17.1//NONSGML v1.0//EN
CALSCALE:GREGORIAN
METHOD:PUBLISH
X-ORIGINAL-URL:https://mustique.life
X-WR-CALDESC:Events for Mustique Events - Calendar
REFRESH-INTERVAL;VALUE=DURATION:PT1H
X-Robots-Tag:noindex
X-PUBLISHED-TTL:PT1H
BEGIN:VTIMEZONE
TZID:America/St_Vincent
BEGIN:STANDARD
TZOFFSETFROM:-0400
TZOFFSETTO:-0400
TZNAME:AST
DTSTART:20250101T000000
END:STANDARD
END:VTIMEZONE
BEGIN:VEVENT
DTSTART;TZID=America/St_Vincent:20260419T173000
DTEND;TZID=America/St_Vincent:20260419T200000
DTSTAMP:20260419T094914
CREATED:20250911T153102Z
LAST-MODIFIED:20260115T134548Z
UID:10014331-1776619800-1776628800@mustique.life
SUMMARY:Basils Bar Sunset Session
DESCRIPTION:Live music and delicious dinner for all the family. Plus you get to enjoy the beauty of a Basil’s sunset. \nJoin us from 5.30pm. To reserve a table please call #8350.
URL:https://mustique.life/event/basils-bar-sunset-session-2/2026-04-19/
LOCATION:Basil’s Bar
CATEGORIES:Entertainment
ATTACH;FMTTYPE=image/jpeg:https://mustique.life/wp-content/uploads/2022/03/Basils-Bar-Sunset-Sessions.jpg
END:VEVENT
BEGIN:VEVENT
DTSTART;TZID=America/St_Vincent:20260422T210000
DTEND;TZID=America/St_Vincent:20260422T210000
DTSTAMP:20260419T094914
CREATED:20260218T181340Z
LAST-MODIFIED:20260327T130914Z
UID:10017764-1776891600-1776891600@mustique.life
SUMMARY:JUMP UP feat. Splash
DESCRIPTION:Let’s your hair down! Live music and dancing at Basil’s
URL:https://mustique.life/event/jump-up-feat-splash-2-2-2/2026-04-22/
LOCATION:Basil’s Bar
CATEGORIES:Entertainment
ATTACH;FMTTYPE=image/jpeg:https://mustique.life/wp-content/uploads/2022/03/Basils-Jump-Up.jpg
END:VEVENT
BEGIN:VEVENT
DTSTART;TZID=America/St_Vincent:20260423T180000
DTEND;TZID=America/St_Vincent:20260423T220000
DTSTAMP:20260419T094914
CREATED:20251014T145838Z
LAST-MODIFIED:20260107T181141Z
UID:10014391-1776967200-1776981600@mustique.life
SUMMARY:Tacos and Tequila @ Basil's
DESCRIPTION:Mexican-inspired evening with flowing drinks\, delicious food and spicy dancing.
URL:https://mustique.life/event/__trashed-5-2/2026-04-23/
LOCATION:Basil’s Bar
CATEGORIES:Entertainment
ATTACH;FMTTYPE=image/jpeg:https://mustique.life/wp-content/uploads/2022/03/Basils-Bar-Tacos-Tequila.jpg
END:VEVENT
BEGIN:VEVENT
DTSTART;TZID=America/St_Vincent:20260426T173000
DTEND;TZID=America/St_Vincent:20260426T200000
DTSTAMP:20260419T094914
CREATED:20250911T153102Z
LAST-MODIFIED:20260115T134548Z
UID:10014332-1777224600-1777233600@mustique.life
SUMMARY:Basils Bar Sunset Session
DESCRIPTION:Live music and delicious dinner for all the family. Plus you get to enjoy the beauty of a Basil’s sunset. \nJoin us from 5.30pm. To reserve a table please call #8350.
URL:https://mustique.life/event/basils-bar-sunset-session-2/2026-04-26/
LOCATION:Basil’s Bar
CATEGORIES:Entertainment
ATTACH;FMTTYPE=image/jpeg:https://mustique.life/wp-content/uploads/2022/03/Basils-Bar-Sunset-Sessions.jpg
END:VEVENT
BEGIN:VEVENT
DTSTART;TZID=America/St_Vincent:20260429T210000
DTEND;TZID=America/St_Vincent:20260429T210000
DTSTAMP:20260419T094914
CREATED:20260218T181340Z
LAST-MODIFIED:20260327T130914Z
UID:10017765-1777496400-1777496400@mustique.life
SUMMARY:JUMP UP feat. Splash
DESCRIPTION:Let’s your hair down! Live music and dancing at Basil’s
URL:https://mustique.life/event/jump-up-feat-splash-2-2-2/2026-04-29/
LOCATION:Basil’s Bar
CATEGORIES:Entertainment
ATTACH;FMTTYPE=image/jpeg:https://mustique.life/wp-content/uploads/2022/03/Basils-Jump-Up.jpg
END:VEVENT
BEGIN:VEVENT
DTSTART;TZID=America/St_Vincent:20260430T180000
DTEND;TZID=America/St_Vincent:20260430T220000
DTSTAMP:20260419T094914
CREATED:20251014T145838Z
LAST-MODIFIED:20260107T181141Z
UID:10014392-1777572000-1777586400@mustique.life
SUMMARY:Tacos and Tequila @ Basil's
DESCRIPTION:Mexican-inspired evening with flowing drinks\, delicious food and spicy dancing.
URL:https://mustique.life/event/__trashed-5-2/2026-04-30/
LOCATION:Basil’s Bar
CATEGORIES:Entertainment
ATTACH;FMTTYPE=image/jpeg:https://mustique.life/wp-content/uploads/2022/03/Basils-Bar-Tacos-Tequila.jpg
END:VEVENT
BEGIN:VEVENT
DTSTART;TZID=America/St_Vincent:20260503T173000
DTEND;TZID=America/St_Vincent:20260503T200000
DTSTAMP:20260419T094914
CREATED:20250911T153102Z
LAST-MODIFIED:20260115T134548Z
UID:10014333-1777829400-1777838400@mustique.life
SUMMARY:Basils Bar Sunset Session
DESCRIPTION:Live music and delicious dinner for all the family. Plus you get to enjoy the beauty of a Basil’s sunset. \nJoin us from 5.30pm. To reserve a table please call #8350.
URL:https://mustique.life/event/basils-bar-sunset-session-2/2026-05-03/
LOCATION:Basil’s Bar
CATEGORIES:Entertainment
ATTACH;FMTTYPE=image/jpeg:https://mustique.life/wp-content/uploads/2022/03/Basils-Bar-Sunset-Sessions.jpg
END:VEVENT
BEGIN:VEVENT
DTSTART;TZID=America/St_Vincent:20260507T180000
DTEND;TZID=America/St_Vincent:20260507T220000
DTSTAMP:20260419T094914
CREATED:20251014T145838Z
LAST-MODIFIED:20260107T181141Z
UID:10014393-1778176800-1778191200@mustique.life
SUMMARY:Tacos and Tequila @ Basil's
DESCRIPTION:Mexican-inspired evening with flowing drinks\, delicious food and spicy dancing.
URL:https://mustique.life/event/__trashed-5-2/2026-05-07/
LOCATION:Basil’s Bar
CATEGORIES:Entertainment
ATTACH;FMTTYPE=image/jpeg:https://mustique.life/wp-content/uploads/2022/03/Basils-Bar-Tacos-Tequila.jpg
END:VEVENT
BEGIN:VEVENT
DTSTART;TZID=America/St_Vincent:20260510T173000
DTEND;TZID=America/St_Vincent:20260510T200000
DTSTAMP:20260419T094914
CREATED:20250911T153102Z
LAST-MODIFIED:20260115T134548Z
UID:10014334-1778434200-1778443200@mustique.life
SUMMARY:Basils Bar Sunset Session
DESCRIPTION:Live music and delicious dinner for all the family. Plus you get to enjoy the beauty of a Basil’s sunset. \nJoin us from 5.30pm. To reserve a table please call #8350.
URL:https://mustique.life/event/basils-bar-sunset-session-2/2026-05-10/
LOCATION:Basil’s Bar
CATEGORIES:Entertainment
ATTACH;FMTTYPE=image/jpeg:https://mustique.life/wp-content/uploads/2022/03/Basils-Bar-Sunset-Sessions.jpg
END:VEVENT
BEGIN:VEVENT
DTSTART;TZID=America/St_Vincent:20260514T180000
DTEND;TZID=America/St_Vincent:20260514T220000
DTSTAMP:20260419T094914
CREATED:20251014T145838Z
LAST-MODIFIED:20260107T181141Z
UID:10014394-1778781600-1778796000@mustique.life
SUMMARY:Tacos and Tequila @ Basil's
DESCRIPTION:Mexican-inspired evening with flowing drinks\, delicious food and spicy dancing.
URL:https://mustique.life/event/__trashed-5-2/2026-05-14/
LOCATION:Basil’s Bar
CATEGORIES:Entertainment
ATTACH;FMTTYPE=image/jpeg:https://mustique.life/wp-content/uploads/2022/03/Basils-Bar-Tacos-Tequila.jpg
END:VEVENT
BEGIN:VEVENT
DTSTART;TZID=America/St_Vincent:20260517T173000
DTEND;TZID=America/St_Vincent:20260517T200000
DTSTAMP:20260419T094914
CREATED:20250911T153102Z
LAST-MODIFIED:20260115T134548Z
UID:10014335-1779039000-1779048000@mustique.life
SUMMARY:Basils Bar Sunset Session
DESCRIPTION:Live music and delicious dinner for all the family. Plus you get to enjoy the beauty of a Basil’s sunset. \nJoin us from 5.30pm. To reserve a table please call #8350.
URL:https://mustique.life/event/basils-bar-sunset-session-2/2026-05-17/
LOCATION:Basil’s Bar
CATEGORIES:Entertainment
ATTACH;FMTTYPE=image/jpeg:https://mustique.life/wp-content/uploads/2022/03/Basils-Bar-Sunset-Sessions.jpg
END:VEVENT
BEGIN:VEVENT
DTSTART;TZID=America/St_Vincent:20260521T180000
DTEND;TZID=America/St_Vincent:20260521T220000
DTSTAMP:20260419T094914
CREATED:20251014T145838Z
LAST-MODIFIED:20260107T181141Z
UID:10014395-1779386400-1779400800@mustique.life
SUMMARY:Tacos and Tequila @ Basil's
DESCRIPTION:Mexican-inspired evening with flowing drinks\, delicious food and spicy dancing.
URL:https://mustique.life/event/__trashed-5-2/2026-05-21/
LOCATION:Basil’s Bar
CATEGORIES:Entertainment
ATTACH;FMTTYPE=image/jpeg:https://mustique.life/wp-content/uploads/2022/03/Basils-Bar-Tacos-Tequila.jpg
END:VEVENT
BEGIN:VEVENT
DTSTART;TZID=America/St_Vincent:20260524T173000
DTEND;TZID=America/St_Vincent:20260524T200000
DTSTAMP:20260419T094914
CREATED:20250911T153102Z
LAST-MODIFIED:20260115T134548Z
UID:10014336-1779643800-1779652800@mustique.life
SUMMARY:Basils Bar Sunset Session
DESCRIPTION:Live music and delicious dinner for all the family. Plus you get to enjoy the beauty of a Basil’s sunset. \nJoin us from 5.30pm. To reserve a table please call #8350.
URL:https://mustique.life/event/basils-bar-sunset-session-2/2026-05-24/
LOCATION:Basil’s Bar
CATEGORIES:Entertainment
ATTACH;FMTTYPE=image/jpeg:https://mustique.life/wp-content/uploads/2022/03/Basils-Bar-Sunset-Sessions.jpg
END:VEVENT
BEGIN:VEVENT
DTSTART;TZID=America/St_Vincent:20260528T180000
DTEND;TZID=America/St_Vincent:20260528T220000
DTSTAMP:20260419T094914
CREATED:20251014T145838Z
LAST-MODIFIED:20260107T181141Z
UID:10014396-1779991200-1780005600@mustique.life
SUMMARY:Tacos and Tequila @ Basil's
DESCRIPTION:Mexican-inspired evening with flowing drinks\, delicious food and spicy dancing.
URL:https://mustique.life/event/__trashed-5-2/2026-05-28/
LOCATION:Basil’s Bar
CATEGORIES:Entertainment
ATTACH;FMTTYPE=image/jpeg:https://mustique.life/wp-content/uploads/2022/03/Basils-Bar-Tacos-Tequila.jpg
END:VEVENT
BEGIN:VEVENT
DTSTART;TZID=America/St_Vincent:20260531T173000
DTEND;TZID=America/St_Vincent:20260531T200000
DTSTAMP:20260419T094914
CREATED:20250911T153102Z
LAST-MODIFIED:20260115T134548Z
UID:10014337-1780248600-1780257600@mustique.life
SUMMARY:Basils Bar Sunset Session
DESCRIPTION:Live music and delicious dinner for all the family. Plus you get to enjoy the beauty of a Basil’s sunset. \nJoin us from 5.30pm. To reserve a table please call #8350.
URL:https://mustique.life/event/basils-bar-sunset-session-2/2026-05-31/
LOCATION:Basil’s Bar
CATEGORIES:Entertainment
ATTACH;FMTTYPE=image/jpeg:https://mustique.life/wp-content/uploads/2022/03/Basils-Bar-Sunset-Sessions.jpg
END:VEVENT
BEGIN:VEVENT
DTSTART;TZID=America/St_Vincent:20260604T180000
DTEND;TZID=America/St_Vincent:20260604T220000
DTSTAMP:20260419T094914
CREATED:20251014T145838Z
LAST-MODIFIED:20260107T181141Z
UID:10014397-1780596000-1780610400@mustique.life
SUMMARY:Tacos and Tequila @ Basil's
DESCRIPTION:Mexican-inspired evening with flowing drinks\, delicious food and spicy dancing.
URL:https://mustique.life/event/__trashed-5-2/2026-06-04/
LOCATION:Basil’s Bar
CATEGORIES:Entertainment
ATTACH;FMTTYPE=image/jpeg:https://mustique.life/wp-content/uploads/2022/03/Basils-Bar-Tacos-Tequila.jpg
END:VEVENT
BEGIN:VEVENT
DTSTART;TZID=America/St_Vincent:20260607T173000
DTEND;TZID=America/St_Vincent:20260607T200000
DTSTAMP:20260419T094914
CREATED:20250911T153102Z
LAST-MODIFIED:20260115T134548Z
UID:10014338-1780853400-1780862400@mustique.life
SUMMARY:Basils Bar Sunset Session
DESCRIPTION:Live music and delicious dinner for all the family. Plus you get to enjoy the beauty of a Basil’s sunset. \nJoin us from 5.30pm. To reserve a table please call #8350.
URL:https://mustique.life/event/basils-bar-sunset-session-2/2026-06-07/
LOCATION:Basil’s Bar
CATEGORIES:Entertainment
ATTACH;FMTTYPE=image/jpeg:https://mustique.life/wp-content/uploads/2022/03/Basils-Bar-Sunset-Sessions.jpg
END:VEVENT
BEGIN:VEVENT
DTSTART;TZID=America/St_Vincent:20260611T180000
DTEND;TZID=America/St_Vincent:20260611T220000
DTSTAMP:20260419T094914
CREATED:20251014T145838Z
LAST-MODIFIED:20260107T181141Z
UID:10014398-1781200800-1781215200@mustique.life
SUMMARY:Tacos and Tequila @ Basil's
DESCRIPTION:Mexican-inspired evening with flowing drinks\, delicious food and spicy dancing.
URL:https://mustique.life/event/__trashed-5-2/2026-06-11/
LOCATION:Basil’s Bar
CATEGORIES:Entertainment
ATTACH;FMTTYPE=image/jpeg:https://mustique.life/wp-content/uploads/2022/03/Basils-Bar-Tacos-Tequila.jpg
END:VEVENT
BEGIN:VEVENT
DTSTART;TZID=America/St_Vincent:20260614T173000
DTEND;TZID=America/St_Vincent:20260614T200000
DTSTAMP:20260419T094914
CREATED:20250911T153102Z
LAST-MODIFIED:20260115T134548Z
UID:10014339-1781458200-1781467200@mustique.life
SUMMARY:Basils Bar Sunset Session
DESCRIPTION:Live music and delicious dinner for all the family. Plus you get to enjoy the beauty of a Basil’s sunset. \nJoin us from 5.30pm. To reserve a table please call #8350.
URL:https://mustique.life/event/basils-bar-sunset-session-2/2026-06-14/
LOCATION:Basil’s Bar
CATEGORIES:Entertainment
ATTACH;FMTTYPE=image/jpeg:https://mustique.life/wp-content/uploads/2022/03/Basils-Bar-Sunset-Sessions.jpg
END:VEVENT
BEGIN:VEVENT
DTSTART;TZID=America/St_Vincent:20260618T180000
DTEND;TZID=America/St_Vincent:20260618T220000
DTSTAMP:20260419T094914
CREATED:20251014T145838Z
LAST-MODIFIED:20260107T181141Z
UID:10014399-1781805600-1781820000@mustique.life
SUMMARY:Tacos and Tequila @ Basil's
DESCRIPTION:Mexican-inspired evening with flowing drinks\, delicious food and spicy dancing.
URL:https://mustique.life/event/__trashed-5-2/2026-06-18/
LOCATION:Basil’s Bar
CATEGORIES:Entertainment
ATTACH;FMTTYPE=image/jpeg:https://mustique.life/wp-content/uploads/2022/03/Basils-Bar-Tacos-Tequila.jpg
END:VEVENT
BEGIN:VEVENT
DTSTART;TZID=America/St_Vincent:20260621T173000
DTEND;TZID=America/St_Vincent:20260621T200000
DTSTAMP:20260419T094914
CREATED:20250911T153102Z
LAST-MODIFIED:20260115T134548Z
UID:10014340-1782063000-1782072000@mustique.life
SUMMARY:Basils Bar Sunset Session
DESCRIPTION:Live music and delicious dinner for all the family. Plus you get to enjoy the beauty of a Basil’s sunset. \nJoin us from 5.30pm. To reserve a table please call #8350.
URL:https://mustique.life/event/basils-bar-sunset-session-2/2026-06-21/
LOCATION:Basil’s Bar
CATEGORIES:Entertainment
ATTACH;FMTTYPE=image/jpeg:https://mustique.life/wp-content/uploads/2022/03/Basils-Bar-Sunset-Sessions.jpg
END:VEVENT
BEGIN:VEVENT
DTSTART;TZID=America/St_Vincent:20260625T180000
DTEND;TZID=America/St_Vincent:20260625T220000
DTSTAMP:20260419T094914
CREATED:20251014T145838Z
LAST-MODIFIED:20260107T181141Z
UID:10014400-1782410400-1782424800@mustique.life
SUMMARY:Tacos and Tequila @ Basil's
DESCRIPTION:Mexican-inspired evening with flowing drinks\, delicious food and spicy dancing.
URL:https://mustique.life/event/__trashed-5-2/2026-06-25/
LOCATION:Basil’s Bar
CATEGORIES:Entertainment
ATTACH;FMTTYPE=image/jpeg:https://mustique.life/wp-content/uploads/2022/03/Basils-Bar-Tacos-Tequila.jpg
END:VEVENT
BEGIN:VEVENT
DTSTART;TZID=America/St_Vincent:20260628T173000
DTEND;TZID=America/St_Vincent:20260628T200000
DTSTAMP:20260419T094914
CREATED:20250911T153102Z
LAST-MODIFIED:20260115T134548Z
UID:10014341-1782667800-1782676800@mustique.life
SUMMARY:Basils Bar Sunset Session
DESCRIPTION:Live music and delicious dinner for all the family. Plus you get to enjoy the beauty of a Basil’s sunset. \nJoin us from 5.30pm. To reserve a table please call #8350.
URL:https://mustique.life/event/basils-bar-sunset-session-2/2026-06-28/
LOCATION:Basil’s Bar
CATEGORIES:Entertainment
ATTACH;FMTTYPE=image/jpeg:https://mustique.life/wp-content/uploads/2022/03/Basils-Bar-Sunset-Sessions.jpg
END:VEVENT
BEGIN:VEVENT
DTSTART;TZID=America/St_Vincent:20260702T180000
DTEND;TZID=America/St_Vincent:20260702T220000
DTSTAMP:20260419T094914
CREATED:20251014T145838Z
LAST-MODIFIED:20260107T181141Z
UID:10014401-1783015200-1783029600@mustique.life
SUMMARY:Tacos and Tequila @ Basil's
DESCRIPTION:Mexican-inspired evening with flowing drinks\, delicious food and spicy dancing.
URL:https://mustique.life/event/__trashed-5-2/2026-07-02/
LOCATION:Basil’s Bar
CATEGORIES:Entertainment
ATTACH;FMTTYPE=image/jpeg:https://mustique.life/wp-content/uploads/2022/03/Basils-Bar-Tacos-Tequila.jpg
END:VEVENT
BEGIN:VEVENT
DTSTART;TZID=America/St_Vincent:20260705T173000
DTEND;TZID=America/St_Vincent:20260705T200000
DTSTAMP:20260419T094914
CREATED:20250911T153102Z
LAST-MODIFIED:20260115T134548Z
UID:10014342-1783272600-1783281600@mustique.life
SUMMARY:Basils Bar Sunset Session
DESCRIPTION:Live music and delicious dinner for all the family. Plus you get to enjoy the beauty of a Basil’s sunset. \nJoin us from 5.30pm. To reserve a table please call #8350.
URL:https://mustique.life/event/basils-bar-sunset-session-2/2026-07-05/
LOCATION:Basil’s Bar
CATEGORIES:Entertainment
ATTACH;FMTTYPE=image/jpeg:https://mustique.life/wp-content/uploads/2022/03/Basils-Bar-Sunset-Sessions.jpg
END:VEVENT
BEGIN:VEVENT
DTSTART;TZID=America/St_Vincent:20260709T180000
DTEND;TZID=America/St_Vincent:20260709T220000
DTSTAMP:20260419T094914
CREATED:20251014T145838Z
LAST-MODIFIED:20260107T181141Z
UID:10014402-1783620000-1783634400@mustique.life
SUMMARY:Tacos and Tequila @ Basil's
DESCRIPTION:Mexican-inspired evening with flowing drinks\, delicious food and spicy dancing.
URL:https://mustique.life/event/__trashed-5-2/2026-07-09/
LOCATION:Basil’s Bar
CATEGORIES:Entertainment
ATTACH;FMTTYPE=image/jpeg:https://mustique.life/wp-content/uploads/2022/03/Basils-Bar-Tacos-Tequila.jpg
END:VEVENT
BEGIN:VEVENT
DTSTART;TZID=America/St_Vincent:20260712T173000
DTEND;TZID=America/St_Vincent:20260712T200000
DTSTAMP:20260419T094914
CREATED:20250911T153102Z
LAST-MODIFIED:20260115T134548Z
UID:10014343-1783877400-1783886400@mustique.life
SUMMARY:Basils Bar Sunset Session
DESCRIPTION:Live music and delicious dinner for all the family. Plus you get to enjoy the beauty of a Basil’s sunset. \nJoin us from 5.30pm. To reserve a table please call #8350.
URL:https://mustique.life/event/basils-bar-sunset-session-2/2026-07-12/
LOCATION:Basil’s Bar
CATEGORIES:Entertainment
ATTACH;FMTTYPE=image/jpeg:https://mustique.life/wp-content/uploads/2022/03/Basils-Bar-Sunset-Sessions.jpg
END:VEVENT
BEGIN:VEVENT
DTSTART;TZID=America/St_Vincent:20260716T180000
DTEND;TZID=America/St_Vincent:20260716T220000
DTSTAMP:20260419T094914
CREATED:20251014T145838Z
LAST-MODIFIED:20260107T181141Z
UID:10014403-1784224800-1784239200@mustique.life
SUMMARY:Tacos and Tequila @ Basil's
DESCRIPTION:Mexican-inspired evening with flowing drinks\, delicious food and spicy dancing.
URL:https://mustique.life/event/__trashed-5-2/2026-07-16/
LOCATION:Basil’s Bar
CATEGORIES:Entertainment
ATTACH;FMTTYPE=image/jpeg:https://mustique.life/wp-content/uploads/2022/03/Basils-Bar-Tacos-Tequila.jpg
END:VEVENT
BEGIN:VEVENT
DTSTART;TZID=America/St_Vincent:20260719T173000
DTEND;TZID=America/St_Vincent:20260719T200000
DTSTAMP:20260419T094914
CREATED:20250911T153102Z
LAST-MODIFIED:20260115T134548Z
UID:10014344-1784482200-1784491200@mustique.life
SUMMARY:Basils Bar Sunset Session
DESCRIPTION:Live music and delicious dinner for all the family. Plus you get to enjoy the beauty of a Basil’s sunset. \nJoin us from 5.30pm. To reserve a table please call #8350.
URL:https://mustique.life/event/basils-bar-sunset-session-2/2026-07-19/
LOCATION:Basil’s Bar
CATEGORIES:Entertainment
ATTACH;FMTTYPE=image/jpeg:https://mustique.life/wp-content/uploads/2022/03/Basils-Bar-Sunset-Sessions.jpg
END:VEVENT
BEGIN:VEVENT
DTSTART;TZID=America/St_Vincent:20260723T180000
DTEND;TZID=America/St_Vincent:20260723T220000
DTSTAMP:20260419T094914
CREATED:20251014T145838Z
LAST-MODIFIED:20260107T181141Z
UID:10014404-1784829600-1784844000@mustique.life
SUMMARY:Tacos and Tequila @ Basil's
DESCRIPTION:Mexican-inspired evening with flowing drinks\, delicious food and spicy dancing.
URL:https://mustique.life/event/__trashed-5-2/2026-07-23/
LOCATION:Basil’s Bar
CATEGORIES:Entertainment
ATTACH;FMTTYPE=image/jpeg:https://mustique.life/wp-content/uploads/2022/03/Basils-Bar-Tacos-Tequila.jpg
END:VEVENT
END:VCALENDAR