BEGIN:VCALENDAR
VERSION:2.0
PRODID:-//Mustique Events - Calendar - ECPv6.15.17.1//NONSGML v1.0//EN
CALSCALE:GREGORIAN
METHOD:PUBLISH
X-ORIGINAL-URL:https://mustique.life
X-WR-CALDESC:Events for Mustique Events - Calendar
REFRESH-INTERVAL;VALUE=DURATION:PT1H
X-Robots-Tag:noindex
X-PUBLISHED-TTL:PT1H
BEGIN:VTIMEZONE
TZID:America/St_Vincent
BEGIN:STANDARD
TZOFFSETFROM:-0400
TZOFFSETTO:-0400
TZNAME:AST
DTSTART:20250101T000000
END:STANDARD
END:VTIMEZONE
BEGIN:VEVENT
DTSTART;TZID=America/St_Vincent:20260416T180000
DTEND;TZID=America/St_Vincent:20260416T220000
DTSTAMP:20260419T112250
CREATED:20251014T145838Z
LAST-MODIFIED:20260107T181141Z
UID:10014390-1776362400-1776376800@mustique.life
SUMMARY:Tacos and Tequila @ Basil's
DESCRIPTION:Mexican-inspired evening with flowing drinks\, delicious food and spicy dancing.
URL:https://mustique.life/event/__trashed-5-2/2026-04-16/
LOCATION:Basil’s Bar
CATEGORIES:Entertainment
ATTACH;FMTTYPE=image/jpeg:https://mustique.life/wp-content/uploads/2022/03/Basils-Bar-Tacos-Tequila.jpg
END:VEVENT
BEGIN:VEVENT
DTSTART;TZID=America/St_Vincent:20260415T210000
DTEND;TZID=America/St_Vincent:20260415T210000
DTSTAMP:20260419T112250
CREATED:20260218T181340Z
LAST-MODIFIED:20260327T130914Z
UID:10017763-1776286800-1776286800@mustique.life
SUMMARY:JUMP UP feat. Splash
DESCRIPTION:Let’s your hair down! Live music and dancing at Basil’s
URL:https://mustique.life/event/jump-up-feat-splash-2-2-2/2026-04-15/
LOCATION:Basil’s Bar
CATEGORIES:Entertainment
ATTACH;FMTTYPE=image/jpeg:https://mustique.life/wp-content/uploads/2022/03/Basils-Jump-Up.jpg
END:VEVENT
BEGIN:VEVENT
DTSTART;TZID=America/St_Vincent:20260413T173000
DTEND;TZID=America/St_Vincent:20260413T190000
DTSTAMP:20260419T112250
CREATED:20260109T124744Z
LAST-MODIFIED:20260209T145646Z
UID:10017455-1776101400-1776106800@mustique.life
SUMMARY:Basil's Bar Presents: Sunset Sip n Paint
DESCRIPTION:Come down and pick up a canvas\, watch the sunset\, sip a cocktail and release your inner artist at Basil’s Bar – every Monday afternoon 5:30 – 7:00pm. \nMax. 20 people Price: 95 p.p.\nIncludes:\nChoice of 2x cocktails\, house wine or beer 1x canvas\, acrylic paints\, artistic guide \nBookings essential\nCall 8350 or email reservations@basilsbar.com \nTag us on Instagram #ArtBasil
URL:https://mustique.life/event/basils-bar-presents-sunset-sip-n-paint-2/2026-04-13/
LOCATION:Basil’s Bar
CATEGORIES:Entertainment
ATTACH;FMTTYPE=image/png:https://mustique.life/wp-content/uploads/2025/10/Oct-end-of-year-e1760455636815.png
END:VEVENT
BEGIN:VEVENT
DTSTART;TZID=America/St_Vincent:20260412T173000
DTEND;TZID=America/St_Vincent:20260412T200000
DTSTAMP:20260419T112250
CREATED:20250911T153102Z
LAST-MODIFIED:20260115T134548Z
UID:10014330-1776015000-1776024000@mustique.life
SUMMARY:Basils Bar Sunset Session
DESCRIPTION:Live music and delicious dinner for all the family. Plus you get to enjoy the beauty of a Basil’s sunset. \nJoin us from 5.30pm. To reserve a table please call #8350.
URL:https://mustique.life/event/basils-bar-sunset-session-2/2026-04-12/
LOCATION:Basil’s Bar
CATEGORIES:Entertainment
ATTACH;FMTTYPE=image/jpeg:https://mustique.life/wp-content/uploads/2022/03/Basils-Bar-Sunset-Sessions.jpg
END:VEVENT
BEGIN:VEVENT
DTSTART;TZID=America/St_Vincent:20260410T220000
DTEND;TZID=America/St_Vincent:20260410T220000
DTSTAMP:20260419T112250
CREATED:20260228T150531Z
LAST-MODIFIED:20260228T150845Z
UID:10017533-1775858400-1775858400@mustique.life
SUMMARY:Basil's DJ Night
DESCRIPTION:Rock out to the sounds of DJ Rich Kydd. \nBasil’s Bar \n10:00pm until late
URL:https://mustique.life/event/basils-dj-night-3/2026-04-10/
LOCATION:Basil’s Bar
CATEGORIES:Entertainment
ATTACH;FMTTYPE=image/png:https://mustique.life/wp-content/uploads/2025/03/dj-night.png
END:VEVENT
BEGIN:VEVENT
DTSTART;TZID=America/St_Vincent:20260409T180000
DTEND;TZID=America/St_Vincent:20260409T220000
DTSTAMP:20260419T112250
CREATED:20251014T145838Z
LAST-MODIFIED:20260107T181141Z
UID:10014389-1775757600-1775772000@mustique.life
SUMMARY:Tacos and Tequila @ Basil's
DESCRIPTION:Mexican-inspired evening with flowing drinks\, delicious food and spicy dancing.
URL:https://mustique.life/event/__trashed-5-2/2026-04-09/
LOCATION:Basil’s Bar
CATEGORIES:Entertainment
ATTACH;FMTTYPE=image/jpeg:https://mustique.life/wp-content/uploads/2022/03/Basils-Bar-Tacos-Tequila.jpg
END:VEVENT
BEGIN:VEVENT
DTSTART;TZID=America/St_Vincent:20260408T210000
DTEND;TZID=America/St_Vincent:20260408T210000
DTSTAMP:20260419T112250
CREATED:20260218T181340Z
LAST-MODIFIED:20260327T130914Z
UID:10017762-1775682000-1775682000@mustique.life
SUMMARY:JUMP UP feat. Splash
DESCRIPTION:Let’s your hair down! Live music and dancing at Basil’s
URL:https://mustique.life/event/jump-up-feat-splash-2-2-2/2026-04-08/
LOCATION:Basil’s Bar
CATEGORIES:Entertainment
ATTACH;FMTTYPE=image/jpeg:https://mustique.life/wp-content/uploads/2022/03/Basils-Jump-Up.jpg
END:VEVENT
BEGIN:VEVENT
DTSTART;TZID=America/St_Vincent:20260406T173000
DTEND;TZID=America/St_Vincent:20260406T190000
DTSTAMP:20260419T112250
CREATED:20260109T124744Z
LAST-MODIFIED:20260209T145646Z
UID:10017454-1775496600-1775502000@mustique.life
SUMMARY:Basil's Bar Presents: Sunset Sip n Paint
DESCRIPTION:Come down and pick up a canvas\, watch the sunset\, sip a cocktail and release your inner artist at Basil’s Bar – every Monday afternoon 5:30 – 7:00pm. \nMax. 20 people Price: 95 p.p.\nIncludes:\nChoice of 2x cocktails\, house wine or beer 1x canvas\, acrylic paints\, artistic guide \nBookings essential\nCall 8350 or email reservations@basilsbar.com \nTag us on Instagram #ArtBasil
URL:https://mustique.life/event/basils-bar-presents-sunset-sip-n-paint-2/2026-04-06/
LOCATION:Basil’s Bar
CATEGORIES:Entertainment
ATTACH;FMTTYPE=image/png:https://mustique.life/wp-content/uploads/2025/10/Oct-end-of-year-e1760455636815.png
END:VEVENT
BEGIN:VEVENT
DTSTART;TZID=America/St_Vincent:20260405T173000
DTEND;TZID=America/St_Vincent:20260405T200000
DTSTAMP:20260419T112250
CREATED:20250911T153102Z
LAST-MODIFIED:20260115T134548Z
UID:10014329-1775410200-1775419200@mustique.life
SUMMARY:Basils Bar Sunset Session
DESCRIPTION:Live music and delicious dinner for all the family. Plus you get to enjoy the beauty of a Basil’s sunset. \nJoin us from 5.30pm. To reserve a table please call #8350.
URL:https://mustique.life/event/basils-bar-sunset-session-2/2026-04-05/
LOCATION:Basil’s Bar
CATEGORIES:Entertainment
ATTACH;FMTTYPE=image/jpeg:https://mustique.life/wp-content/uploads/2022/03/Basils-Bar-Sunset-Sessions.jpg
END:VEVENT
BEGIN:VEVENT
DTSTART;TZID=America/St_Vincent:20260403T220000
DTEND;TZID=America/St_Vincent:20260403T220000
DTSTAMP:20260419T112250
CREATED:20260218T183119Z
LAST-MODIFIED:20260228T150738Z
UID:10017531-1775253600-1775253600@mustique.life
SUMMARY:Basil's DJ Night
DESCRIPTION:Rock out to the sounds of DJ Static. \nBasil’s Bar \n10:00pm until late
URL:https://mustique.life/event/basils-dj-night-2/2026-04-03/
LOCATION:Basil’s Bar
CATEGORIES:Entertainment
ATTACH;FMTTYPE=image/png:https://mustique.life/wp-content/uploads/2025/03/dj-night.png
END:VEVENT
BEGIN:VEVENT
DTSTART;TZID=America/St_Vincent:20260402T180000
DTEND;TZID=America/St_Vincent:20260402T220000
DTSTAMP:20260419T112250
CREATED:20251014T145838Z
LAST-MODIFIED:20260107T181141Z
UID:10014388-1775152800-1775167200@mustique.life
SUMMARY:Tacos and Tequila @ Basil's
DESCRIPTION:Mexican-inspired evening with flowing drinks\, delicious food and spicy dancing.
URL:https://mustique.life/event/__trashed-5-2/2026-04-02/
LOCATION:Basil’s Bar
CATEGORIES:Entertainment
ATTACH;FMTTYPE=image/jpeg:https://mustique.life/wp-content/uploads/2022/03/Basils-Bar-Tacos-Tequila.jpg
END:VEVENT
BEGIN:VEVENT
DTSTART;TZID=America/St_Vincent:20260401T210000
DTEND;TZID=America/St_Vincent:20260401T210000
DTSTAMP:20260419T112250
CREATED:20260218T181340Z
LAST-MODIFIED:20260327T130914Z
UID:10017761-1775077200-1775077200@mustique.life
SUMMARY:JUMP UP feat. Splash
DESCRIPTION:Let’s your hair down! Live music and dancing at Basil’s
URL:https://mustique.life/event/jump-up-feat-splash-2-2-2/2026-04-01/
LOCATION:Basil’s Bar
CATEGORIES:Entertainment
ATTACH;FMTTYPE=image/jpeg:https://mustique.life/wp-content/uploads/2022/03/Basils-Jump-Up.jpg
END:VEVENT
BEGIN:VEVENT
DTSTART;TZID=America/St_Vincent:20260330T173000
DTEND;TZID=America/St_Vincent:20260330T190000
DTSTAMP:20260419T112250
CREATED:20260109T124744Z
LAST-MODIFIED:20260209T145646Z
UID:10017453-1774891800-1774897200@mustique.life
SUMMARY:Basil's Bar Presents: Sunset Sip n Paint
DESCRIPTION:Come down and pick up a canvas\, watch the sunset\, sip a cocktail and release your inner artist at Basil’s Bar – every Monday afternoon 5:30 – 7:00pm. \nMax. 20 people Price: 95 p.p.\nIncludes:\nChoice of 2x cocktails\, house wine or beer 1x canvas\, acrylic paints\, artistic guide \nBookings essential\nCall 8350 or email reservations@basilsbar.com \nTag us on Instagram #ArtBasil
URL:https://mustique.life/event/basils-bar-presents-sunset-sip-n-paint-2/2026-03-30/
LOCATION:Basil’s Bar
CATEGORIES:Entertainment
ATTACH;FMTTYPE=image/png:https://mustique.life/wp-content/uploads/2025/10/Oct-end-of-year-e1760455636815.png
END:VEVENT
BEGIN:VEVENT
DTSTART;TZID=America/St_Vincent:20260329T173000
DTEND;TZID=America/St_Vincent:20260329T200000
DTSTAMP:20260419T112250
CREATED:20250911T153102Z
LAST-MODIFIED:20260115T134548Z
UID:10014328-1774805400-1774814400@mustique.life
SUMMARY:Basils Bar Sunset Session
DESCRIPTION:Live music and delicious dinner for all the family. Plus you get to enjoy the beauty of a Basil’s sunset. \nJoin us from 5.30pm. To reserve a table please call #8350.
URL:https://mustique.life/event/basils-bar-sunset-session-2/2026-03-29/
LOCATION:Basil’s Bar
CATEGORIES:Entertainment
ATTACH;FMTTYPE=image/jpeg:https://mustique.life/wp-content/uploads/2022/03/Basils-Bar-Sunset-Sessions.jpg
END:VEVENT
BEGIN:VEVENT
DTSTART;TZID=America/St_Vincent:20260327T220000
DTEND;TZID=America/St_Vincent:20260327T220000
DTSTAMP:20260419T112250
CREATED:20260228T150531Z
LAST-MODIFIED:20260228T150845Z
UID:10017532-1774648800-1774648800@mustique.life
SUMMARY:Basil's DJ Night
DESCRIPTION:Rock out to the sounds of DJ Rich Kydd. \nBasil’s Bar \n10:00pm until late
URL:https://mustique.life/event/basils-dj-night-3/2026-03-27/
LOCATION:Basil’s Bar
CATEGORIES:Entertainment
ATTACH;FMTTYPE=image/png:https://mustique.life/wp-content/uploads/2025/03/dj-night.png
END:VEVENT
BEGIN:VEVENT
DTSTART;TZID=America/St_Vincent:20260326T180000
DTEND;TZID=America/St_Vincent:20260326T220000
DTSTAMP:20260419T112250
CREATED:20251014T145838Z
LAST-MODIFIED:20260107T181141Z
UID:10014387-1774548000-1774562400@mustique.life
SUMMARY:Tacos and Tequila @ Basil's
DESCRIPTION:Mexican-inspired evening with flowing drinks\, delicious food and spicy dancing.
URL:https://mustique.life/event/__trashed-5-2/2026-03-26/
LOCATION:Basil’s Bar
CATEGORIES:Entertainment
ATTACH;FMTTYPE=image/jpeg:https://mustique.life/wp-content/uploads/2022/03/Basils-Bar-Tacos-Tequila.jpg
END:VEVENT
BEGIN:VEVENT
DTSTART;TZID=America/St_Vincent:20260325T210000
DTEND;TZID=America/St_Vincent:20260325T210000
DTSTAMP:20260419T112250
CREATED:20260218T181340Z
LAST-MODIFIED:20260327T130914Z
UID:10015691-1774472400-1774472400@mustique.life
SUMMARY:JUMP UP feat. Splash
DESCRIPTION:Let’s your hair down! Live music and dancing at Basil’s
URL:https://mustique.life/event/jump-up-feat-splash-2-2-2/2026-03-25/
LOCATION:Basil’s Bar
CATEGORIES:Entertainment
ATTACH;FMTTYPE=image/jpeg:https://mustique.life/wp-content/uploads/2022/03/Basils-Jump-Up.jpg
END:VEVENT
BEGIN:VEVENT
DTSTART;TZID=America/St_Vincent:20260323T173000
DTEND;TZID=America/St_Vincent:20260323T190000
DTSTAMP:20260419T112250
CREATED:20260109T124744Z
LAST-MODIFIED:20260209T145646Z
UID:10017452-1774287000-1774292400@mustique.life
SUMMARY:Basil's Bar Presents: Sunset Sip n Paint
DESCRIPTION:Come down and pick up a canvas\, watch the sunset\, sip a cocktail and release your inner artist at Basil’s Bar – every Monday afternoon 5:30 – 7:00pm. \nMax. 20 people Price: 95 p.p.\nIncludes:\nChoice of 2x cocktails\, house wine or beer 1x canvas\, acrylic paints\, artistic guide \nBookings essential\nCall 8350 or email reservations@basilsbar.com \nTag us on Instagram #ArtBasil
URL:https://mustique.life/event/basils-bar-presents-sunset-sip-n-paint-2/2026-03-23/
LOCATION:Basil’s Bar
CATEGORIES:Entertainment
ATTACH;FMTTYPE=image/png:https://mustique.life/wp-content/uploads/2025/10/Oct-end-of-year-e1760455636815.png
END:VEVENT
BEGIN:VEVENT
DTSTART;TZID=America/St_Vincent:20260322T173000
DTEND;TZID=America/St_Vincent:20260322T200000
DTSTAMP:20260419T112250
CREATED:20250911T153102Z
LAST-MODIFIED:20260115T134548Z
UID:10014327-1774200600-1774209600@mustique.life
SUMMARY:Basils Bar Sunset Session
DESCRIPTION:Live music and delicious dinner for all the family. Plus you get to enjoy the beauty of a Basil’s sunset. \nJoin us from 5.30pm. To reserve a table please call #8350.
URL:https://mustique.life/event/basils-bar-sunset-session-2/2026-03-22/
LOCATION:Basil’s Bar
CATEGORIES:Entertainment
ATTACH;FMTTYPE=image/jpeg:https://mustique.life/wp-content/uploads/2022/03/Basils-Bar-Sunset-Sessions.jpg
END:VEVENT
BEGIN:VEVENT
DTSTART;TZID=America/St_Vincent:20260320T220000
DTEND;TZID=America/St_Vincent:20260320T220000
DTSTAMP:20260419T112250
CREATED:20260218T183119Z
LAST-MODIFIED:20260228T150738Z
UID:10017530-1774044000-1774044000@mustique.life
SUMMARY:Basil's DJ Night
DESCRIPTION:Rock out to the sounds of DJ Static. \nBasil’s Bar \n10:00pm until late
URL:https://mustique.life/event/basils-dj-night-2/2026-03-20/
LOCATION:Basil’s Bar
CATEGORIES:Entertainment
ATTACH;FMTTYPE=image/png:https://mustique.life/wp-content/uploads/2025/03/dj-night.png
END:VEVENT
BEGIN:VEVENT
DTSTART;TZID=America/St_Vincent:20260319T180000
DTEND;TZID=America/St_Vincent:20260319T220000
DTSTAMP:20260419T112250
CREATED:20251014T145838Z
LAST-MODIFIED:20260107T181141Z
UID:10014386-1773943200-1773957600@mustique.life
SUMMARY:Tacos and Tequila @ Basil's
DESCRIPTION:Mexican-inspired evening with flowing drinks\, delicious food and spicy dancing.
URL:https://mustique.life/event/__trashed-5-2/2026-03-19/
LOCATION:Basil’s Bar
CATEGORIES:Entertainment
ATTACH;FMTTYPE=image/jpeg:https://mustique.life/wp-content/uploads/2022/03/Basils-Bar-Tacos-Tequila.jpg
END:VEVENT
BEGIN:VEVENT
DTSTART;TZID=America/St_Vincent:20260318T210000
DTEND;TZID=America/St_Vincent:20260318T210000
DTSTAMP:20260419T112250
CREATED:20260218T181340Z
LAST-MODIFIED:20260327T130914Z
UID:10015690-1773867600-1773867600@mustique.life
SUMMARY:JUMP UP feat. Splash
DESCRIPTION:Let’s your hair down! Live music and dancing at Basil’s
URL:https://mustique.life/event/jump-up-feat-splash-2-2-2/2026-03-18/
LOCATION:Basil’s Bar
CATEGORIES:Entertainment
ATTACH;FMTTYPE=image/jpeg:https://mustique.life/wp-content/uploads/2022/03/Basils-Jump-Up.jpg
END:VEVENT
BEGIN:VEVENT
DTSTART;TZID=America/St_Vincent:20260316T173000
DTEND;TZID=America/St_Vincent:20260316T190000
DTSTAMP:20260419T112250
CREATED:20260109T124744Z
LAST-MODIFIED:20260209T145646Z
UID:10017451-1773682200-1773687600@mustique.life
SUMMARY:Basil's Bar Presents: Sunset Sip n Paint
DESCRIPTION:Come down and pick up a canvas\, watch the sunset\, sip a cocktail and release your inner artist at Basil’s Bar – every Monday afternoon 5:30 – 7:00pm. \nMax. 20 people Price: 95 p.p.\nIncludes:\nChoice of 2x cocktails\, house wine or beer 1x canvas\, acrylic paints\, artistic guide \nBookings essential\nCall 8350 or email reservations@basilsbar.com \nTag us on Instagram #ArtBasil
URL:https://mustique.life/event/basils-bar-presents-sunset-sip-n-paint-2/2026-03-16/
LOCATION:Basil’s Bar
CATEGORIES:Entertainment
ATTACH;FMTTYPE=image/png:https://mustique.life/wp-content/uploads/2025/10/Oct-end-of-year-e1760455636815.png
END:VEVENT
BEGIN:VEVENT
DTSTART;TZID=America/St_Vincent:20260315T173000
DTEND;TZID=America/St_Vincent:20260315T200000
DTSTAMP:20260419T112250
CREATED:20250911T153102Z
LAST-MODIFIED:20260115T134548Z
UID:10014326-1773595800-1773604800@mustique.life
SUMMARY:Basils Bar Sunset Session
DESCRIPTION:Live music and delicious dinner for all the family. Plus you get to enjoy the beauty of a Basil’s sunset. \nJoin us from 5.30pm. To reserve a table please call #8350.
URL:https://mustique.life/event/basils-bar-sunset-session-2/2026-03-15/
LOCATION:Basil’s Bar
CATEGORIES:Entertainment
ATTACH;FMTTYPE=image/jpeg:https://mustique.life/wp-content/uploads/2022/03/Basils-Bar-Sunset-Sessions.jpg
END:VEVENT
BEGIN:VEVENT
DTSTART;TZID=America/St_Vincent:20260314T161000
DTEND;TZID=America/St_Vincent:20260314T161000
DTSTAMP:20260419T112250
CREATED:20260127T155045Z
LAST-MODIFIED:20260127T155045Z
UID:10017250-1773504600-1773504600@mustique.life
SUMMARY:6 Nations Rugby - France vs England
DESCRIPTION:Please join us at Basils for the showing of the 6 nations rugby matches
URL:https://mustique.life/event/6-nations-rugby-france-vs-england/
LOCATION:Basil’s Bar
CATEGORIES:Entertainment
ATTACH;FMTTYPE=image/jpeg:https://mustique.life/wp-content/uploads/2022/11/Rugby-at-Basils.jpg
END:VEVENT
BEGIN:VEVENT
DTSTART;TZID=America/St_Vincent:20260314T124000
DTEND;TZID=America/St_Vincent:20260314T124000
DTSTAMP:20260419T112250
CREATED:20260127T154938Z
LAST-MODIFIED:20260127T154938Z
UID:10017249-1773492000-1773492000@mustique.life
SUMMARY:6 Nations Rugby - Wales vs Italy
DESCRIPTION:Please join us at Basils for the showing of the 6 nations rugby matches
URL:https://mustique.life/event/6-nations-rugby-wales-vs-italy/
LOCATION:Basil’s Bar
CATEGORIES:Entertainment
ATTACH;FMTTYPE=image/jpeg:https://mustique.life/wp-content/uploads/2022/11/Rugby-at-Basils.jpg
END:VEVENT
BEGIN:VEVENT
DTSTART;TZID=America/St_Vincent:20260314T101000
DTEND;TZID=America/St_Vincent:20260314T101000
DTSTAMP:20260419T112250
CREATED:20260127T154832Z
LAST-MODIFIED:20260127T154832Z
UID:10017248-1773483000-1773483000@mustique.life
SUMMARY:6 Nations Rugby - Ireland vs Scotland
DESCRIPTION:Please join us at Basils for the showing of the 6 nations rugby matches
URL:https://mustique.life/event/6-nations-rugby-ireland-vs-scotland/
LOCATION:Basil’s Bar
CATEGORIES:Entertainment
ATTACH;FMTTYPE=image/jpeg:https://mustique.life/wp-content/uploads/2022/11/Rugby-at-Basils.jpg
END:VEVENT
BEGIN:VEVENT
DTSTART;TZID=America/St_Vincent:20260313T220000
DTEND;TZID=America/St_Vincent:20260313T220000
DTSTAMP:20260419T112250
CREATED:20260228T150531Z
LAST-MODIFIED:20260228T150845Z
UID:10017529-1773439200-1773439200@mustique.life
SUMMARY:Basil's DJ Night
DESCRIPTION:Rock out to the sounds of DJ Rich Kydd. \nBasil’s Bar \n10:00pm until late
URL:https://mustique.life/event/basils-dj-night-3/2026-03-13/
LOCATION:Basil’s Bar
CATEGORIES:Entertainment
ATTACH;FMTTYPE=image/png:https://mustique.life/wp-content/uploads/2025/03/dj-night.png
END:VEVENT
BEGIN:VEVENT
DTSTART;TZID=America/St_Vincent:20260312T180000
DTEND;TZID=America/St_Vincent:20260312T220000
DTSTAMP:20260419T112250
CREATED:20251014T145838Z
LAST-MODIFIED:20260107T181141Z
UID:10014385-1773338400-1773352800@mustique.life
SUMMARY:Tacos and Tequila @ Basil's
DESCRIPTION:Mexican-inspired evening with flowing drinks\, delicious food and spicy dancing.
URL:https://mustique.life/event/__trashed-5-2/2026-03-12/
LOCATION:Basil’s Bar
CATEGORIES:Entertainment
ATTACH;FMTTYPE=image/jpeg:https://mustique.life/wp-content/uploads/2022/03/Basils-Bar-Tacos-Tequila.jpg
END:VEVENT
BEGIN:VEVENT
DTSTART;TZID=America/St_Vincent:20260311T210000
DTEND;TZID=America/St_Vincent:20260311T210000
DTSTAMP:20260419T112250
CREATED:20260218T181340Z
LAST-MODIFIED:20260327T130914Z
UID:10015689-1773262800-1773262800@mustique.life
SUMMARY:JUMP UP feat. Splash
DESCRIPTION:Let’s your hair down! Live music and dancing at Basil’s
URL:https://mustique.life/event/jump-up-feat-splash-2-2-2/2026-03-11/
LOCATION:Basil’s Bar
CATEGORIES:Entertainment
ATTACH;FMTTYPE=image/jpeg:https://mustique.life/wp-content/uploads/2022/03/Basils-Jump-Up.jpg
END:VEVENT
END:VCALENDAR