BEGIN:VCALENDAR
VERSION:2.0
PRODID:-//Mustique Events - Calendar - ECPv6.15.17.1//NONSGML v1.0//EN
CALSCALE:GREGORIAN
METHOD:PUBLISH
X-ORIGINAL-URL:https://mustique.life
X-WR-CALDESC:Events for Mustique Events - Calendar
REFRESH-INTERVAL;VALUE=DURATION:PT1H
X-Robots-Tag:noindex
X-PUBLISHED-TTL:PT1H
BEGIN:VTIMEZONE
TZID:America/St_Vincent
BEGIN:STANDARD
TZOFFSETFROM:-0400
TZOFFSETTO:-0400
TZNAME:AST
DTSTART:20250101T000000
END:STANDARD
END:VTIMEZONE
BEGIN:VEVENT
DTSTART;TZID=America/St_Vincent:20261224T174500
DTEND;TZID=America/St_Vincent:20261224T190000
DTSTAMP:20260419T112251
CREATED:20241129T181509Z
LAST-MODIFIED:20241205T184517Z
UID:10009701-1798134300-1798138800@mustique.life
SUMMARY:Mustique Company Christmas Carols
DESCRIPTION:Join us at the Bamboo Church for an hour of Christmas Carol Sing. \nDecember 24th \n6:00pm – 7:00pm \nAll are invited. \n 
URL:https://mustique.life/event/mustique-company-christmas-carols/2026-12-24/
LOCATION:Bamboo Church
CATEGORIES:Entertainment
ATTACH;FMTTYPE=image/jpeg:https://mustique.life/wp-content/uploads/2022/12/Church-Service.jpg
END:VEVENT
BEGIN:VEVENT
DTSTART;TZID=America/St_Vincent:20261225T110000
DTEND;TZID=America/St_Vincent:20261225T120000
DTSTAMP:20260419T112251
CREATED:20251115T154829Z
LAST-MODIFIED:20260323T180425Z
UID:10014718-1798196400-1798200000@mustique.life
SUMMARY:Christmas Day Service: Anglicans
DESCRIPTION:Join us at the Bamboo church for Christmas Day Service. \nDecember 25th \n11:00am \nAll are welcome
URL:https://mustique.life/event/christmas-day-service-anglicans/2026-12-25/
LOCATION:Bamboo Church
CATEGORIES:Entertainment
ATTACH;FMTTYPE=image/jpeg:https://mustique.life/wp-content/uploads/2022/12/Church-Service.jpg
END:VEVENT
BEGIN:VEVENT
DTSTART;TZID=America/St_Vincent:20271225T110000
DTEND;TZID=America/St_Vincent:20271225T120000
DTSTAMP:20260419T112251
CREATED:20251115T154829Z
LAST-MODIFIED:20260323T180425Z
UID:10017755-1829732400-1829736000@mustique.life
SUMMARY:Christmas Day Service: Anglicans
DESCRIPTION:Join us at the Bamboo church for Christmas Day Service. \nDecember 25th \n11:00am \nAll are welcome
URL:https://mustique.life/event/christmas-day-service-anglicans/2027-12-25/
LOCATION:Bamboo Church
CATEGORIES:Entertainment
ATTACH;FMTTYPE=image/jpeg:https://mustique.life/wp-content/uploads/2022/12/Church-Service.jpg
END:VEVENT
BEGIN:VEVENT
DTSTART;TZID=America/St_Vincent:20281225T110000
DTEND;TZID=America/St_Vincent:20281225T120000
DTSTAMP:20260419T112251
CREATED:20251115T154829Z
LAST-MODIFIED:20260323T180425Z
UID:10017756-1861354800-1861358400@mustique.life
SUMMARY:Christmas Day Service: Anglicans
DESCRIPTION:Join us at the Bamboo church for Christmas Day Service. \nDecember 25th \n11:00am \nAll are welcome
URL:https://mustique.life/event/christmas-day-service-anglicans/2028-12-25/
LOCATION:Bamboo Church
CATEGORIES:Entertainment
ATTACH;FMTTYPE=image/jpeg:https://mustique.life/wp-content/uploads/2022/12/Church-Service.jpg
END:VEVENT
BEGIN:VEVENT
DTSTART;TZID=America/St_Vincent:20291225T110000
DTEND;TZID=America/St_Vincent:20291225T120000
DTSTAMP:20260419T112251
CREATED:20251115T154829Z
LAST-MODIFIED:20260323T180425Z
UID:10017757-1892890800-1892894400@mustique.life
SUMMARY:Christmas Day Service: Anglicans
DESCRIPTION:Join us at the Bamboo church for Christmas Day Service. \nDecember 25th \n11:00am \nAll are welcome
URL:https://mustique.life/event/christmas-day-service-anglicans/2029-12-25/
LOCATION:Bamboo Church
CATEGORIES:Entertainment
ATTACH;FMTTYPE=image/jpeg:https://mustique.life/wp-content/uploads/2022/12/Church-Service.jpg
END:VEVENT
END:VCALENDAR