BEGIN:VCALENDAR
VERSION:2.0
PRODID:-//Mustique Events - Calendar - ECPv6.15.17.1//NONSGML v1.0//EN
CALSCALE:GREGORIAN
METHOD:PUBLISH
X-WR-CALNAME:Mustique Events - Calendar
X-ORIGINAL-URL:https://mustique.life
X-WR-CALDESC:Events for Mustique Events - Calendar
REFRESH-INTERVAL;VALUE=DURATION:PT1H
X-Robots-Tag:noindex
X-PUBLISHED-TTL:PT1H
BEGIN:VTIMEZONE
TZID:America/St_Vincent
BEGIN:STANDARD
TZOFFSETFROM:-0400
TZOFFSETTO:-0400
TZNAME:AST
DTSTART:20250101T000000
END:STANDARD
END:VTIMEZONE
BEGIN:VEVENT
DTSTART;TZID=America/St_Vincent:20260601T060000
DTEND;TZID=America/St_Vincent:20260601T200000
DTSTAMP:20260419T212548
CREATED:20251003T132525Z
LAST-MODIFIED:20251003T132800Z
UID:10013814-1780293600-1780344000@mustique.life
SUMMARY:Private Tennis Lessons
DESCRIPTION:Private Lessons can be booked from 6am to 8pm daily \nFor bookings \ninfo@mustiquetennis.com \next. 8315 /8818 \n  \n 
URL:https://mustique.life/event/private-tennis-lessons/2026-06-01/
LOCATION:Tennis Club
CATEGORIES:Sport / Wellness
ATTACH;FMTTYPE=image/jpeg:https://mustique.life/wp-content/uploads/2022/12/Tennis-Lessons.jpg
END:VEVENT
BEGIN:VEVENT
DTSTART;TZID=America/St_Vincent:20260601T070000
DTEND;TZID=America/St_Vincent:20260601T190000
DTSTAMP:20260419T212548
CREATED:20251222T123041Z
LAST-MODIFIED:20260416T155054Z
UID:10023560-1780297200-1780340400@mustique.life
SUMMARY:Private Personal Training and Yoga
DESCRIPTION:ALL BOOKINGS FOR GYM TIME SLOTS\, PRIVATE SESSIONS AND CLASSES MUST BE MADE IN ADVANCE BY CALLING EXT: 8920 OR BY EMAIL: YOGAFITNESS@COTTONHOUSE.NET
URL:https://mustique.life/event/private-personal-training-and-yoga/2026-06-01/
LOCATION:Gym Studio\, Saint Vincent and The Grenadines
CATEGORIES:Sport / Wellness
ATTACH;FMTTYPE=image/jpeg:https://mustique.life/wp-content/uploads/2024/03/Gentle-Yoga_GymStudio.jpg
END:VEVENT
BEGIN:VEVENT
DTSTART;TZID=America/St_Vincent:20260601T080000
DTEND;TZID=America/St_Vincent:20260601T103000
DTSTAMP:20260419T212548
CREATED:20260402T164229Z
LAST-MODIFIED:20260402T165847Z
UID:10019781-1780300800-1780309800@mustique.life
SUMMARY:Horse Riding
DESCRIPTION:Experience Mustique in an exhilarating way. The Equestrian Centre has horses and ponies to suit all ages\nand levels of experience\, with qualified riding instructors offering a range of trail rides\, pony camps\nand lessons (maximum weight limit is 198lbs/90kg). \nTo book\, please email the Equestrian Centre team at equestrian@mustique.vc or call ext.8316 . \n  \n  \n 
URL:https://mustique.life/event/horse-riding-2-3/2026-06-01/
LOCATION:Equestrian Centre
CATEGORIES:Sport / Wellness
ATTACH;FMTTYPE=image/jpeg:https://mustique.life/wp-content/uploads/2023/01/Horse-Riding.jpg
END:VEVENT
BEGIN:VEVENT
DTSTART;TZID=America/St_Vincent:20260601T140000
DTEND;TZID=America/St_Vincent:20260601T160000
DTSTAMP:20260419T212548
CREATED:20251006T123022Z
LAST-MODIFIED:20251006T123245Z
UID:10014140-1780322400-1780329600@mustique.life
SUMMARY:Discover Scuba Diving
DESCRIPTION:This is the perfect introductory session for those who have never tried scuba diving before (from 10 years old)\,or for those who are not yet certified. Includes a basic theory session with an instructor\, followed by a shallow dive on our spectacular Cotton House reef. \nIf you find that you’ve taken to diving like a ‘fish to water’\, subsequent dives can be arranged. The maximum depth for the first and all subsequent dives is 12 metres/40 feet. \nWhen? 2pm daily with a prior reservation (approx. 2 hours)\nPrice? $150 \nTo book\, or to organise this on a private basis\, please contact watersports@mustique.vc
URL:https://mustique.life/event/discover-scuba-diving-2-2/2026-06-01/
LOCATION:Watersports
CATEGORIES:Sport / Wellness
ATTACH;FMTTYPE=image/jpeg:https://mustique.life/wp-content/uploads/2022/12/Diving.jpg
END:VEVENT
BEGIN:VEVENT
DTSTART;TZID=America/St_Vincent:20260601T153000
DTEND;TZID=America/St_Vincent:20260601T173000
DTSTAMP:20260419T212548
CREATED:20260402T165703Z
LAST-MODIFIED:20260402T165953Z
UID:10021732-1780327800-1780335000@mustique.life
SUMMARY:Horse Riding
DESCRIPTION:Experience Mustique in an exhilarating way. The Equestrian Centre has horses and ponies to suit all ages\nand levels of experience\, with qualified riding instructors offering a range of trail rides\, pony camps\nand lessons (maximum weight limit is 198lbs/90kg). \nTo book\, please email the Equestrian Centre team at equestrian@mustique.vc or call ext.8316 . \n  \n  \n 
URL:https://mustique.life/event/horse-riding-3-2-2/2026-06-01/
LOCATION:Equestrian Centre
CATEGORIES:Sport / Wellness
ATTACH;FMTTYPE=image/jpeg:https://mustique.life/wp-content/uploads/2023/01/Horse-Riding.jpg
END:VEVENT
BEGIN:VEVENT
DTSTART;TZID=America/St_Vincent:20260602T060000
DTEND;TZID=America/St_Vincent:20260602T200000
DTSTAMP:20260419T212548
CREATED:20251003T132525Z
LAST-MODIFIED:20251003T132800Z
UID:10013815-1780380000-1780430400@mustique.life
SUMMARY:Private Tennis Lessons
DESCRIPTION:Private Lessons can be booked from 6am to 8pm daily \nFor bookings \ninfo@mustiquetennis.com \next. 8315 /8818 \n  \n 
URL:https://mustique.life/event/private-tennis-lessons/2026-06-02/
LOCATION:Tennis Club
CATEGORIES:Sport / Wellness
ATTACH;FMTTYPE=image/jpeg:https://mustique.life/wp-content/uploads/2022/12/Tennis-Lessons.jpg
END:VEVENT
BEGIN:VEVENT
DTSTART;TZID=America/St_Vincent:20260602T070000
DTEND;TZID=America/St_Vincent:20260602T190000
DTSTAMP:20260419T212548
CREATED:20251222T123041Z
LAST-MODIFIED:20260416T155054Z
UID:10023561-1780383600-1780426800@mustique.life
SUMMARY:Private Personal Training and Yoga
DESCRIPTION:ALL BOOKINGS FOR GYM TIME SLOTS\, PRIVATE SESSIONS AND CLASSES MUST BE MADE IN ADVANCE BY CALLING EXT: 8920 OR BY EMAIL: YOGAFITNESS@COTTONHOUSE.NET
URL:https://mustique.life/event/private-personal-training-and-yoga/2026-06-02/
LOCATION:Gym Studio\, Saint Vincent and The Grenadines
CATEGORIES:Sport / Wellness
ATTACH;FMTTYPE=image/jpeg:https://mustique.life/wp-content/uploads/2024/03/Gentle-Yoga_GymStudio.jpg
END:VEVENT
BEGIN:VEVENT
DTSTART;TZID=America/St_Vincent:20260602T080000
DTEND;TZID=America/St_Vincent:20260602T103000
DTSTAMP:20260419T212548
CREATED:20260402T164229Z
LAST-MODIFIED:20260402T165847Z
UID:10019782-1780387200-1780396200@mustique.life
SUMMARY:Horse Riding
DESCRIPTION:Experience Mustique in an exhilarating way. The Equestrian Centre has horses and ponies to suit all ages\nand levels of experience\, with qualified riding instructors offering a range of trail rides\, pony camps\nand lessons (maximum weight limit is 198lbs/90kg). \nTo book\, please email the Equestrian Centre team at equestrian@mustique.vc or call ext.8316 . \n  \n  \n 
URL:https://mustique.life/event/horse-riding-2-3/2026-06-02/
LOCATION:Equestrian Centre
CATEGORIES:Sport / Wellness
ATTACH;FMTTYPE=image/jpeg:https://mustique.life/wp-content/uploads/2023/01/Horse-Riding.jpg
END:VEVENT
BEGIN:VEVENT
DTSTART;TZID=America/St_Vincent:20260602T140000
DTEND;TZID=America/St_Vincent:20260602T160000
DTSTAMP:20260419T212548
CREATED:20251003T033102Z
LAST-MODIFIED:20251006T123444Z
UID:10014280-1780408800-1780416000@mustique.life
SUMMARY:Snorkeling with Green Sea Turtles
DESCRIPTION:Come face to face with Mustique’s resident Green sea turtles in their natural habitat in front of Basil’s Bar. A member of the Watersports team will accompany you\,\nsharing fun facts about sea turtles and other ocean creatures along the way. \nPlease note that sea turtles are wild animals and sightings are not guaranteed\, please also do not chase or scare them. \nWhen? Every Tuesday & Thursday 14:00 – 16:00\nHow much? $50 pp (minimum 4 pax) \nTo book please contact watersports@mustique.vc \nIf you would like to personalise this experience and explore other areas of Mustique with your own private guide\, please contact watersports@mustique.vc. \nPlease note that additional fees apply
URL:https://mustique.life/event/__trashed-13/2026-06-02/
LOCATION:Britannia Bay
CATEGORIES:Sport / Wellness
ATTACH;FMTTYPE=image/jpeg:https://mustique.life/wp-content/uploads/2022/12/Turtles-MUSTIQUE-16.08.2019-20.jpg
END:VEVENT
BEGIN:VEVENT
DTSTART;TZID=America/St_Vincent:20260602T140000
DTEND;TZID=America/St_Vincent:20260602T160000
DTSTAMP:20260419T212548
CREATED:20251006T123022Z
LAST-MODIFIED:20251006T123245Z
UID:10014141-1780408800-1780416000@mustique.life
SUMMARY:Discover Scuba Diving
DESCRIPTION:This is the perfect introductory session for those who have never tried scuba diving before (from 10 years old)\,or for those who are not yet certified. Includes a basic theory session with an instructor\, followed by a shallow dive on our spectacular Cotton House reef. \nIf you find that you’ve taken to diving like a ‘fish to water’\, subsequent dives can be arranged. The maximum depth for the first and all subsequent dives is 12 metres/40 feet. \nWhen? 2pm daily with a prior reservation (approx. 2 hours)\nPrice? $150 \nTo book\, or to organise this on a private basis\, please contact watersports@mustique.vc
URL:https://mustique.life/event/discover-scuba-diving-2-2/2026-06-02/
LOCATION:Watersports
CATEGORIES:Sport / Wellness
ATTACH;FMTTYPE=image/jpeg:https://mustique.life/wp-content/uploads/2022/12/Diving.jpg
END:VEVENT
BEGIN:VEVENT
DTSTART;TZID=America/St_Vincent:20260602T153000
DTEND;TZID=America/St_Vincent:20260602T173000
DTSTAMP:20260419T212548
CREATED:20260402T165703Z
LAST-MODIFIED:20260402T165953Z
UID:10021733-1780414200-1780421400@mustique.life
SUMMARY:Horse Riding
DESCRIPTION:Experience Mustique in an exhilarating way. The Equestrian Centre has horses and ponies to suit all ages\nand levels of experience\, with qualified riding instructors offering a range of trail rides\, pony camps\nand lessons (maximum weight limit is 198lbs/90kg). \nTo book\, please email the Equestrian Centre team at equestrian@mustique.vc or call ext.8316 . \n  \n  \n 
URL:https://mustique.life/event/horse-riding-3-2-2/2026-06-02/
LOCATION:Equestrian Centre
CATEGORIES:Sport / Wellness
ATTACH;FMTTYPE=image/jpeg:https://mustique.life/wp-content/uploads/2023/01/Horse-Riding.jpg
END:VEVENT
BEGIN:VEVENT
DTSTART;TZID=America/St_Vincent:20260603T060000
DTEND;TZID=America/St_Vincent:20260603T200000
DTSTAMP:20260419T212548
CREATED:20251003T132525Z
LAST-MODIFIED:20251003T132800Z
UID:10013816-1780466400-1780516800@mustique.life
SUMMARY:Private Tennis Lessons
DESCRIPTION:Private Lessons can be booked from 6am to 8pm daily \nFor bookings \ninfo@mustiquetennis.com \next. 8315 /8818 \n  \n 
URL:https://mustique.life/event/private-tennis-lessons/2026-06-03/
LOCATION:Tennis Club
CATEGORIES:Sport / Wellness
ATTACH;FMTTYPE=image/jpeg:https://mustique.life/wp-content/uploads/2022/12/Tennis-Lessons.jpg
END:VEVENT
BEGIN:VEVENT
DTSTART;TZID=America/St_Vincent:20260603T070000
DTEND;TZID=America/St_Vincent:20260603T190000
DTSTAMP:20260419T212548
CREATED:20251222T123041Z
LAST-MODIFIED:20260416T155054Z
UID:10023562-1780470000-1780513200@mustique.life
SUMMARY:Private Personal Training and Yoga
DESCRIPTION:ALL BOOKINGS FOR GYM TIME SLOTS\, PRIVATE SESSIONS AND CLASSES MUST BE MADE IN ADVANCE BY CALLING EXT: 8920 OR BY EMAIL: YOGAFITNESS@COTTONHOUSE.NET
URL:https://mustique.life/event/private-personal-training-and-yoga/2026-06-03/
LOCATION:Gym Studio\, Saint Vincent and The Grenadines
CATEGORIES:Sport / Wellness
ATTACH;FMTTYPE=image/jpeg:https://mustique.life/wp-content/uploads/2024/03/Gentle-Yoga_GymStudio.jpg
END:VEVENT
BEGIN:VEVENT
DTSTART;TZID=America/St_Vincent:20260603T080000
DTEND;TZID=America/St_Vincent:20260603T103000
DTSTAMP:20260419T212548
CREATED:20260402T164229Z
LAST-MODIFIED:20260402T165847Z
UID:10019783-1780473600-1780482600@mustique.life
SUMMARY:Horse Riding
DESCRIPTION:Experience Mustique in an exhilarating way. The Equestrian Centre has horses and ponies to suit all ages\nand levels of experience\, with qualified riding instructors offering a range of trail rides\, pony camps\nand lessons (maximum weight limit is 198lbs/90kg). \nTo book\, please email the Equestrian Centre team at equestrian@mustique.vc or call ext.8316 . \n  \n  \n 
URL:https://mustique.life/event/horse-riding-2-3/2026-06-03/
LOCATION:Equestrian Centre
CATEGORIES:Sport / Wellness
ATTACH;FMTTYPE=image/jpeg:https://mustique.life/wp-content/uploads/2023/01/Horse-Riding.jpg
END:VEVENT
BEGIN:VEVENT
DTSTART;TZID=America/St_Vincent:20260603T140000
DTEND;TZID=America/St_Vincent:20260603T160000
DTSTAMP:20260419T212548
CREATED:20251006T123022Z
LAST-MODIFIED:20251006T123245Z
UID:10014142-1780495200-1780502400@mustique.life
SUMMARY:Discover Scuba Diving
DESCRIPTION:This is the perfect introductory session for those who have never tried scuba diving before (from 10 years old)\,or for those who are not yet certified. Includes a basic theory session with an instructor\, followed by a shallow dive on our spectacular Cotton House reef. \nIf you find that you’ve taken to diving like a ‘fish to water’\, subsequent dives can be arranged. The maximum depth for the first and all subsequent dives is 12 metres/40 feet. \nWhen? 2pm daily with a prior reservation (approx. 2 hours)\nPrice? $150 \nTo book\, or to organise this on a private basis\, please contact watersports@mustique.vc
URL:https://mustique.life/event/discover-scuba-diving-2-2/2026-06-03/
LOCATION:Watersports
CATEGORIES:Sport / Wellness
ATTACH;FMTTYPE=image/jpeg:https://mustique.life/wp-content/uploads/2022/12/Diving.jpg
END:VEVENT
BEGIN:VEVENT
DTSTART;TZID=America/St_Vincent:20260603T153000
DTEND;TZID=America/St_Vincent:20260603T173000
DTSTAMP:20260419T212548
CREATED:20260402T165703Z
LAST-MODIFIED:20260402T165953Z
UID:10021734-1780500600-1780507800@mustique.life
SUMMARY:Horse Riding
DESCRIPTION:Experience Mustique in an exhilarating way. The Equestrian Centre has horses and ponies to suit all ages\nand levels of experience\, with qualified riding instructors offering a range of trail rides\, pony camps\nand lessons (maximum weight limit is 198lbs/90kg). \nTo book\, please email the Equestrian Centre team at equestrian@mustique.vc or call ext.8316 . \n  \n  \n 
URL:https://mustique.life/event/horse-riding-3-2-2/2026-06-03/
LOCATION:Equestrian Centre
CATEGORIES:Sport / Wellness
ATTACH;FMTTYPE=image/jpeg:https://mustique.life/wp-content/uploads/2023/01/Horse-Riding.jpg
END:VEVENT
BEGIN:VEVENT
DTSTART;TZID=America/St_Vincent:20260604T060000
DTEND;TZID=America/St_Vincent:20260604T200000
DTSTAMP:20260419T212548
CREATED:20251003T132525Z
LAST-MODIFIED:20251003T132800Z
UID:10013817-1780552800-1780603200@mustique.life
SUMMARY:Private Tennis Lessons
DESCRIPTION:Private Lessons can be booked from 6am to 8pm daily \nFor bookings \ninfo@mustiquetennis.com \next. 8315 /8818 \n  \n 
URL:https://mustique.life/event/private-tennis-lessons/2026-06-04/
LOCATION:Tennis Club
CATEGORIES:Sport / Wellness
ATTACH;FMTTYPE=image/jpeg:https://mustique.life/wp-content/uploads/2022/12/Tennis-Lessons.jpg
END:VEVENT
BEGIN:VEVENT
DTSTART;TZID=America/St_Vincent:20260604T070000
DTEND;TZID=America/St_Vincent:20260604T190000
DTSTAMP:20260419T212548
CREATED:20251222T123041Z
LAST-MODIFIED:20260416T155054Z
UID:10023563-1780556400-1780599600@mustique.life
SUMMARY:Private Personal Training and Yoga
DESCRIPTION:ALL BOOKINGS FOR GYM TIME SLOTS\, PRIVATE SESSIONS AND CLASSES MUST BE MADE IN ADVANCE BY CALLING EXT: 8920 OR BY EMAIL: YOGAFITNESS@COTTONHOUSE.NET
URL:https://mustique.life/event/private-personal-training-and-yoga/2026-06-04/
LOCATION:Gym Studio\, Saint Vincent and The Grenadines
CATEGORIES:Sport / Wellness
ATTACH;FMTTYPE=image/jpeg:https://mustique.life/wp-content/uploads/2024/03/Gentle-Yoga_GymStudio.jpg
END:VEVENT
BEGIN:VEVENT
DTSTART;TZID=America/St_Vincent:20260604T080000
DTEND;TZID=America/St_Vincent:20260604T103000
DTSTAMP:20260419T212548
CREATED:20260402T164229Z
LAST-MODIFIED:20260402T165847Z
UID:10019784-1780560000-1780569000@mustique.life
SUMMARY:Horse Riding
DESCRIPTION:Experience Mustique in an exhilarating way. The Equestrian Centre has horses and ponies to suit all ages\nand levels of experience\, with qualified riding instructors offering a range of trail rides\, pony camps\nand lessons (maximum weight limit is 198lbs/90kg). \nTo book\, please email the Equestrian Centre team at equestrian@mustique.vc or call ext.8316 . \n  \n  \n 
URL:https://mustique.life/event/horse-riding-2-3/2026-06-04/
LOCATION:Equestrian Centre
CATEGORIES:Sport / Wellness
ATTACH;FMTTYPE=image/jpeg:https://mustique.life/wp-content/uploads/2023/01/Horse-Riding.jpg
END:VEVENT
BEGIN:VEVENT
DTSTART;TZID=America/St_Vincent:20260604T140000
DTEND;TZID=America/St_Vincent:20260604T160000
DTSTAMP:20260419T212548
CREATED:20251003T033102Z
LAST-MODIFIED:20251006T123444Z
UID:10014281-1780581600-1780588800@mustique.life
SUMMARY:Snorkeling with Green Sea Turtles
DESCRIPTION:Come face to face with Mustique’s resident Green sea turtles in their natural habitat in front of Basil’s Bar. A member of the Watersports team will accompany you\,\nsharing fun facts about sea turtles and other ocean creatures along the way. \nPlease note that sea turtles are wild animals and sightings are not guaranteed\, please also do not chase or scare them. \nWhen? Every Tuesday & Thursday 14:00 – 16:00\nHow much? $50 pp (minimum 4 pax) \nTo book please contact watersports@mustique.vc \nIf you would like to personalise this experience and explore other areas of Mustique with your own private guide\, please contact watersports@mustique.vc. \nPlease note that additional fees apply
URL:https://mustique.life/event/__trashed-13/2026-06-04/
LOCATION:Britannia Bay
CATEGORIES:Sport / Wellness
ATTACH;FMTTYPE=image/jpeg:https://mustique.life/wp-content/uploads/2022/12/Turtles-MUSTIQUE-16.08.2019-20.jpg
END:VEVENT
BEGIN:VEVENT
DTSTART;TZID=America/St_Vincent:20260604T140000
DTEND;TZID=America/St_Vincent:20260604T160000
DTSTAMP:20260419T212548
CREATED:20251006T123022Z
LAST-MODIFIED:20251006T123245Z
UID:10014143-1780581600-1780588800@mustique.life
SUMMARY:Discover Scuba Diving
DESCRIPTION:This is the perfect introductory session for those who have never tried scuba diving before (from 10 years old)\,or for those who are not yet certified. Includes a basic theory session with an instructor\, followed by a shallow dive on our spectacular Cotton House reef. \nIf you find that you’ve taken to diving like a ‘fish to water’\, subsequent dives can be arranged. The maximum depth for the first and all subsequent dives is 12 metres/40 feet. \nWhen? 2pm daily with a prior reservation (approx. 2 hours)\nPrice? $150 \nTo book\, or to organise this on a private basis\, please contact watersports@mustique.vc
URL:https://mustique.life/event/discover-scuba-diving-2-2/2026-06-04/
LOCATION:Watersports
CATEGORIES:Sport / Wellness
ATTACH;FMTTYPE=image/jpeg:https://mustique.life/wp-content/uploads/2022/12/Diving.jpg
END:VEVENT
BEGIN:VEVENT
DTSTART;TZID=America/St_Vincent:20260604T153000
DTEND;TZID=America/St_Vincent:20260604T173000
DTSTAMP:20260419T212548
CREATED:20260402T165703Z
LAST-MODIFIED:20260402T165953Z
UID:10021735-1780587000-1780594200@mustique.life
SUMMARY:Horse Riding
DESCRIPTION:Experience Mustique in an exhilarating way. The Equestrian Centre has horses and ponies to suit all ages\nand levels of experience\, with qualified riding instructors offering a range of trail rides\, pony camps\nand lessons (maximum weight limit is 198lbs/90kg). \nTo book\, please email the Equestrian Centre team at equestrian@mustique.vc or call ext.8316 . \n  \n  \n 
URL:https://mustique.life/event/horse-riding-3-2-2/2026-06-04/
LOCATION:Equestrian Centre
CATEGORIES:Sport / Wellness
ATTACH;FMTTYPE=image/jpeg:https://mustique.life/wp-content/uploads/2023/01/Horse-Riding.jpg
END:VEVENT
BEGIN:VEVENT
DTSTART;TZID=America/St_Vincent:20260605T060000
DTEND;TZID=America/St_Vincent:20260605T200000
DTSTAMP:20260419T212548
CREATED:20251003T132525Z
LAST-MODIFIED:20251003T132800Z
UID:10013818-1780639200-1780689600@mustique.life
SUMMARY:Private Tennis Lessons
DESCRIPTION:Private Lessons can be booked from 6am to 8pm daily \nFor bookings \ninfo@mustiquetennis.com \next. 8315 /8818 \n  \n 
URL:https://mustique.life/event/private-tennis-lessons/2026-06-05/
LOCATION:Tennis Club
CATEGORIES:Sport / Wellness
ATTACH;FMTTYPE=image/jpeg:https://mustique.life/wp-content/uploads/2022/12/Tennis-Lessons.jpg
END:VEVENT
BEGIN:VEVENT
DTSTART;TZID=America/St_Vincent:20260605T070000
DTEND;TZID=America/St_Vincent:20260605T190000
DTSTAMP:20260419T212548
CREATED:20251222T123041Z
LAST-MODIFIED:20260416T155054Z
UID:10023564-1780642800-1780686000@mustique.life
SUMMARY:Private Personal Training and Yoga
DESCRIPTION:ALL BOOKINGS FOR GYM TIME SLOTS\, PRIVATE SESSIONS AND CLASSES MUST BE MADE IN ADVANCE BY CALLING EXT: 8920 OR BY EMAIL: YOGAFITNESS@COTTONHOUSE.NET
URL:https://mustique.life/event/private-personal-training-and-yoga/2026-06-05/
LOCATION:Gym Studio\, Saint Vincent and The Grenadines
CATEGORIES:Sport / Wellness
ATTACH;FMTTYPE=image/jpeg:https://mustique.life/wp-content/uploads/2024/03/Gentle-Yoga_GymStudio.jpg
END:VEVENT
BEGIN:VEVENT
DTSTART;TZID=America/St_Vincent:20260605T080000
DTEND;TZID=America/St_Vincent:20260605T103000
DTSTAMP:20260419T212548
CREATED:20260402T164229Z
LAST-MODIFIED:20260402T165847Z
UID:10019785-1780646400-1780655400@mustique.life
SUMMARY:Horse Riding
DESCRIPTION:Experience Mustique in an exhilarating way. The Equestrian Centre has horses and ponies to suit all ages\nand levels of experience\, with qualified riding instructors offering a range of trail rides\, pony camps\nand lessons (maximum weight limit is 198lbs/90kg). \nTo book\, please email the Equestrian Centre team at equestrian@mustique.vc or call ext.8316 . \n  \n  \n 
URL:https://mustique.life/event/horse-riding-2-3/2026-06-05/
LOCATION:Equestrian Centre
CATEGORIES:Sport / Wellness
ATTACH;FMTTYPE=image/jpeg:https://mustique.life/wp-content/uploads/2023/01/Horse-Riding.jpg
END:VEVENT
BEGIN:VEVENT
DTSTART;TZID=America/St_Vincent:20260605T140000
DTEND;TZID=America/St_Vincent:20260605T160000
DTSTAMP:20260419T212548
CREATED:20251006T123022Z
LAST-MODIFIED:20251006T123245Z
UID:10014144-1780668000-1780675200@mustique.life
SUMMARY:Discover Scuba Diving
DESCRIPTION:This is the perfect introductory session for those who have never tried scuba diving before (from 10 years old)\,or for those who are not yet certified. Includes a basic theory session with an instructor\, followed by a shallow dive on our spectacular Cotton House reef. \nIf you find that you’ve taken to diving like a ‘fish to water’\, subsequent dives can be arranged. The maximum depth for the first and all subsequent dives is 12 metres/40 feet. \nWhen? 2pm daily with a prior reservation (approx. 2 hours)\nPrice? $150 \nTo book\, or to organise this on a private basis\, please contact watersports@mustique.vc
URL:https://mustique.life/event/discover-scuba-diving-2-2/2026-06-05/
LOCATION:Watersports
CATEGORIES:Sport / Wellness
ATTACH;FMTTYPE=image/jpeg:https://mustique.life/wp-content/uploads/2022/12/Diving.jpg
END:VEVENT
BEGIN:VEVENT
DTSTART;TZID=America/St_Vincent:20260605T153000
DTEND;TZID=America/St_Vincent:20260605T173000
DTSTAMP:20260419T212548
CREATED:20260402T165703Z
LAST-MODIFIED:20260402T165953Z
UID:10021736-1780673400-1780680600@mustique.life
SUMMARY:Horse Riding
DESCRIPTION:Experience Mustique in an exhilarating way. The Equestrian Centre has horses and ponies to suit all ages\nand levels of experience\, with qualified riding instructors offering a range of trail rides\, pony camps\nand lessons (maximum weight limit is 198lbs/90kg). \nTo book\, please email the Equestrian Centre team at equestrian@mustique.vc or call ext.8316 . \n  \n  \n 
URL:https://mustique.life/event/horse-riding-3-2-2/2026-06-05/
LOCATION:Equestrian Centre
CATEGORIES:Sport / Wellness
ATTACH;FMTTYPE=image/jpeg:https://mustique.life/wp-content/uploads/2023/01/Horse-Riding.jpg
END:VEVENT
BEGIN:VEVENT
DTSTART;TZID=America/St_Vincent:20260606T060000
DTEND;TZID=America/St_Vincent:20260606T200000
DTSTAMP:20260419T212548
CREATED:20251003T132525Z
LAST-MODIFIED:20251003T132800Z
UID:10013819-1780725600-1780776000@mustique.life
SUMMARY:Private Tennis Lessons
DESCRIPTION:Private Lessons can be booked from 6am to 8pm daily \nFor bookings \ninfo@mustiquetennis.com \next. 8315 /8818 \n  \n 
URL:https://mustique.life/event/private-tennis-lessons/2026-06-06/
LOCATION:Tennis Club
CATEGORIES:Sport / Wellness
ATTACH;FMTTYPE=image/jpeg:https://mustique.life/wp-content/uploads/2022/12/Tennis-Lessons.jpg
END:VEVENT
BEGIN:VEVENT
DTSTART;TZID=America/St_Vincent:20260606T070000
DTEND;TZID=America/St_Vincent:20260606T190000
DTSTAMP:20260419T212548
CREATED:20251222T123041Z
LAST-MODIFIED:20260416T155054Z
UID:10023565-1780729200-1780772400@mustique.life
SUMMARY:Private Personal Training and Yoga
DESCRIPTION:ALL BOOKINGS FOR GYM TIME SLOTS\, PRIVATE SESSIONS AND CLASSES MUST BE MADE IN ADVANCE BY CALLING EXT: 8920 OR BY EMAIL: YOGAFITNESS@COTTONHOUSE.NET
URL:https://mustique.life/event/private-personal-training-and-yoga/2026-06-06/
LOCATION:Gym Studio\, Saint Vincent and The Grenadines
CATEGORIES:Sport / Wellness
ATTACH;FMTTYPE=image/jpeg:https://mustique.life/wp-content/uploads/2024/03/Gentle-Yoga_GymStudio.jpg
END:VEVENT
BEGIN:VEVENT
DTSTART;TZID=America/St_Vincent:20260606T080000
DTEND;TZID=America/St_Vincent:20260606T103000
DTSTAMP:20260419T212548
CREATED:20260402T164229Z
LAST-MODIFIED:20260402T165847Z
UID:10019786-1780732800-1780741800@mustique.life
SUMMARY:Horse Riding
DESCRIPTION:Experience Mustique in an exhilarating way. The Equestrian Centre has horses and ponies to suit all ages\nand levels of experience\, with qualified riding instructors offering a range of trail rides\, pony camps\nand lessons (maximum weight limit is 198lbs/90kg). \nTo book\, please email the Equestrian Centre team at equestrian@mustique.vc or call ext.8316 . \n  \n  \n 
URL:https://mustique.life/event/horse-riding-2-3/2026-06-06/
LOCATION:Equestrian Centre
CATEGORIES:Sport / Wellness
ATTACH;FMTTYPE=image/jpeg:https://mustique.life/wp-content/uploads/2023/01/Horse-Riding.jpg
END:VEVENT
END:VCALENDAR