BEGIN:VCALENDAR
VERSION:2.0
PRODID:-//Mustique Events - Calendar - ECPv6.15.17.1//NONSGML v1.0//EN
CALSCALE:GREGORIAN
METHOD:PUBLISH
X-WR-CALNAME:Mustique Events - Calendar
X-ORIGINAL-URL:https://mustique.life
X-WR-CALDESC:Events for Mustique Events - Calendar
REFRESH-INTERVAL;VALUE=DURATION:PT1H
X-Robots-Tag:noindex
X-PUBLISHED-TTL:PT1H
BEGIN:VTIMEZONE
TZID:America/St_Vincent
BEGIN:STANDARD
TZOFFSETFROM:-0400
TZOFFSETTO:-0400
TZNAME:AST
DTSTART:20250101T000000
END:STANDARD
END:VTIMEZONE
BEGIN:VEVENT
DTSTART;TZID=America/St_Vincent:20260518T060000
DTEND;TZID=America/St_Vincent:20260518T200000
DTSTAMP:20260419T181618
CREATED:20251003T132525Z
LAST-MODIFIED:20251003T132800Z
UID:10013802-1779084000-1779134400@mustique.life
SUMMARY:Private Tennis Lessons
DESCRIPTION:Private Lessons can be booked from 6am to 8pm daily \nFor bookings \ninfo@mustiquetennis.com \next. 8315 /8818 \n  \n 
URL:https://mustique.life/event/private-tennis-lessons/2026-05-18/
LOCATION:Tennis Club
CATEGORIES:Sport / Wellness
ATTACH;FMTTYPE=image/jpeg:https://mustique.life/wp-content/uploads/2022/12/Tennis-Lessons.jpg
END:VEVENT
BEGIN:VEVENT
DTSTART;TZID=America/St_Vincent:20260518T070000
DTEND;TZID=America/St_Vincent:20260518T190000
DTSTAMP:20260419T181618
CREATED:20251222T123041Z
LAST-MODIFIED:20260416T155054Z
UID:10023546-1779087600-1779130800@mustique.life
SUMMARY:Private Personal Training and Yoga
DESCRIPTION:ALL BOOKINGS FOR GYM TIME SLOTS\, PRIVATE SESSIONS AND CLASSES MUST BE MADE IN ADVANCE BY CALLING EXT: 8920 OR BY EMAIL: YOGAFITNESS@COTTONHOUSE.NET
URL:https://mustique.life/event/private-personal-training-and-yoga/2026-05-18/
LOCATION:Gym Studio\, Saint Vincent and The Grenadines
CATEGORIES:Sport / Wellness
ATTACH;FMTTYPE=image/jpeg:https://mustique.life/wp-content/uploads/2024/03/Gentle-Yoga_GymStudio.jpg
END:VEVENT
BEGIN:VEVENT
DTSTART;TZID=America/St_Vincent:20260518T080000
DTEND;TZID=America/St_Vincent:20260518T103000
DTSTAMP:20260419T181618
CREATED:20260402T164229Z
LAST-MODIFIED:20260402T165847Z
UID:10019767-1779091200-1779100200@mustique.life
SUMMARY:Horse Riding
DESCRIPTION:Experience Mustique in an exhilarating way. The Equestrian Centre has horses and ponies to suit all ages\nand levels of experience\, with qualified riding instructors offering a range of trail rides\, pony camps\nand lessons (maximum weight limit is 198lbs/90kg). \nTo book\, please email the Equestrian Centre team at equestrian@mustique.vc or call ext.8316 . \n  \n  \n 
URL:https://mustique.life/event/horse-riding-2-3/2026-05-18/
LOCATION:Equestrian Centre
CATEGORIES:Sport / Wellness
ATTACH;FMTTYPE=image/jpeg:https://mustique.life/wp-content/uploads/2023/01/Horse-Riding.jpg
END:VEVENT
BEGIN:VEVENT
DTSTART;TZID=America/St_Vincent:20260518T140000
DTEND;TZID=America/St_Vincent:20260518T160000
DTSTAMP:20260419T181618
CREATED:20251006T123022Z
LAST-MODIFIED:20251006T123245Z
UID:10014128-1779112800-1779120000@mustique.life
SUMMARY:Discover Scuba Diving
DESCRIPTION:This is the perfect introductory session for those who have never tried scuba diving before (from 10 years old)\,or for those who are not yet certified. Includes a basic theory session with an instructor\, followed by a shallow dive on our spectacular Cotton House reef. \nIf you find that you’ve taken to diving like a ‘fish to water’\, subsequent dives can be arranged. The maximum depth for the first and all subsequent dives is 12 metres/40 feet. \nWhen? 2pm daily with a prior reservation (approx. 2 hours)\nPrice? $150 \nTo book\, or to organise this on a private basis\, please contact watersports@mustique.vc
URL:https://mustique.life/event/discover-scuba-diving-2-2/2026-05-18/
LOCATION:Watersports
CATEGORIES:Sport / Wellness
ATTACH;FMTTYPE=image/jpeg:https://mustique.life/wp-content/uploads/2022/12/Diving.jpg
END:VEVENT
BEGIN:VEVENT
DTSTART;TZID=America/St_Vincent:20260518T153000
DTEND;TZID=America/St_Vincent:20260518T173000
DTSTAMP:20260419T181618
CREATED:20260402T165703Z
LAST-MODIFIED:20260402T165953Z
UID:10021718-1779118200-1779125400@mustique.life
SUMMARY:Horse Riding
DESCRIPTION:Experience Mustique in an exhilarating way. The Equestrian Centre has horses and ponies to suit all ages\nand levels of experience\, with qualified riding instructors offering a range of trail rides\, pony camps\nand lessons (maximum weight limit is 198lbs/90kg). \nTo book\, please email the Equestrian Centre team at equestrian@mustique.vc or call ext.8316 . \n  \n  \n 
URL:https://mustique.life/event/horse-riding-3-2-2/2026-05-18/
LOCATION:Equestrian Centre
CATEGORIES:Sport / Wellness
ATTACH;FMTTYPE=image/jpeg:https://mustique.life/wp-content/uploads/2023/01/Horse-Riding.jpg
END:VEVENT
BEGIN:VEVENT
DTSTART;TZID=America/St_Vincent:20260519T060000
DTEND;TZID=America/St_Vincent:20260519T200000
DTSTAMP:20260419T181618
CREATED:20251003T132525Z
LAST-MODIFIED:20251003T132800Z
UID:10013803-1779170400-1779220800@mustique.life
SUMMARY:Private Tennis Lessons
DESCRIPTION:Private Lessons can be booked from 6am to 8pm daily \nFor bookings \ninfo@mustiquetennis.com \next. 8315 /8818 \n  \n 
URL:https://mustique.life/event/private-tennis-lessons/2026-05-19/
LOCATION:Tennis Club
CATEGORIES:Sport / Wellness
ATTACH;FMTTYPE=image/jpeg:https://mustique.life/wp-content/uploads/2022/12/Tennis-Lessons.jpg
END:VEVENT
BEGIN:VEVENT
DTSTART;TZID=America/St_Vincent:20260519T070000
DTEND;TZID=America/St_Vincent:20260519T190000
DTSTAMP:20260419T181618
CREATED:20251222T123041Z
LAST-MODIFIED:20260416T155054Z
UID:10023547-1779174000-1779217200@mustique.life
SUMMARY:Private Personal Training and Yoga
DESCRIPTION:ALL BOOKINGS FOR GYM TIME SLOTS\, PRIVATE SESSIONS AND CLASSES MUST BE MADE IN ADVANCE BY CALLING EXT: 8920 OR BY EMAIL: YOGAFITNESS@COTTONHOUSE.NET
URL:https://mustique.life/event/private-personal-training-and-yoga/2026-05-19/
LOCATION:Gym Studio\, Saint Vincent and The Grenadines
CATEGORIES:Sport / Wellness
ATTACH;FMTTYPE=image/jpeg:https://mustique.life/wp-content/uploads/2024/03/Gentle-Yoga_GymStudio.jpg
END:VEVENT
BEGIN:VEVENT
DTSTART;TZID=America/St_Vincent:20260519T080000
DTEND;TZID=America/St_Vincent:20260519T103000
DTSTAMP:20260419T181618
CREATED:20260402T164229Z
LAST-MODIFIED:20260402T165847Z
UID:10019768-1779177600-1779186600@mustique.life
SUMMARY:Horse Riding
DESCRIPTION:Experience Mustique in an exhilarating way. The Equestrian Centre has horses and ponies to suit all ages\nand levels of experience\, with qualified riding instructors offering a range of trail rides\, pony camps\nand lessons (maximum weight limit is 198lbs/90kg). \nTo book\, please email the Equestrian Centre team at equestrian@mustique.vc or call ext.8316 . \n  \n  \n 
URL:https://mustique.life/event/horse-riding-2-3/2026-05-19/
LOCATION:Equestrian Centre
CATEGORIES:Sport / Wellness
ATTACH;FMTTYPE=image/jpeg:https://mustique.life/wp-content/uploads/2023/01/Horse-Riding.jpg
END:VEVENT
BEGIN:VEVENT
DTSTART;TZID=America/St_Vincent:20260519T140000
DTEND;TZID=America/St_Vincent:20260519T160000
DTSTAMP:20260419T181618
CREATED:20251003T033102Z
LAST-MODIFIED:20251006T123444Z
UID:10014276-1779199200-1779206400@mustique.life
SUMMARY:Snorkeling with Green Sea Turtles
DESCRIPTION:Come face to face with Mustique’s resident Green sea turtles in their natural habitat in front of Basil’s Bar. A member of the Watersports team will accompany you\,\nsharing fun facts about sea turtles and other ocean creatures along the way. \nPlease note that sea turtles are wild animals and sightings are not guaranteed\, please also do not chase or scare them. \nWhen? Every Tuesday & Thursday 14:00 – 16:00\nHow much? $50 pp (minimum 4 pax) \nTo book please contact watersports@mustique.vc \nIf you would like to personalise this experience and explore other areas of Mustique with your own private guide\, please contact watersports@mustique.vc. \nPlease note that additional fees apply
URL:https://mustique.life/event/__trashed-13/2026-05-19/
LOCATION:Britannia Bay
CATEGORIES:Sport / Wellness
ATTACH;FMTTYPE=image/jpeg:https://mustique.life/wp-content/uploads/2022/12/Turtles-MUSTIQUE-16.08.2019-20.jpg
END:VEVENT
BEGIN:VEVENT
DTSTART;TZID=America/St_Vincent:20260519T140000
DTEND;TZID=America/St_Vincent:20260519T160000
DTSTAMP:20260419T181618
CREATED:20251006T123022Z
LAST-MODIFIED:20251006T123245Z
UID:10014129-1779199200-1779206400@mustique.life
SUMMARY:Discover Scuba Diving
DESCRIPTION:This is the perfect introductory session for those who have never tried scuba diving before (from 10 years old)\,or for those who are not yet certified. Includes a basic theory session with an instructor\, followed by a shallow dive on our spectacular Cotton House reef. \nIf you find that you’ve taken to diving like a ‘fish to water’\, subsequent dives can be arranged. The maximum depth for the first and all subsequent dives is 12 metres/40 feet. \nWhen? 2pm daily with a prior reservation (approx. 2 hours)\nPrice? $150 \nTo book\, or to organise this on a private basis\, please contact watersports@mustique.vc
URL:https://mustique.life/event/discover-scuba-diving-2-2/2026-05-19/
LOCATION:Watersports
CATEGORIES:Sport / Wellness
ATTACH;FMTTYPE=image/jpeg:https://mustique.life/wp-content/uploads/2022/12/Diving.jpg
END:VEVENT
BEGIN:VEVENT
DTSTART;TZID=America/St_Vincent:20260519T153000
DTEND;TZID=America/St_Vincent:20260519T173000
DTSTAMP:20260419T181618
CREATED:20260402T165703Z
LAST-MODIFIED:20260402T165953Z
UID:10021719-1779204600-1779211800@mustique.life
SUMMARY:Horse Riding
DESCRIPTION:Experience Mustique in an exhilarating way. The Equestrian Centre has horses and ponies to suit all ages\nand levels of experience\, with qualified riding instructors offering a range of trail rides\, pony camps\nand lessons (maximum weight limit is 198lbs/90kg). \nTo book\, please email the Equestrian Centre team at equestrian@mustique.vc or call ext.8316 . \n  \n  \n 
URL:https://mustique.life/event/horse-riding-3-2-2/2026-05-19/
LOCATION:Equestrian Centre
CATEGORIES:Sport / Wellness
ATTACH;FMTTYPE=image/jpeg:https://mustique.life/wp-content/uploads/2023/01/Horse-Riding.jpg
END:VEVENT
BEGIN:VEVENT
DTSTART;TZID=America/St_Vincent:20260520T060000
DTEND;TZID=America/St_Vincent:20260520T200000
DTSTAMP:20260419T181618
CREATED:20251003T132525Z
LAST-MODIFIED:20251003T132800Z
UID:10013804-1779256800-1779307200@mustique.life
SUMMARY:Private Tennis Lessons
DESCRIPTION:Private Lessons can be booked from 6am to 8pm daily \nFor bookings \ninfo@mustiquetennis.com \next. 8315 /8818 \n  \n 
URL:https://mustique.life/event/private-tennis-lessons/2026-05-20/
LOCATION:Tennis Club
CATEGORIES:Sport / Wellness
ATTACH;FMTTYPE=image/jpeg:https://mustique.life/wp-content/uploads/2022/12/Tennis-Lessons.jpg
END:VEVENT
BEGIN:VEVENT
DTSTART;TZID=America/St_Vincent:20260520T070000
DTEND;TZID=America/St_Vincent:20260520T190000
DTSTAMP:20260419T181618
CREATED:20251222T123041Z
LAST-MODIFIED:20260416T155054Z
UID:10023548-1779260400-1779303600@mustique.life
SUMMARY:Private Personal Training and Yoga
DESCRIPTION:ALL BOOKINGS FOR GYM TIME SLOTS\, PRIVATE SESSIONS AND CLASSES MUST BE MADE IN ADVANCE BY CALLING EXT: 8920 OR BY EMAIL: YOGAFITNESS@COTTONHOUSE.NET
URL:https://mustique.life/event/private-personal-training-and-yoga/2026-05-20/
LOCATION:Gym Studio\, Saint Vincent and The Grenadines
CATEGORIES:Sport / Wellness
ATTACH;FMTTYPE=image/jpeg:https://mustique.life/wp-content/uploads/2024/03/Gentle-Yoga_GymStudio.jpg
END:VEVENT
BEGIN:VEVENT
DTSTART;TZID=America/St_Vincent:20260520T080000
DTEND;TZID=America/St_Vincent:20260520T103000
DTSTAMP:20260419T181618
CREATED:20260402T164229Z
LAST-MODIFIED:20260402T165847Z
UID:10019769-1779264000-1779273000@mustique.life
SUMMARY:Horse Riding
DESCRIPTION:Experience Mustique in an exhilarating way. The Equestrian Centre has horses and ponies to suit all ages\nand levels of experience\, with qualified riding instructors offering a range of trail rides\, pony camps\nand lessons (maximum weight limit is 198lbs/90kg). \nTo book\, please email the Equestrian Centre team at equestrian@mustique.vc or call ext.8316 . \n  \n  \n 
URL:https://mustique.life/event/horse-riding-2-3/2026-05-20/
LOCATION:Equestrian Centre
CATEGORIES:Sport / Wellness
ATTACH;FMTTYPE=image/jpeg:https://mustique.life/wp-content/uploads/2023/01/Horse-Riding.jpg
END:VEVENT
BEGIN:VEVENT
DTSTART;TZID=America/St_Vincent:20260520T140000
DTEND;TZID=America/St_Vincent:20260520T160000
DTSTAMP:20260419T181618
CREATED:20251006T123022Z
LAST-MODIFIED:20251006T123245Z
UID:10014130-1779285600-1779292800@mustique.life
SUMMARY:Discover Scuba Diving
DESCRIPTION:This is the perfect introductory session for those who have never tried scuba diving before (from 10 years old)\,or for those who are not yet certified. Includes a basic theory session with an instructor\, followed by a shallow dive on our spectacular Cotton House reef. \nIf you find that you’ve taken to diving like a ‘fish to water’\, subsequent dives can be arranged. The maximum depth for the first and all subsequent dives is 12 metres/40 feet. \nWhen? 2pm daily with a prior reservation (approx. 2 hours)\nPrice? $150 \nTo book\, or to organise this on a private basis\, please contact watersports@mustique.vc
URL:https://mustique.life/event/discover-scuba-diving-2-2/2026-05-20/
LOCATION:Watersports
CATEGORIES:Sport / Wellness
ATTACH;FMTTYPE=image/jpeg:https://mustique.life/wp-content/uploads/2022/12/Diving.jpg
END:VEVENT
BEGIN:VEVENT
DTSTART;TZID=America/St_Vincent:20260520T153000
DTEND;TZID=America/St_Vincent:20260520T173000
DTSTAMP:20260419T181618
CREATED:20260402T165703Z
LAST-MODIFIED:20260402T165953Z
UID:10021720-1779291000-1779298200@mustique.life
SUMMARY:Horse Riding
DESCRIPTION:Experience Mustique in an exhilarating way. The Equestrian Centre has horses and ponies to suit all ages\nand levels of experience\, with qualified riding instructors offering a range of trail rides\, pony camps\nand lessons (maximum weight limit is 198lbs/90kg). \nTo book\, please email the Equestrian Centre team at equestrian@mustique.vc or call ext.8316 . \n  \n  \n 
URL:https://mustique.life/event/horse-riding-3-2-2/2026-05-20/
LOCATION:Equestrian Centre
CATEGORIES:Sport / Wellness
ATTACH;FMTTYPE=image/jpeg:https://mustique.life/wp-content/uploads/2023/01/Horse-Riding.jpg
END:VEVENT
BEGIN:VEVENT
DTSTART;TZID=America/St_Vincent:20260521T060000
DTEND;TZID=America/St_Vincent:20260521T200000
DTSTAMP:20260419T181618
CREATED:20251003T132525Z
LAST-MODIFIED:20251003T132800Z
UID:10013805-1779343200-1779393600@mustique.life
SUMMARY:Private Tennis Lessons
DESCRIPTION:Private Lessons can be booked from 6am to 8pm daily \nFor bookings \ninfo@mustiquetennis.com \next. 8315 /8818 \n  \n 
URL:https://mustique.life/event/private-tennis-lessons/2026-05-21/
LOCATION:Tennis Club
CATEGORIES:Sport / Wellness
ATTACH;FMTTYPE=image/jpeg:https://mustique.life/wp-content/uploads/2022/12/Tennis-Lessons.jpg
END:VEVENT
BEGIN:VEVENT
DTSTART;TZID=America/St_Vincent:20260521T070000
DTEND;TZID=America/St_Vincent:20260521T190000
DTSTAMP:20260419T181618
CREATED:20251222T123041Z
LAST-MODIFIED:20260416T155054Z
UID:10023549-1779346800-1779390000@mustique.life
SUMMARY:Private Personal Training and Yoga
DESCRIPTION:ALL BOOKINGS FOR GYM TIME SLOTS\, PRIVATE SESSIONS AND CLASSES MUST BE MADE IN ADVANCE BY CALLING EXT: 8920 OR BY EMAIL: YOGAFITNESS@COTTONHOUSE.NET
URL:https://mustique.life/event/private-personal-training-and-yoga/2026-05-21/
LOCATION:Gym Studio\, Saint Vincent and The Grenadines
CATEGORIES:Sport / Wellness
ATTACH;FMTTYPE=image/jpeg:https://mustique.life/wp-content/uploads/2024/03/Gentle-Yoga_GymStudio.jpg
END:VEVENT
BEGIN:VEVENT
DTSTART;TZID=America/St_Vincent:20260521T080000
DTEND;TZID=America/St_Vincent:20260521T103000
DTSTAMP:20260419T181618
CREATED:20260402T164229Z
LAST-MODIFIED:20260402T165847Z
UID:10019770-1779350400-1779359400@mustique.life
SUMMARY:Horse Riding
DESCRIPTION:Experience Mustique in an exhilarating way. The Equestrian Centre has horses and ponies to suit all ages\nand levels of experience\, with qualified riding instructors offering a range of trail rides\, pony camps\nand lessons (maximum weight limit is 198lbs/90kg). \nTo book\, please email the Equestrian Centre team at equestrian@mustique.vc or call ext.8316 . \n  \n  \n 
URL:https://mustique.life/event/horse-riding-2-3/2026-05-21/
LOCATION:Equestrian Centre
CATEGORIES:Sport / Wellness
ATTACH;FMTTYPE=image/jpeg:https://mustique.life/wp-content/uploads/2023/01/Horse-Riding.jpg
END:VEVENT
BEGIN:VEVENT
DTSTART;TZID=America/St_Vincent:20260521T140000
DTEND;TZID=America/St_Vincent:20260521T160000
DTSTAMP:20260419T181618
CREATED:20251003T033102Z
LAST-MODIFIED:20251006T123444Z
UID:10014277-1779372000-1779379200@mustique.life
SUMMARY:Snorkeling with Green Sea Turtles
DESCRIPTION:Come face to face with Mustique’s resident Green sea turtles in their natural habitat in front of Basil’s Bar. A member of the Watersports team will accompany you\,\nsharing fun facts about sea turtles and other ocean creatures along the way. \nPlease note that sea turtles are wild animals and sightings are not guaranteed\, please also do not chase or scare them. \nWhen? Every Tuesday & Thursday 14:00 – 16:00\nHow much? $50 pp (minimum 4 pax) \nTo book please contact watersports@mustique.vc \nIf you would like to personalise this experience and explore other areas of Mustique with your own private guide\, please contact watersports@mustique.vc. \nPlease note that additional fees apply
URL:https://mustique.life/event/__trashed-13/2026-05-21/
LOCATION:Britannia Bay
CATEGORIES:Sport / Wellness
ATTACH;FMTTYPE=image/jpeg:https://mustique.life/wp-content/uploads/2022/12/Turtles-MUSTIQUE-16.08.2019-20.jpg
END:VEVENT
BEGIN:VEVENT
DTSTART;TZID=America/St_Vincent:20260521T140000
DTEND;TZID=America/St_Vincent:20260521T160000
DTSTAMP:20260419T181618
CREATED:20251006T123022Z
LAST-MODIFIED:20251006T123245Z
UID:10014131-1779372000-1779379200@mustique.life
SUMMARY:Discover Scuba Diving
DESCRIPTION:This is the perfect introductory session for those who have never tried scuba diving before (from 10 years old)\,or for those who are not yet certified. Includes a basic theory session with an instructor\, followed by a shallow dive on our spectacular Cotton House reef. \nIf you find that you’ve taken to diving like a ‘fish to water’\, subsequent dives can be arranged. The maximum depth for the first and all subsequent dives is 12 metres/40 feet. \nWhen? 2pm daily with a prior reservation (approx. 2 hours)\nPrice? $150 \nTo book\, or to organise this on a private basis\, please contact watersports@mustique.vc
URL:https://mustique.life/event/discover-scuba-diving-2-2/2026-05-21/
LOCATION:Watersports
CATEGORIES:Sport / Wellness
ATTACH;FMTTYPE=image/jpeg:https://mustique.life/wp-content/uploads/2022/12/Diving.jpg
END:VEVENT
BEGIN:VEVENT
DTSTART;TZID=America/St_Vincent:20260521T153000
DTEND;TZID=America/St_Vincent:20260521T173000
DTSTAMP:20260419T181618
CREATED:20260402T165703Z
LAST-MODIFIED:20260402T165953Z
UID:10021721-1779377400-1779384600@mustique.life
SUMMARY:Horse Riding
DESCRIPTION:Experience Mustique in an exhilarating way. The Equestrian Centre has horses and ponies to suit all ages\nand levels of experience\, with qualified riding instructors offering a range of trail rides\, pony camps\nand lessons (maximum weight limit is 198lbs/90kg). \nTo book\, please email the Equestrian Centre team at equestrian@mustique.vc or call ext.8316 . \n  \n  \n 
URL:https://mustique.life/event/horse-riding-3-2-2/2026-05-21/
LOCATION:Equestrian Centre
CATEGORIES:Sport / Wellness
ATTACH;FMTTYPE=image/jpeg:https://mustique.life/wp-content/uploads/2023/01/Horse-Riding.jpg
END:VEVENT
BEGIN:VEVENT
DTSTART;TZID=America/St_Vincent:20260522T060000
DTEND;TZID=America/St_Vincent:20260522T200000
DTSTAMP:20260419T181618
CREATED:20251003T132525Z
LAST-MODIFIED:20251003T132800Z
UID:10013806-1779429600-1779480000@mustique.life
SUMMARY:Private Tennis Lessons
DESCRIPTION:Private Lessons can be booked from 6am to 8pm daily \nFor bookings \ninfo@mustiquetennis.com \next. 8315 /8818 \n  \n 
URL:https://mustique.life/event/private-tennis-lessons/2026-05-22/
LOCATION:Tennis Club
CATEGORIES:Sport / Wellness
ATTACH;FMTTYPE=image/jpeg:https://mustique.life/wp-content/uploads/2022/12/Tennis-Lessons.jpg
END:VEVENT
BEGIN:VEVENT
DTSTART;TZID=America/St_Vincent:20260522T070000
DTEND;TZID=America/St_Vincent:20260522T190000
DTSTAMP:20260419T181618
CREATED:20251222T123041Z
LAST-MODIFIED:20260416T155054Z
UID:10023550-1779433200-1779476400@mustique.life
SUMMARY:Private Personal Training and Yoga
DESCRIPTION:ALL BOOKINGS FOR GYM TIME SLOTS\, PRIVATE SESSIONS AND CLASSES MUST BE MADE IN ADVANCE BY CALLING EXT: 8920 OR BY EMAIL: YOGAFITNESS@COTTONHOUSE.NET
URL:https://mustique.life/event/private-personal-training-and-yoga/2026-05-22/
LOCATION:Gym Studio\, Saint Vincent and The Grenadines
CATEGORIES:Sport / Wellness
ATTACH;FMTTYPE=image/jpeg:https://mustique.life/wp-content/uploads/2024/03/Gentle-Yoga_GymStudio.jpg
END:VEVENT
BEGIN:VEVENT
DTSTART;TZID=America/St_Vincent:20260522T080000
DTEND;TZID=America/St_Vincent:20260522T103000
DTSTAMP:20260419T181618
CREATED:20260402T164229Z
LAST-MODIFIED:20260402T165847Z
UID:10019771-1779436800-1779445800@mustique.life
SUMMARY:Horse Riding
DESCRIPTION:Experience Mustique in an exhilarating way. The Equestrian Centre has horses and ponies to suit all ages\nand levels of experience\, with qualified riding instructors offering a range of trail rides\, pony camps\nand lessons (maximum weight limit is 198lbs/90kg). \nTo book\, please email the Equestrian Centre team at equestrian@mustique.vc or call ext.8316 . \n  \n  \n 
URL:https://mustique.life/event/horse-riding-2-3/2026-05-22/
LOCATION:Equestrian Centre
CATEGORIES:Sport / Wellness
ATTACH;FMTTYPE=image/jpeg:https://mustique.life/wp-content/uploads/2023/01/Horse-Riding.jpg
END:VEVENT
BEGIN:VEVENT
DTSTART;TZID=America/St_Vincent:20260522T140000
DTEND;TZID=America/St_Vincent:20260522T160000
DTSTAMP:20260419T181618
CREATED:20251006T123022Z
LAST-MODIFIED:20251006T123245Z
UID:10014132-1779458400-1779465600@mustique.life
SUMMARY:Discover Scuba Diving
DESCRIPTION:This is the perfect introductory session for those who have never tried scuba diving before (from 10 years old)\,or for those who are not yet certified. Includes a basic theory session with an instructor\, followed by a shallow dive on our spectacular Cotton House reef. \nIf you find that you’ve taken to diving like a ‘fish to water’\, subsequent dives can be arranged. The maximum depth for the first and all subsequent dives is 12 metres/40 feet. \nWhen? 2pm daily with a prior reservation (approx. 2 hours)\nPrice? $150 \nTo book\, or to organise this on a private basis\, please contact watersports@mustique.vc
URL:https://mustique.life/event/discover-scuba-diving-2-2/2026-05-22/
LOCATION:Watersports
CATEGORIES:Sport / Wellness
ATTACH;FMTTYPE=image/jpeg:https://mustique.life/wp-content/uploads/2022/12/Diving.jpg
END:VEVENT
BEGIN:VEVENT
DTSTART;TZID=America/St_Vincent:20260522T153000
DTEND;TZID=America/St_Vincent:20260522T173000
DTSTAMP:20260419T181618
CREATED:20260402T165703Z
LAST-MODIFIED:20260402T165953Z
UID:10021722-1779463800-1779471000@mustique.life
SUMMARY:Horse Riding
DESCRIPTION:Experience Mustique in an exhilarating way. The Equestrian Centre has horses and ponies to suit all ages\nand levels of experience\, with qualified riding instructors offering a range of trail rides\, pony camps\nand lessons (maximum weight limit is 198lbs/90kg). \nTo book\, please email the Equestrian Centre team at equestrian@mustique.vc or call ext.8316 . \n  \n  \n 
URL:https://mustique.life/event/horse-riding-3-2-2/2026-05-22/
LOCATION:Equestrian Centre
CATEGORIES:Sport / Wellness
ATTACH;FMTTYPE=image/jpeg:https://mustique.life/wp-content/uploads/2023/01/Horse-Riding.jpg
END:VEVENT
BEGIN:VEVENT
DTSTART;TZID=America/St_Vincent:20260523T060000
DTEND;TZID=America/St_Vincent:20260523T200000
DTSTAMP:20260419T181618
CREATED:20251003T132525Z
LAST-MODIFIED:20251003T132800Z
UID:10013807-1779516000-1779566400@mustique.life
SUMMARY:Private Tennis Lessons
DESCRIPTION:Private Lessons can be booked from 6am to 8pm daily \nFor bookings \ninfo@mustiquetennis.com \next. 8315 /8818 \n  \n 
URL:https://mustique.life/event/private-tennis-lessons/2026-05-23/
LOCATION:Tennis Club
CATEGORIES:Sport / Wellness
ATTACH;FMTTYPE=image/jpeg:https://mustique.life/wp-content/uploads/2022/12/Tennis-Lessons.jpg
END:VEVENT
BEGIN:VEVENT
DTSTART;TZID=America/St_Vincent:20260523T070000
DTEND;TZID=America/St_Vincent:20260523T190000
DTSTAMP:20260419T181618
CREATED:20251222T123041Z
LAST-MODIFIED:20260416T155054Z
UID:10023551-1779519600-1779562800@mustique.life
SUMMARY:Private Personal Training and Yoga
DESCRIPTION:ALL BOOKINGS FOR GYM TIME SLOTS\, PRIVATE SESSIONS AND CLASSES MUST BE MADE IN ADVANCE BY CALLING EXT: 8920 OR BY EMAIL: YOGAFITNESS@COTTONHOUSE.NET
URL:https://mustique.life/event/private-personal-training-and-yoga/2026-05-23/
LOCATION:Gym Studio\, Saint Vincent and The Grenadines
CATEGORIES:Sport / Wellness
ATTACH;FMTTYPE=image/jpeg:https://mustique.life/wp-content/uploads/2024/03/Gentle-Yoga_GymStudio.jpg
END:VEVENT
BEGIN:VEVENT
DTSTART;TZID=America/St_Vincent:20260523T080000
DTEND;TZID=America/St_Vincent:20260523T103000
DTSTAMP:20260419T181618
CREATED:20260402T164229Z
LAST-MODIFIED:20260402T165847Z
UID:10019772-1779523200-1779532200@mustique.life
SUMMARY:Horse Riding
DESCRIPTION:Experience Mustique in an exhilarating way. The Equestrian Centre has horses and ponies to suit all ages\nand levels of experience\, with qualified riding instructors offering a range of trail rides\, pony camps\nand lessons (maximum weight limit is 198lbs/90kg). \nTo book\, please email the Equestrian Centre team at equestrian@mustique.vc or call ext.8316 . \n  \n  \n 
URL:https://mustique.life/event/horse-riding-2-3/2026-05-23/
LOCATION:Equestrian Centre
CATEGORIES:Sport / Wellness
ATTACH;FMTTYPE=image/jpeg:https://mustique.life/wp-content/uploads/2023/01/Horse-Riding.jpg
END:VEVENT
END:VCALENDAR