BEGIN:VCALENDAR
VERSION:2.0
PRODID:-//Mustique Events - Calendar - ECPv6.15.17.1//NONSGML v1.0//EN
CALSCALE:GREGORIAN
METHOD:PUBLISH
X-WR-CALNAME:Mustique Events - Calendar
X-ORIGINAL-URL:https://mustique.life
X-WR-CALDESC:Events for Mustique Events - Calendar
REFRESH-INTERVAL;VALUE=DURATION:PT1H
X-Robots-Tag:noindex
X-PUBLISHED-TTL:PT1H
BEGIN:VTIMEZONE
TZID:America/St_Vincent
BEGIN:STANDARD
TZOFFSETFROM:-0400
TZOFFSETTO:-0400
TZNAME:AST
DTSTART:20250101T000000
END:STANDARD
END:VTIMEZONE
BEGIN:VEVENT
DTSTART;TZID=America/St_Vincent:20260511T060000
DTEND;TZID=America/St_Vincent:20260511T200000
DTSTAMP:20260419T165349
CREATED:20251003T132525Z
LAST-MODIFIED:20251003T132800Z
UID:10013796-1778479200-1778529600@mustique.life
SUMMARY:Private Tennis Lessons
DESCRIPTION:Private Lessons can be booked from 6am to 8pm daily \nFor bookings \ninfo@mustiquetennis.com \next. 8315 /8818 \n  \n 
URL:https://mustique.life/event/private-tennis-lessons/2026-05-11/
LOCATION:Tennis Club
CATEGORIES:Sport / Wellness
ATTACH;FMTTYPE=image/jpeg:https://mustique.life/wp-content/uploads/2022/12/Tennis-Lessons.jpg
END:VEVENT
BEGIN:VEVENT
DTSTART;TZID=America/St_Vincent:20260511T070000
DTEND;TZID=America/St_Vincent:20260511T190000
DTSTAMP:20260419T165349
CREATED:20251222T123041Z
LAST-MODIFIED:20260416T155054Z
UID:10023539-1778482800-1778526000@mustique.life
SUMMARY:Private Personal Training and Yoga
DESCRIPTION:ALL BOOKINGS FOR GYM TIME SLOTS\, PRIVATE SESSIONS AND CLASSES MUST BE MADE IN ADVANCE BY CALLING EXT: 8920 OR BY EMAIL: YOGAFITNESS@COTTONHOUSE.NET
URL:https://mustique.life/event/private-personal-training-and-yoga/2026-05-11/
LOCATION:Gym Studio\, Saint Vincent and The Grenadines
CATEGORIES:Sport / Wellness
ATTACH;FMTTYPE=image/jpeg:https://mustique.life/wp-content/uploads/2024/03/Gentle-Yoga_GymStudio.jpg
END:VEVENT
BEGIN:VEVENT
DTSTART;TZID=America/St_Vincent:20260511T080000
DTEND;TZID=America/St_Vincent:20260511T103000
DTSTAMP:20260419T165349
CREATED:20260402T164229Z
LAST-MODIFIED:20260402T165847Z
UID:10019760-1778486400-1778495400@mustique.life
SUMMARY:Horse Riding
DESCRIPTION:Experience Mustique in an exhilarating way. The Equestrian Centre has horses and ponies to suit all ages\nand levels of experience\, with qualified riding instructors offering a range of trail rides\, pony camps\nand lessons (maximum weight limit is 198lbs/90kg). \nTo book\, please email the Equestrian Centre team at equestrian@mustique.vc or call ext.8316 . \n  \n  \n 
URL:https://mustique.life/event/horse-riding-2-3/2026-05-11/
LOCATION:Equestrian Centre
CATEGORIES:Sport / Wellness
ATTACH;FMTTYPE=image/jpeg:https://mustique.life/wp-content/uploads/2023/01/Horse-Riding.jpg
END:VEVENT
BEGIN:VEVENT
DTSTART;TZID=America/St_Vincent:20260511T140000
DTEND;TZID=America/St_Vincent:20260511T160000
DTSTAMP:20260419T165349
CREATED:20251006T123022Z
LAST-MODIFIED:20251006T123245Z
UID:10014122-1778508000-1778515200@mustique.life
SUMMARY:Discover Scuba Diving
DESCRIPTION:This is the perfect introductory session for those who have never tried scuba diving before (from 10 years old)\,or for those who are not yet certified. Includes a basic theory session with an instructor\, followed by a shallow dive on our spectacular Cotton House reef. \nIf you find that you’ve taken to diving like a ‘fish to water’\, subsequent dives can be arranged. The maximum depth for the first and all subsequent dives is 12 metres/40 feet. \nWhen? 2pm daily with a prior reservation (approx. 2 hours)\nPrice? $150 \nTo book\, or to organise this on a private basis\, please contact watersports@mustique.vc
URL:https://mustique.life/event/discover-scuba-diving-2-2/2026-05-11/
LOCATION:Watersports
CATEGORIES:Sport / Wellness
ATTACH;FMTTYPE=image/jpeg:https://mustique.life/wp-content/uploads/2022/12/Diving.jpg
END:VEVENT
BEGIN:VEVENT
DTSTART;TZID=America/St_Vincent:20260511T153000
DTEND;TZID=America/St_Vincent:20260511T173000
DTSTAMP:20260419T165349
CREATED:20260402T165703Z
LAST-MODIFIED:20260402T165953Z
UID:10021711-1778513400-1778520600@mustique.life
SUMMARY:Horse Riding
DESCRIPTION:Experience Mustique in an exhilarating way. The Equestrian Centre has horses and ponies to suit all ages\nand levels of experience\, with qualified riding instructors offering a range of trail rides\, pony camps\nand lessons (maximum weight limit is 198lbs/90kg). \nTo book\, please email the Equestrian Centre team at equestrian@mustique.vc or call ext.8316 . \n  \n  \n 
URL:https://mustique.life/event/horse-riding-3-2-2/2026-05-11/
LOCATION:Equestrian Centre
CATEGORIES:Sport / Wellness
ATTACH;FMTTYPE=image/jpeg:https://mustique.life/wp-content/uploads/2023/01/Horse-Riding.jpg
END:VEVENT
BEGIN:VEVENT
DTSTART;TZID=America/St_Vincent:20260512T060000
DTEND;TZID=America/St_Vincent:20260512T200000
DTSTAMP:20260419T165349
CREATED:20251003T132525Z
LAST-MODIFIED:20251003T132800Z
UID:10013797-1778565600-1778616000@mustique.life
SUMMARY:Private Tennis Lessons
DESCRIPTION:Private Lessons can be booked from 6am to 8pm daily \nFor bookings \ninfo@mustiquetennis.com \next. 8315 /8818 \n  \n 
URL:https://mustique.life/event/private-tennis-lessons/2026-05-12/
LOCATION:Tennis Club
CATEGORIES:Sport / Wellness
ATTACH;FMTTYPE=image/jpeg:https://mustique.life/wp-content/uploads/2022/12/Tennis-Lessons.jpg
END:VEVENT
BEGIN:VEVENT
DTSTART;TZID=America/St_Vincent:20260512T070000
DTEND;TZID=America/St_Vincent:20260512T190000
DTSTAMP:20260419T165349
CREATED:20251222T123041Z
LAST-MODIFIED:20260416T155054Z
UID:10023540-1778569200-1778612400@mustique.life
SUMMARY:Private Personal Training and Yoga
DESCRIPTION:ALL BOOKINGS FOR GYM TIME SLOTS\, PRIVATE SESSIONS AND CLASSES MUST BE MADE IN ADVANCE BY CALLING EXT: 8920 OR BY EMAIL: YOGAFITNESS@COTTONHOUSE.NET
URL:https://mustique.life/event/private-personal-training-and-yoga/2026-05-12/
LOCATION:Gym Studio\, Saint Vincent and The Grenadines
CATEGORIES:Sport / Wellness
ATTACH;FMTTYPE=image/jpeg:https://mustique.life/wp-content/uploads/2024/03/Gentle-Yoga_GymStudio.jpg
END:VEVENT
BEGIN:VEVENT
DTSTART;TZID=America/St_Vincent:20260512T080000
DTEND;TZID=America/St_Vincent:20260512T103000
DTSTAMP:20260419T165349
CREATED:20260402T164229Z
LAST-MODIFIED:20260402T165847Z
UID:10019761-1778572800-1778581800@mustique.life
SUMMARY:Horse Riding
DESCRIPTION:Experience Mustique in an exhilarating way. The Equestrian Centre has horses and ponies to suit all ages\nand levels of experience\, with qualified riding instructors offering a range of trail rides\, pony camps\nand lessons (maximum weight limit is 198lbs/90kg). \nTo book\, please email the Equestrian Centre team at equestrian@mustique.vc or call ext.8316 . \n  \n  \n 
URL:https://mustique.life/event/horse-riding-2-3/2026-05-12/
LOCATION:Equestrian Centre
CATEGORIES:Sport / Wellness
ATTACH;FMTTYPE=image/jpeg:https://mustique.life/wp-content/uploads/2023/01/Horse-Riding.jpg
END:VEVENT
BEGIN:VEVENT
DTSTART;TZID=America/St_Vincent:20260512T140000
DTEND;TZID=America/St_Vincent:20260512T160000
DTSTAMP:20260419T165349
CREATED:20251003T033102Z
LAST-MODIFIED:20251006T123444Z
UID:10014274-1778594400-1778601600@mustique.life
SUMMARY:Snorkeling with Green Sea Turtles
DESCRIPTION:Come face to face with Mustique’s resident Green sea turtles in their natural habitat in front of Basil’s Bar. A member of the Watersports team will accompany you\,\nsharing fun facts about sea turtles and other ocean creatures along the way. \nPlease note that sea turtles are wild animals and sightings are not guaranteed\, please also do not chase or scare them. \nWhen? Every Tuesday & Thursday 14:00 – 16:00\nHow much? $50 pp (minimum 4 pax) \nTo book please contact watersports@mustique.vc \nIf you would like to personalise this experience and explore other areas of Mustique with your own private guide\, please contact watersports@mustique.vc. \nPlease note that additional fees apply
URL:https://mustique.life/event/__trashed-13/2026-05-12/
LOCATION:Britannia Bay
CATEGORIES:Sport / Wellness
ATTACH;FMTTYPE=image/jpeg:https://mustique.life/wp-content/uploads/2022/12/Turtles-MUSTIQUE-16.08.2019-20.jpg
END:VEVENT
BEGIN:VEVENT
DTSTART;TZID=America/St_Vincent:20260512T140000
DTEND;TZID=America/St_Vincent:20260512T160000
DTSTAMP:20260419T165349
CREATED:20251006T123022Z
LAST-MODIFIED:20251006T123245Z
UID:10014123-1778594400-1778601600@mustique.life
SUMMARY:Discover Scuba Diving
DESCRIPTION:This is the perfect introductory session for those who have never tried scuba diving before (from 10 years old)\,or for those who are not yet certified. Includes a basic theory session with an instructor\, followed by a shallow dive on our spectacular Cotton House reef. \nIf you find that you’ve taken to diving like a ‘fish to water’\, subsequent dives can be arranged. The maximum depth for the first and all subsequent dives is 12 metres/40 feet. \nWhen? 2pm daily with a prior reservation (approx. 2 hours)\nPrice? $150 \nTo book\, or to organise this on a private basis\, please contact watersports@mustique.vc
URL:https://mustique.life/event/discover-scuba-diving-2-2/2026-05-12/
LOCATION:Watersports
CATEGORIES:Sport / Wellness
ATTACH;FMTTYPE=image/jpeg:https://mustique.life/wp-content/uploads/2022/12/Diving.jpg
END:VEVENT
BEGIN:VEVENT
DTSTART;TZID=America/St_Vincent:20260512T153000
DTEND;TZID=America/St_Vincent:20260512T173000
DTSTAMP:20260419T165349
CREATED:20260402T165703Z
LAST-MODIFIED:20260402T165953Z
UID:10021712-1778599800-1778607000@mustique.life
SUMMARY:Horse Riding
DESCRIPTION:Experience Mustique in an exhilarating way. The Equestrian Centre has horses and ponies to suit all ages\nand levels of experience\, with qualified riding instructors offering a range of trail rides\, pony camps\nand lessons (maximum weight limit is 198lbs/90kg). \nTo book\, please email the Equestrian Centre team at equestrian@mustique.vc or call ext.8316 . \n  \n  \n 
URL:https://mustique.life/event/horse-riding-3-2-2/2026-05-12/
LOCATION:Equestrian Centre
CATEGORIES:Sport / Wellness
ATTACH;FMTTYPE=image/jpeg:https://mustique.life/wp-content/uploads/2023/01/Horse-Riding.jpg
END:VEVENT
BEGIN:VEVENT
DTSTART;TZID=America/St_Vincent:20260513T060000
DTEND;TZID=America/St_Vincent:20260513T200000
DTSTAMP:20260419T165349
CREATED:20251003T132525Z
LAST-MODIFIED:20251003T132800Z
UID:10013798-1778652000-1778702400@mustique.life
SUMMARY:Private Tennis Lessons
DESCRIPTION:Private Lessons can be booked from 6am to 8pm daily \nFor bookings \ninfo@mustiquetennis.com \next. 8315 /8818 \n  \n 
URL:https://mustique.life/event/private-tennis-lessons/2026-05-13/
LOCATION:Tennis Club
CATEGORIES:Sport / Wellness
ATTACH;FMTTYPE=image/jpeg:https://mustique.life/wp-content/uploads/2022/12/Tennis-Lessons.jpg
END:VEVENT
BEGIN:VEVENT
DTSTART;TZID=America/St_Vincent:20260513T070000
DTEND;TZID=America/St_Vincent:20260513T190000
DTSTAMP:20260419T165349
CREATED:20251222T123041Z
LAST-MODIFIED:20260416T155054Z
UID:10023541-1778655600-1778698800@mustique.life
SUMMARY:Private Personal Training and Yoga
DESCRIPTION:ALL BOOKINGS FOR GYM TIME SLOTS\, PRIVATE SESSIONS AND CLASSES MUST BE MADE IN ADVANCE BY CALLING EXT: 8920 OR BY EMAIL: YOGAFITNESS@COTTONHOUSE.NET
URL:https://mustique.life/event/private-personal-training-and-yoga/2026-05-13/
LOCATION:Gym Studio\, Saint Vincent and The Grenadines
CATEGORIES:Sport / Wellness
ATTACH;FMTTYPE=image/jpeg:https://mustique.life/wp-content/uploads/2024/03/Gentle-Yoga_GymStudio.jpg
END:VEVENT
BEGIN:VEVENT
DTSTART;TZID=America/St_Vincent:20260513T080000
DTEND;TZID=America/St_Vincent:20260513T103000
DTSTAMP:20260419T165349
CREATED:20260402T164229Z
LAST-MODIFIED:20260402T165847Z
UID:10019762-1778659200-1778668200@mustique.life
SUMMARY:Horse Riding
DESCRIPTION:Experience Mustique in an exhilarating way. The Equestrian Centre has horses and ponies to suit all ages\nand levels of experience\, with qualified riding instructors offering a range of trail rides\, pony camps\nand lessons (maximum weight limit is 198lbs/90kg). \nTo book\, please email the Equestrian Centre team at equestrian@mustique.vc or call ext.8316 . \n  \n  \n 
URL:https://mustique.life/event/horse-riding-2-3/2026-05-13/
LOCATION:Equestrian Centre
CATEGORIES:Sport / Wellness
ATTACH;FMTTYPE=image/jpeg:https://mustique.life/wp-content/uploads/2023/01/Horse-Riding.jpg
END:VEVENT
BEGIN:VEVENT
DTSTART;TZID=America/St_Vincent:20260513T140000
DTEND;TZID=America/St_Vincent:20260513T160000
DTSTAMP:20260419T165349
CREATED:20251006T123022Z
LAST-MODIFIED:20251006T123245Z
UID:10014124-1778680800-1778688000@mustique.life
SUMMARY:Discover Scuba Diving
DESCRIPTION:This is the perfect introductory session for those who have never tried scuba diving before (from 10 years old)\,or for those who are not yet certified. Includes a basic theory session with an instructor\, followed by a shallow dive on our spectacular Cotton House reef. \nIf you find that you’ve taken to diving like a ‘fish to water’\, subsequent dives can be arranged. The maximum depth for the first and all subsequent dives is 12 metres/40 feet. \nWhen? 2pm daily with a prior reservation (approx. 2 hours)\nPrice? $150 \nTo book\, or to organise this on a private basis\, please contact watersports@mustique.vc
URL:https://mustique.life/event/discover-scuba-diving-2-2/2026-05-13/
LOCATION:Watersports
CATEGORIES:Sport / Wellness
ATTACH;FMTTYPE=image/jpeg:https://mustique.life/wp-content/uploads/2022/12/Diving.jpg
END:VEVENT
BEGIN:VEVENT
DTSTART;TZID=America/St_Vincent:20260513T153000
DTEND;TZID=America/St_Vincent:20260513T173000
DTSTAMP:20260419T165349
CREATED:20260402T165703Z
LAST-MODIFIED:20260402T165953Z
UID:10021713-1778686200-1778693400@mustique.life
SUMMARY:Horse Riding
DESCRIPTION:Experience Mustique in an exhilarating way. The Equestrian Centre has horses and ponies to suit all ages\nand levels of experience\, with qualified riding instructors offering a range of trail rides\, pony camps\nand lessons (maximum weight limit is 198lbs/90kg). \nTo book\, please email the Equestrian Centre team at equestrian@mustique.vc or call ext.8316 . \n  \n  \n 
URL:https://mustique.life/event/horse-riding-3-2-2/2026-05-13/
LOCATION:Equestrian Centre
CATEGORIES:Sport / Wellness
ATTACH;FMTTYPE=image/jpeg:https://mustique.life/wp-content/uploads/2023/01/Horse-Riding.jpg
END:VEVENT
BEGIN:VEVENT
DTSTART;TZID=America/St_Vincent:20260514T060000
DTEND;TZID=America/St_Vincent:20260514T200000
DTSTAMP:20260419T165349
CREATED:20251003T132525Z
LAST-MODIFIED:20251003T132800Z
UID:10013799-1778738400-1778788800@mustique.life
SUMMARY:Private Tennis Lessons
DESCRIPTION:Private Lessons can be booked from 6am to 8pm daily \nFor bookings \ninfo@mustiquetennis.com \next. 8315 /8818 \n  \n 
URL:https://mustique.life/event/private-tennis-lessons/2026-05-14/
LOCATION:Tennis Club
CATEGORIES:Sport / Wellness
ATTACH;FMTTYPE=image/jpeg:https://mustique.life/wp-content/uploads/2022/12/Tennis-Lessons.jpg
END:VEVENT
BEGIN:VEVENT
DTSTART;TZID=America/St_Vincent:20260514T070000
DTEND;TZID=America/St_Vincent:20260514T190000
DTSTAMP:20260419T165349
CREATED:20251222T123041Z
LAST-MODIFIED:20260416T155054Z
UID:10023542-1778742000-1778785200@mustique.life
SUMMARY:Private Personal Training and Yoga
DESCRIPTION:ALL BOOKINGS FOR GYM TIME SLOTS\, PRIVATE SESSIONS AND CLASSES MUST BE MADE IN ADVANCE BY CALLING EXT: 8920 OR BY EMAIL: YOGAFITNESS@COTTONHOUSE.NET
URL:https://mustique.life/event/private-personal-training-and-yoga/2026-05-14/
LOCATION:Gym Studio\, Saint Vincent and The Grenadines
CATEGORIES:Sport / Wellness
ATTACH;FMTTYPE=image/jpeg:https://mustique.life/wp-content/uploads/2024/03/Gentle-Yoga_GymStudio.jpg
END:VEVENT
BEGIN:VEVENT
DTSTART;TZID=America/St_Vincent:20260514T080000
DTEND;TZID=America/St_Vincent:20260514T103000
DTSTAMP:20260419T165349
CREATED:20260402T164229Z
LAST-MODIFIED:20260402T165847Z
UID:10019763-1778745600-1778754600@mustique.life
SUMMARY:Horse Riding
DESCRIPTION:Experience Mustique in an exhilarating way. The Equestrian Centre has horses and ponies to suit all ages\nand levels of experience\, with qualified riding instructors offering a range of trail rides\, pony camps\nand lessons (maximum weight limit is 198lbs/90kg). \nTo book\, please email the Equestrian Centre team at equestrian@mustique.vc or call ext.8316 . \n  \n  \n 
URL:https://mustique.life/event/horse-riding-2-3/2026-05-14/
LOCATION:Equestrian Centre
CATEGORIES:Sport / Wellness
ATTACH;FMTTYPE=image/jpeg:https://mustique.life/wp-content/uploads/2023/01/Horse-Riding.jpg
END:VEVENT
BEGIN:VEVENT
DTSTART;TZID=America/St_Vincent:20260514T140000
DTEND;TZID=America/St_Vincent:20260514T160000
DTSTAMP:20260419T165349
CREATED:20251003T033102Z
LAST-MODIFIED:20251006T123444Z
UID:10014275-1778767200-1778774400@mustique.life
SUMMARY:Snorkeling with Green Sea Turtles
DESCRIPTION:Come face to face with Mustique’s resident Green sea turtles in their natural habitat in front of Basil’s Bar. A member of the Watersports team will accompany you\,\nsharing fun facts about sea turtles and other ocean creatures along the way. \nPlease note that sea turtles are wild animals and sightings are not guaranteed\, please also do not chase or scare them. \nWhen? Every Tuesday & Thursday 14:00 – 16:00\nHow much? $50 pp (minimum 4 pax) \nTo book please contact watersports@mustique.vc \nIf you would like to personalise this experience and explore other areas of Mustique with your own private guide\, please contact watersports@mustique.vc. \nPlease note that additional fees apply
URL:https://mustique.life/event/__trashed-13/2026-05-14/
LOCATION:Britannia Bay
CATEGORIES:Sport / Wellness
ATTACH;FMTTYPE=image/jpeg:https://mustique.life/wp-content/uploads/2022/12/Turtles-MUSTIQUE-16.08.2019-20.jpg
END:VEVENT
BEGIN:VEVENT
DTSTART;TZID=America/St_Vincent:20260514T140000
DTEND;TZID=America/St_Vincent:20260514T160000
DTSTAMP:20260419T165349
CREATED:20251006T123022Z
LAST-MODIFIED:20251006T123245Z
UID:10014125-1778767200-1778774400@mustique.life
SUMMARY:Discover Scuba Diving
DESCRIPTION:This is the perfect introductory session for those who have never tried scuba diving before (from 10 years old)\,or for those who are not yet certified. Includes a basic theory session with an instructor\, followed by a shallow dive on our spectacular Cotton House reef. \nIf you find that you’ve taken to diving like a ‘fish to water’\, subsequent dives can be arranged. The maximum depth for the first and all subsequent dives is 12 metres/40 feet. \nWhen? 2pm daily with a prior reservation (approx. 2 hours)\nPrice? $150 \nTo book\, or to organise this on a private basis\, please contact watersports@mustique.vc
URL:https://mustique.life/event/discover-scuba-diving-2-2/2026-05-14/
LOCATION:Watersports
CATEGORIES:Sport / Wellness
ATTACH;FMTTYPE=image/jpeg:https://mustique.life/wp-content/uploads/2022/12/Diving.jpg
END:VEVENT
BEGIN:VEVENT
DTSTART;TZID=America/St_Vincent:20260514T153000
DTEND;TZID=America/St_Vincent:20260514T173000
DTSTAMP:20260419T165349
CREATED:20260402T165703Z
LAST-MODIFIED:20260402T165953Z
UID:10021714-1778772600-1778779800@mustique.life
SUMMARY:Horse Riding
DESCRIPTION:Experience Mustique in an exhilarating way. The Equestrian Centre has horses and ponies to suit all ages\nand levels of experience\, with qualified riding instructors offering a range of trail rides\, pony camps\nand lessons (maximum weight limit is 198lbs/90kg). \nTo book\, please email the Equestrian Centre team at equestrian@mustique.vc or call ext.8316 . \n  \n  \n 
URL:https://mustique.life/event/horse-riding-3-2-2/2026-05-14/
LOCATION:Equestrian Centre
CATEGORIES:Sport / Wellness
ATTACH;FMTTYPE=image/jpeg:https://mustique.life/wp-content/uploads/2023/01/Horse-Riding.jpg
END:VEVENT
BEGIN:VEVENT
DTSTART;TZID=America/St_Vincent:20260515T060000
DTEND;TZID=America/St_Vincent:20260515T200000
DTSTAMP:20260419T165349
CREATED:20251003T132525Z
LAST-MODIFIED:20251003T132800Z
UID:10013800-1778824800-1778875200@mustique.life
SUMMARY:Private Tennis Lessons
DESCRIPTION:Private Lessons can be booked from 6am to 8pm daily \nFor bookings \ninfo@mustiquetennis.com \next. 8315 /8818 \n  \n 
URL:https://mustique.life/event/private-tennis-lessons/2026-05-15/
LOCATION:Tennis Club
CATEGORIES:Sport / Wellness
ATTACH;FMTTYPE=image/jpeg:https://mustique.life/wp-content/uploads/2022/12/Tennis-Lessons.jpg
END:VEVENT
BEGIN:VEVENT
DTSTART;TZID=America/St_Vincent:20260515T070000
DTEND;TZID=America/St_Vincent:20260515T190000
DTSTAMP:20260419T165349
CREATED:20251222T123041Z
LAST-MODIFIED:20260416T155054Z
UID:10023543-1778828400-1778871600@mustique.life
SUMMARY:Private Personal Training and Yoga
DESCRIPTION:ALL BOOKINGS FOR GYM TIME SLOTS\, PRIVATE SESSIONS AND CLASSES MUST BE MADE IN ADVANCE BY CALLING EXT: 8920 OR BY EMAIL: YOGAFITNESS@COTTONHOUSE.NET
URL:https://mustique.life/event/private-personal-training-and-yoga/2026-05-15/
LOCATION:Gym Studio\, Saint Vincent and The Grenadines
CATEGORIES:Sport / Wellness
ATTACH;FMTTYPE=image/jpeg:https://mustique.life/wp-content/uploads/2024/03/Gentle-Yoga_GymStudio.jpg
END:VEVENT
BEGIN:VEVENT
DTSTART;TZID=America/St_Vincent:20260515T080000
DTEND;TZID=America/St_Vincent:20260515T103000
DTSTAMP:20260419T165349
CREATED:20260402T164229Z
LAST-MODIFIED:20260402T165847Z
UID:10019764-1778832000-1778841000@mustique.life
SUMMARY:Horse Riding
DESCRIPTION:Experience Mustique in an exhilarating way. The Equestrian Centre has horses and ponies to suit all ages\nand levels of experience\, with qualified riding instructors offering a range of trail rides\, pony camps\nand lessons (maximum weight limit is 198lbs/90kg). \nTo book\, please email the Equestrian Centre team at equestrian@mustique.vc or call ext.8316 . \n  \n  \n 
URL:https://mustique.life/event/horse-riding-2-3/2026-05-15/
LOCATION:Equestrian Centre
CATEGORIES:Sport / Wellness
ATTACH;FMTTYPE=image/jpeg:https://mustique.life/wp-content/uploads/2023/01/Horse-Riding.jpg
END:VEVENT
BEGIN:VEVENT
DTSTART;TZID=America/St_Vincent:20260515T140000
DTEND;TZID=America/St_Vincent:20260515T160000
DTSTAMP:20260419T165349
CREATED:20251006T123022Z
LAST-MODIFIED:20251006T123245Z
UID:10014126-1778853600-1778860800@mustique.life
SUMMARY:Discover Scuba Diving
DESCRIPTION:This is the perfect introductory session for those who have never tried scuba diving before (from 10 years old)\,or for those who are not yet certified. Includes a basic theory session with an instructor\, followed by a shallow dive on our spectacular Cotton House reef. \nIf you find that you’ve taken to diving like a ‘fish to water’\, subsequent dives can be arranged. The maximum depth for the first and all subsequent dives is 12 metres/40 feet. \nWhen? 2pm daily with a prior reservation (approx. 2 hours)\nPrice? $150 \nTo book\, or to organise this on a private basis\, please contact watersports@mustique.vc
URL:https://mustique.life/event/discover-scuba-diving-2-2/2026-05-15/
LOCATION:Watersports
CATEGORIES:Sport / Wellness
ATTACH;FMTTYPE=image/jpeg:https://mustique.life/wp-content/uploads/2022/12/Diving.jpg
END:VEVENT
BEGIN:VEVENT
DTSTART;TZID=America/St_Vincent:20260515T153000
DTEND;TZID=America/St_Vincent:20260515T173000
DTSTAMP:20260419T165349
CREATED:20260402T165703Z
LAST-MODIFIED:20260402T165953Z
UID:10021715-1778859000-1778866200@mustique.life
SUMMARY:Horse Riding
DESCRIPTION:Experience Mustique in an exhilarating way. The Equestrian Centre has horses and ponies to suit all ages\nand levels of experience\, with qualified riding instructors offering a range of trail rides\, pony camps\nand lessons (maximum weight limit is 198lbs/90kg). \nTo book\, please email the Equestrian Centre team at equestrian@mustique.vc or call ext.8316 . \n  \n  \n 
URL:https://mustique.life/event/horse-riding-3-2-2/2026-05-15/
LOCATION:Equestrian Centre
CATEGORIES:Sport / Wellness
ATTACH;FMTTYPE=image/jpeg:https://mustique.life/wp-content/uploads/2023/01/Horse-Riding.jpg
END:VEVENT
BEGIN:VEVENT
DTSTART;TZID=America/St_Vincent:20260516T060000
DTEND;TZID=America/St_Vincent:20260516T200000
DTSTAMP:20260419T165349
CREATED:20251003T132525Z
LAST-MODIFIED:20251003T132800Z
UID:10013801-1778911200-1778961600@mustique.life
SUMMARY:Private Tennis Lessons
DESCRIPTION:Private Lessons can be booked from 6am to 8pm daily \nFor bookings \ninfo@mustiquetennis.com \next. 8315 /8818 \n  \n 
URL:https://mustique.life/event/private-tennis-lessons/2026-05-16/
LOCATION:Tennis Club
CATEGORIES:Sport / Wellness
ATTACH;FMTTYPE=image/jpeg:https://mustique.life/wp-content/uploads/2022/12/Tennis-Lessons.jpg
END:VEVENT
BEGIN:VEVENT
DTSTART;TZID=America/St_Vincent:20260516T070000
DTEND;TZID=America/St_Vincent:20260516T190000
DTSTAMP:20260419T165349
CREATED:20251222T123041Z
LAST-MODIFIED:20260416T155054Z
UID:10023544-1778914800-1778958000@mustique.life
SUMMARY:Private Personal Training and Yoga
DESCRIPTION:ALL BOOKINGS FOR GYM TIME SLOTS\, PRIVATE SESSIONS AND CLASSES MUST BE MADE IN ADVANCE BY CALLING EXT: 8920 OR BY EMAIL: YOGAFITNESS@COTTONHOUSE.NET
URL:https://mustique.life/event/private-personal-training-and-yoga/2026-05-16/
LOCATION:Gym Studio\, Saint Vincent and The Grenadines
CATEGORIES:Sport / Wellness
ATTACH;FMTTYPE=image/jpeg:https://mustique.life/wp-content/uploads/2024/03/Gentle-Yoga_GymStudio.jpg
END:VEVENT
BEGIN:VEVENT
DTSTART;TZID=America/St_Vincent:20260516T080000
DTEND;TZID=America/St_Vincent:20260516T103000
DTSTAMP:20260419T165349
CREATED:20260402T164229Z
LAST-MODIFIED:20260402T165847Z
UID:10019765-1778918400-1778927400@mustique.life
SUMMARY:Horse Riding
DESCRIPTION:Experience Mustique in an exhilarating way. The Equestrian Centre has horses and ponies to suit all ages\nand levels of experience\, with qualified riding instructors offering a range of trail rides\, pony camps\nand lessons (maximum weight limit is 198lbs/90kg). \nTo book\, please email the Equestrian Centre team at equestrian@mustique.vc or call ext.8316 . \n  \n  \n 
URL:https://mustique.life/event/horse-riding-2-3/2026-05-16/
LOCATION:Equestrian Centre
CATEGORIES:Sport / Wellness
ATTACH;FMTTYPE=image/jpeg:https://mustique.life/wp-content/uploads/2023/01/Horse-Riding.jpg
END:VEVENT
END:VCALENDAR