BEGIN:VCALENDAR
VERSION:2.0
PRODID:-//Mustique Events - Calendar - ECPv6.15.17.1//NONSGML v1.0//EN
CALSCALE:GREGORIAN
METHOD:PUBLISH
X-ORIGINAL-URL:https://mustique.life
X-WR-CALDESC:Events for Mustique Events - Calendar
REFRESH-INTERVAL;VALUE=DURATION:PT1H
X-Robots-Tag:noindex
X-PUBLISHED-TTL:PT1H
BEGIN:VTIMEZONE
TZID:America/St_Vincent
BEGIN:STANDARD
TZOFFSETFROM:-0400
TZOFFSETTO:-0400
TZNAME:AST
DTSTART:20250101T000000
END:STANDARD
END:VTIMEZONE
BEGIN:VEVENT
DTSTART;TZID=America/St_Vincent:20260316T060000
DTEND;TZID=America/St_Vincent:20260316T200000
DTSTAMP:20260419T165532
CREATED:20251003T132525Z
LAST-MODIFIED:20251003T132800Z
UID:10013748-1773640800-1773691200@mustique.life
SUMMARY:Private Tennis Lessons
DESCRIPTION:Private Lessons can be booked from 6am to 8pm daily \nFor bookings \ninfo@mustiquetennis.com \next. 8315 /8818 \n  \n 
URL:https://mustique.life/event/private-tennis-lessons/2026-03-16/
LOCATION:Tennis Club
CATEGORIES:Sport / Wellness
ATTACH;FMTTYPE=image/jpeg:https://mustique.life/wp-content/uploads/2022/12/Tennis-Lessons.jpg
END:VEVENT
BEGIN:VEVENT
DTSTART;TZID=America/St_Vincent:20260316T070000
DTEND;TZID=America/St_Vincent:20260316T190000
DTSTAMP:20260419T165532
CREATED:20251222T123041Z
LAST-MODIFIED:20260416T155054Z
UID:10017218-1773644400-1773687600@mustique.life
SUMMARY:Private Personal Training and Yoga
DESCRIPTION:ALL BOOKINGS FOR GYM TIME SLOTS\, PRIVATE SESSIONS AND CLASSES MUST BE MADE IN ADVANCE BY CALLING EXT: 8920 OR BY EMAIL: YOGAFITNESS@COTTONHOUSE.NET
URL:https://mustique.life/event/private-personal-training-and-yoga/2026-03-16/
LOCATION:Gym Studio\, Saint Vincent and The Grenadines
CATEGORIES:Sport / Wellness
ATTACH;FMTTYPE=image/jpeg:https://mustique.life/wp-content/uploads/2024/03/Gentle-Yoga_GymStudio.jpg
END:VEVENT
BEGIN:VEVENT
DTSTART;TZID=America/St_Vincent:20260316T080000
DTEND;TZID=America/St_Vincent:20260316T090000
DTSTAMP:20260419T165532
CREATED:20260107T033102Z
LAST-MODIFIED:20260227T142055Z
UID:10017481-1773648000-1773651600@mustique.life
SUMMARY:Group Yoga
DESCRIPTION:Breathe. Stretch. Strengthen. Repeat. Find your flow\, improve flexibility\, and start your day grounded and refreshed. Join Charlotte at the Yoga Pavillion for an hour of morning yoga. \nMonday –  Saturday \n8:00am – 9:00am \nYoga Pavilion \nALL BOOKINGS FOR GYM TIME SLOTS\, PRIVATE SESSIONS AND CLASSES MUST BE MADE IN ADVANCE BY CALLING EXT: 8920 OR BY EMAIL: YOGAFITNESS@COTTONHOUSE.NET \n 
URL:https://mustique.life/event/group-yoga-4/2026-03-16/
LOCATION:Yoga Pavilion
CATEGORIES:Sport / Wellness
ATTACH;FMTTYPE=image/jpeg:https://mustique.life/wp-content/uploads/2022/07/Yoga-Lagoon-5.jpg
END:VEVENT
BEGIN:VEVENT
DTSTART;TZID=America/St_Vincent:20260316T080000
DTEND;TZID=America/St_Vincent:20260316T103000
DTSTAMP:20260419T165532
CREATED:20251002T144324Z
LAST-MODIFIED:20260128T125502Z
UID:10017305-1773648000-1773657000@mustique.life
SUMMARY:Horse Riding
DESCRIPTION:Experience Mustique in an exhilarating way. The Equestrian Centre has horses and ponies to suit all ages\nand levels of experience\, with qualified riding instructors offering a range of trail rides\, pony camps\nand lessons (maximum weight limit is 198lbs/90kg). \nTo book\, please email the Equestrian Centre team at equestrian@mustique.vc or call ext.8316 . \n  \n  \n 
URL:https://mustique.life/event/horse-riding-2/2026-03-16/
LOCATION:Equestrian Centre
CATEGORIES:Sport / Wellness
ATTACH;FMTTYPE=image/jpeg:https://mustique.life/wp-content/uploads/2023/01/Horse-Riding.jpg
END:VEVENT
BEGIN:VEVENT
DTSTART;TZID=America/St_Vincent:20260316T090000
DTEND;TZID=America/St_Vincent:20260316T200000
DTSTAMP:20260419T165532
CREATED:20260202T153102Z
LAST-MODIFIED:20260203T124000Z
UID:10017351-1773651600-1773691200@mustique.life
SUMMARY:Easter Hair Salon - John Vial
DESCRIPTION:By popular demand\, John Vial is back\, looking forward to creating some stunning looks this season \nMarch 14th – April 15th 2026 \nJohn\, a globally renowned stylist known for his vision\, technique\, and creative flair\, is constantly in demand by designers\, celebrities\, magazines and international beauty brands. This summer\, he returns to bring his expertise to the island\, creating stunning\, effortless looks perfect for the season. \nSERVICES & PRICES\nAvailable in your villa in or at the Spa \nBlow Dry……………………………………………..$190 \nLong hair and extension supplement:……..$50 \nMen’s Haircut ……………………………………..$190 \nWomen’s Haircut…………………………………$290 \nWomen’s Haircut and Blow Dry……………$485 \n*For in-villa services\, hair washing is not included. Please make sure your hair is washed before the appointment \nJunior Hairstylist Spa  Treatments \nShampoo/Conditioner ………………………$20 \nShampoo/Conditioner/Head massage ..$45 \nSteam treatment……………………………….$30 \nBraiding………………………………………..Price on consultation \nCancellation fee: 50% / No-Show: 100% \nBOOKING INFORMATION\nTo make a booking please call the Spa at ext. 8754 or email spamanager@cottonhouse.net
URL:https://mustique.life/event/festive-hair-salon-john-vial/2026-03-16/
LOCATION:Cotton House Spa
CATEGORIES:Sport / Wellness
ATTACH;FMTTYPE=image/jpeg:https://mustique.life/wp-content/uploads/2025/10/johnch__0002-copy-1-scaled-e1764083420898.jpg
END:VEVENT
BEGIN:VEVENT
DTSTART;TZID=America/St_Vincent:20260316T110000
DTEND;TZID=America/St_Vincent:20260316T120000
DTSTAMP:20260419T165532
CREATED:20260106T033103Z
LAST-MODIFIED:20260227T142331Z
UID:10017526-1773658800-1773662400@mustique.life
SUMMARY:Pilates
DESCRIPTION:Join the gym team at the Gym Studio for an hour of pilates workouts that focus on control\, balance\, and breath.Feel strong\, centered\, and unstoppable! \nMonday\, Wednesday\, Friday \n11:00am – 12:00pm \nALL BOOKINGS FOR GYM TIME SLOTS\, PRIVATE SESSIONS AND CLASSES MUST BE MADE IN ADVANCE BY CALLING EXT: 8920 OR BY EMAIL: YOGAFITNESS@COTTONHOUSE.NET \n 
URL:https://mustique.life/event/mat-pilates/2026-03-16/
LOCATION:Gym Studio\, Saint Vincent and The Grenadines
CATEGORIES:Sport / Wellness
ATTACH;FMTTYPE=image/jpeg:https://mustique.life/wp-content/uploads/2024/01/images.jpg
END:VEVENT
BEGIN:VEVENT
DTSTART;TZID=America/St_Vincent:20260316T140000
DTEND;TZID=America/St_Vincent:20260316T160000
DTSTAMP:20260419T165532
CREATED:20251006T123022Z
LAST-MODIFIED:20251006T123245Z
UID:10014074-1773669600-1773676800@mustique.life
SUMMARY:Discover Scuba Diving
DESCRIPTION:This is the perfect introductory session for those who have never tried scuba diving before (from 10 years old)\,or for those who are not yet certified. Includes a basic theory session with an instructor\, followed by a shallow dive on our spectacular Cotton House reef. \nIf you find that you’ve taken to diving like a ‘fish to water’\, subsequent dives can be arranged. The maximum depth for the first and all subsequent dives is 12 metres/40 feet. \nWhen? 2pm daily with a prior reservation (approx. 2 hours)\nPrice? $150 \nTo book\, or to organise this on a private basis\, please contact watersports@mustique.vc
URL:https://mustique.life/event/discover-scuba-diving-2-2/2026-03-16/
LOCATION:Watersports
CATEGORIES:Sport / Wellness
ATTACH;FMTTYPE=image/jpeg:https://mustique.life/wp-content/uploads/2022/12/Diving.jpg
END:VEVENT
BEGIN:VEVENT
DTSTART;TZID=America/St_Vincent:20260316T170000
DTEND;TZID=America/St_Vincent:20260316T180000
DTSTAMP:20260419T165532
CREATED:20260202T150433Z
LAST-MODIFIED:20260305T183456Z
UID:10017565-1773680400-1773684000@mustique.life
SUMMARY:Tennisercise
DESCRIPTION:A mixture of tennis and exercise\, Half an hour of hitting and half hour  of playing drills. \nMonday – Saturday \n5-6pm \nFor bookings \ninfo@mustiquetennis.com \next. 8315 tennis shop // 8818 Richard Schaffer
URL:https://mustique.life/event/adult-and-teen-tennisercise-2/2026-03-16/
LOCATION:Tennis Club
CATEGORIES:Sport / Wellness
ATTACH;FMTTYPE=image/jpeg:https://mustique.life/wp-content/uploads/2022/12/Tennis-tournament.jpg
END:VEVENT
BEGIN:VEVENT
DTSTART;TZID=America/St_Vincent:20260316T170000
DTEND;TZID=America/St_Vincent:20260316T180000
DTSTAMP:20260419T165532
CREATED:20260305T183631Z
LAST-MODIFIED:20260305T183631Z
UID:10017623-1773680400-1773684000@mustique.life
SUMMARY:Teen Tennisercise
DESCRIPTION:A mixture of tennis and exercise\, Half an hour of hitting and half hour  of playing drills. \nMonday – Saturday \n5-6pm \nFor bookings \ninfo@mustiquetennis.com \next. 8315 tennis shop // 8818 Richard Schaffer
URL:https://mustique.life/event/teen-tennisercise/2026-03-16/
LOCATION:Tennis Club
CATEGORIES:Sport / Wellness
ATTACH;FMTTYPE=image/jpeg:https://mustique.life/wp-content/uploads/2022/12/Tennis-tournament.jpg
END:VEVENT
BEGIN:VEVENT
DTSTART;TZID=America/St_Vincent:20260317T060000
DTEND;TZID=America/St_Vincent:20260317T200000
DTSTAMP:20260419T165532
CREATED:20251003T132525Z
LAST-MODIFIED:20251003T132800Z
UID:10013749-1773727200-1773777600@mustique.life
SUMMARY:Private Tennis Lessons
DESCRIPTION:Private Lessons can be booked from 6am to 8pm daily \nFor bookings \ninfo@mustiquetennis.com \next. 8315 /8818 \n  \n 
URL:https://mustique.life/event/private-tennis-lessons/2026-03-17/
LOCATION:Tennis Club
CATEGORIES:Sport / Wellness
ATTACH;FMTTYPE=image/jpeg:https://mustique.life/wp-content/uploads/2022/12/Tennis-Lessons.jpg
END:VEVENT
BEGIN:VEVENT
DTSTART;TZID=America/St_Vincent:20260317T070000
DTEND;TZID=America/St_Vincent:20260317T190000
DTSTAMP:20260419T165532
CREATED:20251222T123041Z
LAST-MODIFIED:20260416T155054Z
UID:10017219-1773730800-1773774000@mustique.life
SUMMARY:Private Personal Training and Yoga
DESCRIPTION:ALL BOOKINGS FOR GYM TIME SLOTS\, PRIVATE SESSIONS AND CLASSES MUST BE MADE IN ADVANCE BY CALLING EXT: 8920 OR BY EMAIL: YOGAFITNESS@COTTONHOUSE.NET
URL:https://mustique.life/event/private-personal-training-and-yoga/2026-03-17/
LOCATION:Gym Studio\, Saint Vincent and The Grenadines
CATEGORIES:Sport / Wellness
ATTACH;FMTTYPE=image/jpeg:https://mustique.life/wp-content/uploads/2024/03/Gentle-Yoga_GymStudio.jpg
END:VEVENT
BEGIN:VEVENT
DTSTART;TZID=America/St_Vincent:20260317T080000
DTEND;TZID=America/St_Vincent:20260317T090000
DTSTAMP:20260419T165532
CREATED:20260107T033102Z
LAST-MODIFIED:20260227T142055Z
UID:10017482-1773734400-1773738000@mustique.life
SUMMARY:Group Yoga
DESCRIPTION:Breathe. Stretch. Strengthen. Repeat. Find your flow\, improve flexibility\, and start your day grounded and refreshed. Join Charlotte at the Yoga Pavillion for an hour of morning yoga. \nMonday –  Saturday \n8:00am – 9:00am \nYoga Pavilion \nALL BOOKINGS FOR GYM TIME SLOTS\, PRIVATE SESSIONS AND CLASSES MUST BE MADE IN ADVANCE BY CALLING EXT: 8920 OR BY EMAIL: YOGAFITNESS@COTTONHOUSE.NET \n 
URL:https://mustique.life/event/group-yoga-4/2026-03-17/
LOCATION:Yoga Pavilion
CATEGORIES:Sport / Wellness
ATTACH;FMTTYPE=image/jpeg:https://mustique.life/wp-content/uploads/2022/07/Yoga-Lagoon-5.jpg
END:VEVENT
BEGIN:VEVENT
DTSTART;TZID=America/St_Vincent:20260317T080000
DTEND;TZID=America/St_Vincent:20260317T103000
DTSTAMP:20260419T165532
CREATED:20251002T144324Z
LAST-MODIFIED:20260128T125502Z
UID:10017306-1773734400-1773743400@mustique.life
SUMMARY:Horse Riding
DESCRIPTION:Experience Mustique in an exhilarating way. The Equestrian Centre has horses and ponies to suit all ages\nand levels of experience\, with qualified riding instructors offering a range of trail rides\, pony camps\nand lessons (maximum weight limit is 198lbs/90kg). \nTo book\, please email the Equestrian Centre team at equestrian@mustique.vc or call ext.8316 . \n  \n  \n 
URL:https://mustique.life/event/horse-riding-2/2026-03-17/
LOCATION:Equestrian Centre
CATEGORIES:Sport / Wellness
ATTACH;FMTTYPE=image/jpeg:https://mustique.life/wp-content/uploads/2023/01/Horse-Riding.jpg
END:VEVENT
BEGIN:VEVENT
DTSTART;TZID=America/St_Vincent:20260317T090000
DTEND;TZID=America/St_Vincent:20260317T100000
DTSTAMP:20260419T165532
CREATED:20260118T142321Z
LAST-MODIFIED:20260227T141954Z
UID:10017463-1773738000-1773741600@mustique.life
SUMMARY:Ka Chi Yoga
DESCRIPTION:A fusion of Martial Arts and Vinyasa Yoga Flow with a focus on Breath\, Balance\, Strength & Core Work\, fusing Masculine and Feminine energy to bring balance to the student. \nTuesday\, Thursdays and Saturdays \n9:00am \nYoga Pavilion \nALL BOOKINGS FOR GYM TIME SLOTS\, PRIVATE SESSIONS AND CLASSES MUST BE MADE IN ADVANCE BY CALLING EXT: 8920 OR BY EMAIL: YOGAFITNESS@COTTONHOUSE.NET
URL:https://mustique.life/event/ka-chi-yoga/2026-03-17/
LOCATION:Yoga Pavilion
CATEGORIES:Sport / Wellness
ATTACH;FMTTYPE=image/jpeg:https://mustique.life/wp-content/uploads/2022/07/Yoga-Lagoon-5.jpg
END:VEVENT
BEGIN:VEVENT
DTSTART;TZID=America/St_Vincent:20260317T090000
DTEND;TZID=America/St_Vincent:20260317T200000
DTSTAMP:20260419T165532
CREATED:20260202T153102Z
LAST-MODIFIED:20260203T124000Z
UID:10017352-1773738000-1773777600@mustique.life
SUMMARY:Easter Hair Salon - John Vial
DESCRIPTION:By popular demand\, John Vial is back\, looking forward to creating some stunning looks this season \nMarch 14th – April 15th 2026 \nJohn\, a globally renowned stylist known for his vision\, technique\, and creative flair\, is constantly in demand by designers\, celebrities\, magazines and international beauty brands. This summer\, he returns to bring his expertise to the island\, creating stunning\, effortless looks perfect for the season. \nSERVICES & PRICES\nAvailable in your villa in or at the Spa \nBlow Dry……………………………………………..$190 \nLong hair and extension supplement:……..$50 \nMen’s Haircut ……………………………………..$190 \nWomen’s Haircut…………………………………$290 \nWomen’s Haircut and Blow Dry……………$485 \n*For in-villa services\, hair washing is not included. Please make sure your hair is washed before the appointment \nJunior Hairstylist Spa  Treatments \nShampoo/Conditioner ………………………$20 \nShampoo/Conditioner/Head massage ..$45 \nSteam treatment……………………………….$30 \nBraiding………………………………………..Price on consultation \nCancellation fee: 50% / No-Show: 100% \nBOOKING INFORMATION\nTo make a booking please call the Spa at ext. 8754 or email spamanager@cottonhouse.net
URL:https://mustique.life/event/festive-hair-salon-john-vial/2026-03-17/
LOCATION:Cotton House Spa
CATEGORIES:Sport / Wellness
ATTACH;FMTTYPE=image/jpeg:https://mustique.life/wp-content/uploads/2025/10/johnch__0002-copy-1-scaled-e1764083420898.jpg
END:VEVENT
BEGIN:VEVENT
DTSTART;TZID=America/St_Vincent:20260317T100000
DTEND;TZID=America/St_Vincent:20260317T110000
DTSTAMP:20260419T165532
CREATED:20260107T033102Z
LAST-MODIFIED:20260227T142258Z
UID:10017517-1773741600-1773745200@mustique.life
SUMMARY:Aqua Aerobics
DESCRIPTION:Join the gym team at the Cotton House Pool  for an hour of aqua aerobic workouts that focus to improve cardiovascular health\, build strength\, and increase flexibility. \nFeel strong\, centered\, and unstoppable! \nTuesday\, Thursday\, Saturday \n10:00am – 11:00am \nALL BOOKINGS FOR GYM TIME SLOTS\, PRIVATE SESSIONS AND CLASSES MUST BE MADE IN ADVANCE BY CALLING EXT: 8920 OR BY EMAIL: YOGAFITNESS@COTTONHOUSE.NET \n 
URL:https://mustique.life/event/aqua-aerobics-3/2026-03-17/
LOCATION:Cotton House Pool
CATEGORIES:Sport / Wellness
ATTACH;FMTTYPE=image/jpeg:https://mustique.life/wp-content/uploads/2024/11/WhatsApp-Image-2024-11-22-at-19.22.16.jpeg
END:VEVENT
BEGIN:VEVENT
DTSTART;TZID=America/St_Vincent:20260317T140000
DTEND;TZID=America/St_Vincent:20260317T160000
DTSTAMP:20260419T165532
CREATED:20251003T033102Z
LAST-MODIFIED:20251006T123444Z
UID:10014258-1773756000-1773763200@mustique.life
SUMMARY:Snorkeling with Green Sea Turtles
DESCRIPTION:Come face to face with Mustique’s resident Green sea turtles in their natural habitat in front of Basil’s Bar. A member of the Watersports team will accompany you\,\nsharing fun facts about sea turtles and other ocean creatures along the way. \nPlease note that sea turtles are wild animals and sightings are not guaranteed\, please also do not chase or scare them. \nWhen? Every Tuesday & Thursday 14:00 – 16:00\nHow much? $50 pp (minimum 4 pax) \nTo book please contact watersports@mustique.vc \nIf you would like to personalise this experience and explore other areas of Mustique with your own private guide\, please contact watersports@mustique.vc. \nPlease note that additional fees apply
URL:https://mustique.life/event/__trashed-13/2026-03-17/
LOCATION:Britannia Bay
CATEGORIES:Sport / Wellness
ATTACH;FMTTYPE=image/jpeg:https://mustique.life/wp-content/uploads/2022/12/Turtles-MUSTIQUE-16.08.2019-20.jpg
END:VEVENT
BEGIN:VEVENT
DTSTART;TZID=America/St_Vincent:20260317T140000
DTEND;TZID=America/St_Vincent:20260317T160000
DTSTAMP:20260419T165533
CREATED:20251006T123022Z
LAST-MODIFIED:20251006T123245Z
UID:10014075-1773756000-1773763200@mustique.life
SUMMARY:Discover Scuba Diving
DESCRIPTION:This is the perfect introductory session for those who have never tried scuba diving before (from 10 years old)\,or for those who are not yet certified. Includes a basic theory session with an instructor\, followed by a shallow dive on our spectacular Cotton House reef. \nIf you find that you’ve taken to diving like a ‘fish to water’\, subsequent dives can be arranged. The maximum depth for the first and all subsequent dives is 12 metres/40 feet. \nWhen? 2pm daily with a prior reservation (approx. 2 hours)\nPrice? $150 \nTo book\, or to organise this on a private basis\, please contact watersports@mustique.vc
URL:https://mustique.life/event/discover-scuba-diving-2-2/2026-03-17/
LOCATION:Watersports
CATEGORIES:Sport / Wellness
ATTACH;FMTTYPE=image/jpeg:https://mustique.life/wp-content/uploads/2022/12/Diving.jpg
END:VEVENT
BEGIN:VEVENT
DTSTART;TZID=America/St_Vincent:20260317T153000
DTEND;TZID=America/St_Vincent:20260317T173000
DTSTAMP:20260419T165533
CREATED:20251018T154251Z
LAST-MODIFIED:20260128T125436Z
UID:10017264-1773761400-1773768600@mustique.life
SUMMARY:Horse Riding
DESCRIPTION:Experience Mustique in an exhilarating way. The Equestrian Centre has horses and ponies to suit all ages\nand levels of experience\, with qualified riding instructors offering a range of trail rides\, pony camps\nand lessons (maximum weight limit is 198lbs/90kg). \nTo book\, please email the Equestrian Centre team at equestrian@mustique.vc or call ext.8316 . \n  \n  \n 
URL:https://mustique.life/event/horse-riding-3/2026-03-17/
LOCATION:Equestrian Centre
CATEGORIES:Sport / Wellness
ATTACH;FMTTYPE=image/jpeg:https://mustique.life/wp-content/uploads/2023/01/Horse-Riding.jpg
END:VEVENT
BEGIN:VEVENT
DTSTART;TZID=America/St_Vincent:20260317T170000
DTEND;TZID=America/St_Vincent:20260317T180000
DTSTAMP:20260419T165533
CREATED:20260108T151408Z
LAST-MODIFIED:20260227T142159Z
UID:10017509-1773766800-1773770400@mustique.life
SUMMARY:Kickboxing
DESCRIPTION:Stronger body. Sharper mind. Unleash your power with Kickboxing with the Gym team \nTuesday and Thursday \n5:00pm \nGym Studio \nALL BOOKINGS FOR GYM TIME SLOTS\, PRIVATE SESSIONS AND CLASSES MUST BE MADE IN ADVANCE BY CALLING EXT: 8920 OR BY EMAIL: YOGAFITNESS@COTTONHOUSE.NET \n 
URL:https://mustique.life/event/kickboxing/2026-03-17/
LOCATION:Gym Studio\, Saint Vincent and The Grenadines
CATEGORIES:Sport / Wellness
ATTACH;FMTTYPE=image/jpeg:https://mustique.life/wp-content/uploads/2024/03/Gentle-Yoga_GymStudio.jpg
END:VEVENT
BEGIN:VEVENT
DTSTART;TZID=America/St_Vincent:20260317T170000
DTEND;TZID=America/St_Vincent:20260317T180000
DTSTAMP:20260419T165533
CREATED:20260202T150433Z
LAST-MODIFIED:20260305T183456Z
UID:10017566-1773766800-1773770400@mustique.life
SUMMARY:Tennisercise
DESCRIPTION:A mixture of tennis and exercise\, Half an hour of hitting and half hour  of playing drills. \nMonday – Saturday \n5-6pm \nFor bookings \ninfo@mustiquetennis.com \next. 8315 tennis shop // 8818 Richard Schaffer
URL:https://mustique.life/event/adult-and-teen-tennisercise-2/2026-03-17/
LOCATION:Tennis Club
CATEGORIES:Sport / Wellness
ATTACH;FMTTYPE=image/jpeg:https://mustique.life/wp-content/uploads/2022/12/Tennis-tournament.jpg
END:VEVENT
BEGIN:VEVENT
DTSTART;TZID=America/St_Vincent:20260317T170000
DTEND;TZID=America/St_Vincent:20260317T180000
DTSTAMP:20260419T165533
CREATED:20260305T183631Z
LAST-MODIFIED:20260305T183631Z
UID:10017624-1773766800-1773770400@mustique.life
SUMMARY:Teen Tennisercise
DESCRIPTION:A mixture of tennis and exercise\, Half an hour of hitting and half hour  of playing drills. \nMonday – Saturday \n5-6pm \nFor bookings \ninfo@mustiquetennis.com \next. 8315 tennis shop // 8818 Richard Schaffer
URL:https://mustique.life/event/teen-tennisercise/2026-03-17/
LOCATION:Tennis Club
CATEGORIES:Sport / Wellness
ATTACH;FMTTYPE=image/jpeg:https://mustique.life/wp-content/uploads/2022/12/Tennis-tournament.jpg
END:VEVENT
BEGIN:VEVENT
DTSTART;TZID=America/St_Vincent:20260318T060000
DTEND;TZID=America/St_Vincent:20260318T200000
DTSTAMP:20260419T165533
CREATED:20251003T132525Z
LAST-MODIFIED:20251003T132800Z
UID:10013750-1773813600-1773864000@mustique.life
SUMMARY:Private Tennis Lessons
DESCRIPTION:Private Lessons can be booked from 6am to 8pm daily \nFor bookings \ninfo@mustiquetennis.com \next. 8315 /8818 \n  \n 
URL:https://mustique.life/event/private-tennis-lessons/2026-03-18/
LOCATION:Tennis Club
CATEGORIES:Sport / Wellness
ATTACH;FMTTYPE=image/jpeg:https://mustique.life/wp-content/uploads/2022/12/Tennis-Lessons.jpg
END:VEVENT
BEGIN:VEVENT
DTSTART;TZID=America/St_Vincent:20260318T070000
DTEND;TZID=America/St_Vincent:20260318T190000
DTSTAMP:20260419T165533
CREATED:20251222T123041Z
LAST-MODIFIED:20260416T155054Z
UID:10017220-1773817200-1773860400@mustique.life
SUMMARY:Private Personal Training and Yoga
DESCRIPTION:ALL BOOKINGS FOR GYM TIME SLOTS\, PRIVATE SESSIONS AND CLASSES MUST BE MADE IN ADVANCE BY CALLING EXT: 8920 OR BY EMAIL: YOGAFITNESS@COTTONHOUSE.NET
URL:https://mustique.life/event/private-personal-training-and-yoga/2026-03-18/
LOCATION:Gym Studio\, Saint Vincent and The Grenadines
CATEGORIES:Sport / Wellness
ATTACH;FMTTYPE=image/jpeg:https://mustique.life/wp-content/uploads/2024/03/Gentle-Yoga_GymStudio.jpg
END:VEVENT
BEGIN:VEVENT
DTSTART;TZID=America/St_Vincent:20260318T080000
DTEND;TZID=America/St_Vincent:20260318T090000
DTSTAMP:20260419T165533
CREATED:20260107T033102Z
LAST-MODIFIED:20260227T142055Z
UID:10017483-1773820800-1773824400@mustique.life
SUMMARY:Group Yoga
DESCRIPTION:Breathe. Stretch. Strengthen. Repeat. Find your flow\, improve flexibility\, and start your day grounded and refreshed. Join Charlotte at the Yoga Pavillion for an hour of morning yoga. \nMonday –  Saturday \n8:00am – 9:00am \nYoga Pavilion \nALL BOOKINGS FOR GYM TIME SLOTS\, PRIVATE SESSIONS AND CLASSES MUST BE MADE IN ADVANCE BY CALLING EXT: 8920 OR BY EMAIL: YOGAFITNESS@COTTONHOUSE.NET \n 
URL:https://mustique.life/event/group-yoga-4/2026-03-18/
LOCATION:Yoga Pavilion
CATEGORIES:Sport / Wellness
ATTACH;FMTTYPE=image/jpeg:https://mustique.life/wp-content/uploads/2022/07/Yoga-Lagoon-5.jpg
END:VEVENT
BEGIN:VEVENT
DTSTART;TZID=America/St_Vincent:20260318T080000
DTEND;TZID=America/St_Vincent:20260318T103000
DTSTAMP:20260419T165533
CREATED:20251002T144324Z
LAST-MODIFIED:20260128T125502Z
UID:10017307-1773820800-1773829800@mustique.life
SUMMARY:Horse Riding
DESCRIPTION:Experience Mustique in an exhilarating way. The Equestrian Centre has horses and ponies to suit all ages\nand levels of experience\, with qualified riding instructors offering a range of trail rides\, pony camps\nand lessons (maximum weight limit is 198lbs/90kg). \nTo book\, please email the Equestrian Centre team at equestrian@mustique.vc or call ext.8316 . \n  \n  \n 
URL:https://mustique.life/event/horse-riding-2/2026-03-18/
LOCATION:Equestrian Centre
CATEGORIES:Sport / Wellness
ATTACH;FMTTYPE=image/jpeg:https://mustique.life/wp-content/uploads/2023/01/Horse-Riding.jpg
END:VEVENT
BEGIN:VEVENT
DTSTART;TZID=America/St_Vincent:20260318T090000
DTEND;TZID=America/St_Vincent:20260318T200000
DTSTAMP:20260419T165533
CREATED:20260202T153102Z
LAST-MODIFIED:20260203T124000Z
UID:10017353-1773824400-1773864000@mustique.life
SUMMARY:Easter Hair Salon - John Vial
DESCRIPTION:By popular demand\, John Vial is back\, looking forward to creating some stunning looks this season \nMarch 14th – April 15th 2026 \nJohn\, a globally renowned stylist known for his vision\, technique\, and creative flair\, is constantly in demand by designers\, celebrities\, magazines and international beauty brands. This summer\, he returns to bring his expertise to the island\, creating stunning\, effortless looks perfect for the season. \nSERVICES & PRICES\nAvailable in your villa in or at the Spa \nBlow Dry……………………………………………..$190 \nLong hair and extension supplement:……..$50 \nMen’s Haircut ……………………………………..$190 \nWomen’s Haircut…………………………………$290 \nWomen’s Haircut and Blow Dry……………$485 \n*For in-villa services\, hair washing is not included. Please make sure your hair is washed before the appointment \nJunior Hairstylist Spa  Treatments \nShampoo/Conditioner ………………………$20 \nShampoo/Conditioner/Head massage ..$45 \nSteam treatment……………………………….$30 \nBraiding………………………………………..Price on consultation \nCancellation fee: 50% / No-Show: 100% \nBOOKING INFORMATION\nTo make a booking please call the Spa at ext. 8754 or email spamanager@cottonhouse.net
URL:https://mustique.life/event/festive-hair-salon-john-vial/2026-03-18/
LOCATION:Cotton House Spa
CATEGORIES:Sport / Wellness
ATTACH;FMTTYPE=image/jpeg:https://mustique.life/wp-content/uploads/2025/10/johnch__0002-copy-1-scaled-e1764083420898.jpg
END:VEVENT
BEGIN:VEVENT
DTSTART;TZID=America/St_Vincent:20260318T110000
DTEND;TZID=America/St_Vincent:20260318T120000
DTSTAMP:20260419T165533
CREATED:20260106T033103Z
LAST-MODIFIED:20260227T142331Z
UID:10017527-1773831600-1773835200@mustique.life
SUMMARY:Pilates
DESCRIPTION:Join the gym team at the Gym Studio for an hour of pilates workouts that focus on control\, balance\, and breath.Feel strong\, centered\, and unstoppable! \nMonday\, Wednesday\, Friday \n11:00am – 12:00pm \nALL BOOKINGS FOR GYM TIME SLOTS\, PRIVATE SESSIONS AND CLASSES MUST BE MADE IN ADVANCE BY CALLING EXT: 8920 OR BY EMAIL: YOGAFITNESS@COTTONHOUSE.NET \n 
URL:https://mustique.life/event/mat-pilates/2026-03-18/
LOCATION:Gym Studio\, Saint Vincent and The Grenadines
CATEGORIES:Sport / Wellness
ATTACH;FMTTYPE=image/jpeg:https://mustique.life/wp-content/uploads/2024/01/images.jpg
END:VEVENT
BEGIN:VEVENT
DTSTART;TZID=America/St_Vincent:20260318T140000
DTEND;TZID=America/St_Vincent:20260318T160000
DTSTAMP:20260419T165533
CREATED:20251006T123022Z
LAST-MODIFIED:20251006T123245Z
UID:10014076-1773842400-1773849600@mustique.life
SUMMARY:Discover Scuba Diving
DESCRIPTION:This is the perfect introductory session for those who have never tried scuba diving before (from 10 years old)\,or for those who are not yet certified. Includes a basic theory session with an instructor\, followed by a shallow dive on our spectacular Cotton House reef. \nIf you find that you’ve taken to diving like a ‘fish to water’\, subsequent dives can be arranged. The maximum depth for the first and all subsequent dives is 12 metres/40 feet. \nWhen? 2pm daily with a prior reservation (approx. 2 hours)\nPrice? $150 \nTo book\, or to organise this on a private basis\, please contact watersports@mustique.vc
URL:https://mustique.life/event/discover-scuba-diving-2-2/2026-03-18/
LOCATION:Watersports
CATEGORIES:Sport / Wellness
ATTACH;FMTTYPE=image/jpeg:https://mustique.life/wp-content/uploads/2022/12/Diving.jpg
END:VEVENT
BEGIN:VEVENT
DTSTART;TZID=America/St_Vincent:20260318T170000
DTEND;TZID=America/St_Vincent:20260318T180000
DTSTAMP:20260419T165533
CREATED:20260202T150433Z
LAST-MODIFIED:20260305T183456Z
UID:10017567-1773853200-1773856800@mustique.life
SUMMARY:Tennisercise
DESCRIPTION:A mixture of tennis and exercise\, Half an hour of hitting and half hour  of playing drills. \nMonday – Saturday \n5-6pm \nFor bookings \ninfo@mustiquetennis.com \next. 8315 tennis shop // 8818 Richard Schaffer
URL:https://mustique.life/event/adult-and-teen-tennisercise-2/2026-03-18/
LOCATION:Tennis Club
CATEGORIES:Sport / Wellness
ATTACH;FMTTYPE=image/jpeg:https://mustique.life/wp-content/uploads/2022/12/Tennis-tournament.jpg
END:VEVENT
END:VCALENDAR