BEGIN:VCALENDAR
VERSION:2.0
PRODID:-//Mustique Events - Calendar - ECPv6.15.17.1//NONSGML v1.0//EN
CALSCALE:GREGORIAN
METHOD:PUBLISH
X-ORIGINAL-URL:https://mustique.life
X-WR-CALDESC:Events for Mustique Events - Calendar
REFRESH-INTERVAL;VALUE=DURATION:PT1H
X-Robots-Tag:noindex
X-PUBLISHED-TTL:PT1H
BEGIN:VTIMEZONE
TZID:America/St_Vincent
BEGIN:STANDARD
TZOFFSETFROM:-0400
TZOFFSETTO:-0400
TZNAME:AST
DTSTART:20260101T000000
END:STANDARD
END:VTIMEZONE
BEGIN:VEVENT
DTSTART;TZID=America/St_Vincent:20271126T153000
DTEND;TZID=America/St_Vincent:20271126T173000
DTSTAMP:20260420T002543
CREATED:20260402T165703Z
LAST-MODIFIED:20260402T165953Z
UID:10022275-1827243000-1827250200@mustique.life
SUMMARY:Horse Riding
DESCRIPTION:Experience Mustique in an exhilarating way. The Equestrian Centre has horses and ponies to suit all ages\nand levels of experience\, with qualified riding instructors offering a range of trail rides\, pony camps\nand lessons (maximum weight limit is 198lbs/90kg). \nTo book\, please email the Equestrian Centre team at equestrian@mustique.vc or call ext.8316 . \n  \n  \n 
URL:https://mustique.life/event/horse-riding-3-2-2/2027-11-26/
LOCATION:Equestrian Centre
CATEGORIES:Sport / Wellness
ATTACH;FMTTYPE=image/jpeg:https://mustique.life/wp-content/uploads/2023/01/Horse-Riding.jpg
END:VEVENT
BEGIN:VEVENT
DTSTART;TZID=America/St_Vincent:20271127T080000
DTEND;TZID=America/St_Vincent:20271127T103000
DTSTAMP:20260420T002543
CREATED:20260402T164229Z
LAST-MODIFIED:20260402T165847Z
UID:10020325-1827302400-1827311400@mustique.life
SUMMARY:Horse Riding
DESCRIPTION:Experience Mustique in an exhilarating way. The Equestrian Centre has horses and ponies to suit all ages\nand levels of experience\, with qualified riding instructors offering a range of trail rides\, pony camps\nand lessons (maximum weight limit is 198lbs/90kg). \nTo book\, please email the Equestrian Centre team at equestrian@mustique.vc or call ext.8316 . \n  \n  \n 
URL:https://mustique.life/event/horse-riding-2-3/2027-11-27/
LOCATION:Equestrian Centre
CATEGORIES:Sport / Wellness
ATTACH;FMTTYPE=image/jpeg:https://mustique.life/wp-content/uploads/2023/01/Horse-Riding.jpg
END:VEVENT
BEGIN:VEVENT
DTSTART;TZID=America/St_Vincent:20271127T153000
DTEND;TZID=America/St_Vincent:20271127T173000
DTSTAMP:20260420T002543
CREATED:20260402T165703Z
LAST-MODIFIED:20260402T165953Z
UID:10022276-1827329400-1827336600@mustique.life
SUMMARY:Horse Riding
DESCRIPTION:Experience Mustique in an exhilarating way. The Equestrian Centre has horses and ponies to suit all ages\nand levels of experience\, with qualified riding instructors offering a range of trail rides\, pony camps\nand lessons (maximum weight limit is 198lbs/90kg). \nTo book\, please email the Equestrian Centre team at equestrian@mustique.vc or call ext.8316 . \n  \n  \n 
URL:https://mustique.life/event/horse-riding-3-2-2/2027-11-27/
LOCATION:Equestrian Centre
CATEGORIES:Sport / Wellness
ATTACH;FMTTYPE=image/jpeg:https://mustique.life/wp-content/uploads/2023/01/Horse-Riding.jpg
END:VEVENT
BEGIN:VEVENT
DTSTART;TZID=America/St_Vincent:20271128T080000
DTEND;TZID=America/St_Vincent:20271128T103000
DTSTAMP:20260420T002543
CREATED:20260402T164229Z
LAST-MODIFIED:20260402T165847Z
UID:10020326-1827388800-1827397800@mustique.life
SUMMARY:Horse Riding
DESCRIPTION:Experience Mustique in an exhilarating way. The Equestrian Centre has horses and ponies to suit all ages\nand levels of experience\, with qualified riding instructors offering a range of trail rides\, pony camps\nand lessons (maximum weight limit is 198lbs/90kg). \nTo book\, please email the Equestrian Centre team at equestrian@mustique.vc or call ext.8316 . \n  \n  \n 
URL:https://mustique.life/event/horse-riding-2-3/2027-11-28/
LOCATION:Equestrian Centre
CATEGORIES:Sport / Wellness
ATTACH;FMTTYPE=image/jpeg:https://mustique.life/wp-content/uploads/2023/01/Horse-Riding.jpg
END:VEVENT
BEGIN:VEVENT
DTSTART;TZID=America/St_Vincent:20271128T153000
DTEND;TZID=America/St_Vincent:20271128T173000
DTSTAMP:20260420T002543
CREATED:20260402T165703Z
LAST-MODIFIED:20260402T165953Z
UID:10022277-1827415800-1827423000@mustique.life
SUMMARY:Horse Riding
DESCRIPTION:Experience Mustique in an exhilarating way. The Equestrian Centre has horses and ponies to suit all ages\nand levels of experience\, with qualified riding instructors offering a range of trail rides\, pony camps\nand lessons (maximum weight limit is 198lbs/90kg). \nTo book\, please email the Equestrian Centre team at equestrian@mustique.vc or call ext.8316 . \n  \n  \n 
URL:https://mustique.life/event/horse-riding-3-2-2/2027-11-28/
LOCATION:Equestrian Centre
CATEGORIES:Sport / Wellness
ATTACH;FMTTYPE=image/jpeg:https://mustique.life/wp-content/uploads/2023/01/Horse-Riding.jpg
END:VEVENT
BEGIN:VEVENT
DTSTART;TZID=America/St_Vincent:20271129T080000
DTEND;TZID=America/St_Vincent:20271129T103000
DTSTAMP:20260420T002543
CREATED:20260402T164229Z
LAST-MODIFIED:20260402T165847Z
UID:10020327-1827475200-1827484200@mustique.life
SUMMARY:Horse Riding
DESCRIPTION:Experience Mustique in an exhilarating way. The Equestrian Centre has horses and ponies to suit all ages\nand levels of experience\, with qualified riding instructors offering a range of trail rides\, pony camps\nand lessons (maximum weight limit is 198lbs/90kg). \nTo book\, please email the Equestrian Centre team at equestrian@mustique.vc or call ext.8316 . \n  \n  \n 
URL:https://mustique.life/event/horse-riding-2-3/2027-11-29/
LOCATION:Equestrian Centre
CATEGORIES:Sport / Wellness
ATTACH;FMTTYPE=image/jpeg:https://mustique.life/wp-content/uploads/2023/01/Horse-Riding.jpg
END:VEVENT
BEGIN:VEVENT
DTSTART;TZID=America/St_Vincent:20271129T153000
DTEND;TZID=America/St_Vincent:20271129T173000
DTSTAMP:20260420T002543
CREATED:20260402T165703Z
LAST-MODIFIED:20260402T165953Z
UID:10022278-1827502200-1827509400@mustique.life
SUMMARY:Horse Riding
DESCRIPTION:Experience Mustique in an exhilarating way. The Equestrian Centre has horses and ponies to suit all ages\nand levels of experience\, with qualified riding instructors offering a range of trail rides\, pony camps\nand lessons (maximum weight limit is 198lbs/90kg). \nTo book\, please email the Equestrian Centre team at equestrian@mustique.vc or call ext.8316 . \n  \n  \n 
URL:https://mustique.life/event/horse-riding-3-2-2/2027-11-29/
LOCATION:Equestrian Centre
CATEGORIES:Sport / Wellness
ATTACH;FMTTYPE=image/jpeg:https://mustique.life/wp-content/uploads/2023/01/Horse-Riding.jpg
END:VEVENT
BEGIN:VEVENT
DTSTART;TZID=America/St_Vincent:20271130T080000
DTEND;TZID=America/St_Vincent:20271130T103000
DTSTAMP:20260420T002543
CREATED:20260402T164229Z
LAST-MODIFIED:20260402T165847Z
UID:10020328-1827561600-1827570600@mustique.life
SUMMARY:Horse Riding
DESCRIPTION:Experience Mustique in an exhilarating way. The Equestrian Centre has horses and ponies to suit all ages\nand levels of experience\, with qualified riding instructors offering a range of trail rides\, pony camps\nand lessons (maximum weight limit is 198lbs/90kg). \nTo book\, please email the Equestrian Centre team at equestrian@mustique.vc or call ext.8316 . \n  \n  \n 
URL:https://mustique.life/event/horse-riding-2-3/2027-11-30/
LOCATION:Equestrian Centre
CATEGORIES:Sport / Wellness
ATTACH;FMTTYPE=image/jpeg:https://mustique.life/wp-content/uploads/2023/01/Horse-Riding.jpg
END:VEVENT
BEGIN:VEVENT
DTSTART;TZID=America/St_Vincent:20271130T153000
DTEND;TZID=America/St_Vincent:20271130T173000
DTSTAMP:20260420T002543
CREATED:20260402T165703Z
LAST-MODIFIED:20260402T165953Z
UID:10022279-1827588600-1827595800@mustique.life
SUMMARY:Horse Riding
DESCRIPTION:Experience Mustique in an exhilarating way. The Equestrian Centre has horses and ponies to suit all ages\nand levels of experience\, with qualified riding instructors offering a range of trail rides\, pony camps\nand lessons (maximum weight limit is 198lbs/90kg). \nTo book\, please email the Equestrian Centre team at equestrian@mustique.vc or call ext.8316 . \n  \n  \n 
URL:https://mustique.life/event/horse-riding-3-2-2/2027-11-30/
LOCATION:Equestrian Centre
CATEGORIES:Sport / Wellness
ATTACH;FMTTYPE=image/jpeg:https://mustique.life/wp-content/uploads/2023/01/Horse-Riding.jpg
END:VEVENT
BEGIN:VEVENT
DTSTART;TZID=America/St_Vincent:20271201T080000
DTEND;TZID=America/St_Vincent:20271201T103000
DTSTAMP:20260420T002543
CREATED:20260402T164229Z
LAST-MODIFIED:20260402T165847Z
UID:10020329-1827648000-1827657000@mustique.life
SUMMARY:Horse Riding
DESCRIPTION:Experience Mustique in an exhilarating way. The Equestrian Centre has horses and ponies to suit all ages\nand levels of experience\, with qualified riding instructors offering a range of trail rides\, pony camps\nand lessons (maximum weight limit is 198lbs/90kg). \nTo book\, please email the Equestrian Centre team at equestrian@mustique.vc or call ext.8316 . \n  \n  \n 
URL:https://mustique.life/event/horse-riding-2-3/2027-12-01/
LOCATION:Equestrian Centre
CATEGORIES:Sport / Wellness
ATTACH;FMTTYPE=image/jpeg:https://mustique.life/wp-content/uploads/2023/01/Horse-Riding.jpg
END:VEVENT
BEGIN:VEVENT
DTSTART;TZID=America/St_Vincent:20271201T153000
DTEND;TZID=America/St_Vincent:20271201T173000
DTSTAMP:20260420T002543
CREATED:20260402T165703Z
LAST-MODIFIED:20260402T165953Z
UID:10022280-1827675000-1827682200@mustique.life
SUMMARY:Horse Riding
DESCRIPTION:Experience Mustique in an exhilarating way. The Equestrian Centre has horses and ponies to suit all ages\nand levels of experience\, with qualified riding instructors offering a range of trail rides\, pony camps\nand lessons (maximum weight limit is 198lbs/90kg). \nTo book\, please email the Equestrian Centre team at equestrian@mustique.vc or call ext.8316 . \n  \n  \n 
URL:https://mustique.life/event/horse-riding-3-2-2/2027-12-01/
LOCATION:Equestrian Centre
CATEGORIES:Sport / Wellness
ATTACH;FMTTYPE=image/jpeg:https://mustique.life/wp-content/uploads/2023/01/Horse-Riding.jpg
END:VEVENT
BEGIN:VEVENT
DTSTART;TZID=America/St_Vincent:20271202T080000
DTEND;TZID=America/St_Vincent:20271202T103000
DTSTAMP:20260420T002543
CREATED:20260402T164229Z
LAST-MODIFIED:20260402T165847Z
UID:10020330-1827734400-1827743400@mustique.life
SUMMARY:Horse Riding
DESCRIPTION:Experience Mustique in an exhilarating way. The Equestrian Centre has horses and ponies to suit all ages\nand levels of experience\, with qualified riding instructors offering a range of trail rides\, pony camps\nand lessons (maximum weight limit is 198lbs/90kg). \nTo book\, please email the Equestrian Centre team at equestrian@mustique.vc or call ext.8316 . \n  \n  \n 
URL:https://mustique.life/event/horse-riding-2-3/2027-12-02/
LOCATION:Equestrian Centre
CATEGORIES:Sport / Wellness
ATTACH;FMTTYPE=image/jpeg:https://mustique.life/wp-content/uploads/2023/01/Horse-Riding.jpg
END:VEVENT
BEGIN:VEVENT
DTSTART;TZID=America/St_Vincent:20271202T153000
DTEND;TZID=America/St_Vincent:20271202T173000
DTSTAMP:20260420T002543
CREATED:20260402T165703Z
LAST-MODIFIED:20260402T165953Z
UID:10022281-1827761400-1827768600@mustique.life
SUMMARY:Horse Riding
DESCRIPTION:Experience Mustique in an exhilarating way. The Equestrian Centre has horses and ponies to suit all ages\nand levels of experience\, with qualified riding instructors offering a range of trail rides\, pony camps\nand lessons (maximum weight limit is 198lbs/90kg). \nTo book\, please email the Equestrian Centre team at equestrian@mustique.vc or call ext.8316 . \n  \n  \n 
URL:https://mustique.life/event/horse-riding-3-2-2/2027-12-02/
LOCATION:Equestrian Centre
CATEGORIES:Sport / Wellness
ATTACH;FMTTYPE=image/jpeg:https://mustique.life/wp-content/uploads/2023/01/Horse-Riding.jpg
END:VEVENT
BEGIN:VEVENT
DTSTART;TZID=America/St_Vincent:20271203T080000
DTEND;TZID=America/St_Vincent:20271203T103000
DTSTAMP:20260420T002543
CREATED:20260402T164229Z
LAST-MODIFIED:20260402T165847Z
UID:10020331-1827820800-1827829800@mustique.life
SUMMARY:Horse Riding
DESCRIPTION:Experience Mustique in an exhilarating way. The Equestrian Centre has horses and ponies to suit all ages\nand levels of experience\, with qualified riding instructors offering a range of trail rides\, pony camps\nand lessons (maximum weight limit is 198lbs/90kg). \nTo book\, please email the Equestrian Centre team at equestrian@mustique.vc or call ext.8316 . \n  \n  \n 
URL:https://mustique.life/event/horse-riding-2-3/2027-12-03/
LOCATION:Equestrian Centre
CATEGORIES:Sport / Wellness
ATTACH;FMTTYPE=image/jpeg:https://mustique.life/wp-content/uploads/2023/01/Horse-Riding.jpg
END:VEVENT
BEGIN:VEVENT
DTSTART;TZID=America/St_Vincent:20271203T153000
DTEND;TZID=America/St_Vincent:20271203T173000
DTSTAMP:20260420T002543
CREATED:20260402T165703Z
LAST-MODIFIED:20260402T165953Z
UID:10022282-1827847800-1827855000@mustique.life
SUMMARY:Horse Riding
DESCRIPTION:Experience Mustique in an exhilarating way. The Equestrian Centre has horses and ponies to suit all ages\nand levels of experience\, with qualified riding instructors offering a range of trail rides\, pony camps\nand lessons (maximum weight limit is 198lbs/90kg). \nTo book\, please email the Equestrian Centre team at equestrian@mustique.vc or call ext.8316 . \n  \n  \n 
URL:https://mustique.life/event/horse-riding-3-2-2/2027-12-03/
LOCATION:Equestrian Centre
CATEGORIES:Sport / Wellness
ATTACH;FMTTYPE=image/jpeg:https://mustique.life/wp-content/uploads/2023/01/Horse-Riding.jpg
END:VEVENT
BEGIN:VEVENT
DTSTART;TZID=America/St_Vincent:20271204T080000
DTEND;TZID=America/St_Vincent:20271204T103000
DTSTAMP:20260420T002543
CREATED:20260402T164229Z
LAST-MODIFIED:20260402T165847Z
UID:10020332-1827907200-1827916200@mustique.life
SUMMARY:Horse Riding
DESCRIPTION:Experience Mustique in an exhilarating way. The Equestrian Centre has horses and ponies to suit all ages\nand levels of experience\, with qualified riding instructors offering a range of trail rides\, pony camps\nand lessons (maximum weight limit is 198lbs/90kg). \nTo book\, please email the Equestrian Centre team at equestrian@mustique.vc or call ext.8316 . \n  \n  \n 
URL:https://mustique.life/event/horse-riding-2-3/2027-12-04/
LOCATION:Equestrian Centre
CATEGORIES:Sport / Wellness
ATTACH;FMTTYPE=image/jpeg:https://mustique.life/wp-content/uploads/2023/01/Horse-Riding.jpg
END:VEVENT
BEGIN:VEVENT
DTSTART;TZID=America/St_Vincent:20271204T153000
DTEND;TZID=America/St_Vincent:20271204T173000
DTSTAMP:20260420T002543
CREATED:20260402T165703Z
LAST-MODIFIED:20260402T165953Z
UID:10022283-1827934200-1827941400@mustique.life
SUMMARY:Horse Riding
DESCRIPTION:Experience Mustique in an exhilarating way. The Equestrian Centre has horses and ponies to suit all ages\nand levels of experience\, with qualified riding instructors offering a range of trail rides\, pony camps\nand lessons (maximum weight limit is 198lbs/90kg). \nTo book\, please email the Equestrian Centre team at equestrian@mustique.vc or call ext.8316 . \n  \n  \n 
URL:https://mustique.life/event/horse-riding-3-2-2/2027-12-04/
LOCATION:Equestrian Centre
CATEGORIES:Sport / Wellness
ATTACH;FMTTYPE=image/jpeg:https://mustique.life/wp-content/uploads/2023/01/Horse-Riding.jpg
END:VEVENT
BEGIN:VEVENT
DTSTART;TZID=America/St_Vincent:20271205T080000
DTEND;TZID=America/St_Vincent:20271205T103000
DTSTAMP:20260420T002543
CREATED:20260402T164229Z
LAST-MODIFIED:20260402T165847Z
UID:10020333-1827993600-1828002600@mustique.life
SUMMARY:Horse Riding
DESCRIPTION:Experience Mustique in an exhilarating way. The Equestrian Centre has horses and ponies to suit all ages\nand levels of experience\, with qualified riding instructors offering a range of trail rides\, pony camps\nand lessons (maximum weight limit is 198lbs/90kg). \nTo book\, please email the Equestrian Centre team at equestrian@mustique.vc or call ext.8316 . \n  \n  \n 
URL:https://mustique.life/event/horse-riding-2-3/2027-12-05/
LOCATION:Equestrian Centre
CATEGORIES:Sport / Wellness
ATTACH;FMTTYPE=image/jpeg:https://mustique.life/wp-content/uploads/2023/01/Horse-Riding.jpg
END:VEVENT
BEGIN:VEVENT
DTSTART;TZID=America/St_Vincent:20271205T153000
DTEND;TZID=America/St_Vincent:20271205T173000
DTSTAMP:20260420T002543
CREATED:20260402T165703Z
LAST-MODIFIED:20260402T165953Z
UID:10022284-1828020600-1828027800@mustique.life
SUMMARY:Horse Riding
DESCRIPTION:Experience Mustique in an exhilarating way. The Equestrian Centre has horses and ponies to suit all ages\nand levels of experience\, with qualified riding instructors offering a range of trail rides\, pony camps\nand lessons (maximum weight limit is 198lbs/90kg). \nTo book\, please email the Equestrian Centre team at equestrian@mustique.vc or call ext.8316 . \n  \n  \n 
URL:https://mustique.life/event/horse-riding-3-2-2/2027-12-05/
LOCATION:Equestrian Centre
CATEGORIES:Sport / Wellness
ATTACH;FMTTYPE=image/jpeg:https://mustique.life/wp-content/uploads/2023/01/Horse-Riding.jpg
END:VEVENT
BEGIN:VEVENT
DTSTART;TZID=America/St_Vincent:20271206T080000
DTEND;TZID=America/St_Vincent:20271206T103000
DTSTAMP:20260420T002543
CREATED:20260402T164229Z
LAST-MODIFIED:20260402T165847Z
UID:10020334-1828080000-1828089000@mustique.life
SUMMARY:Horse Riding
DESCRIPTION:Experience Mustique in an exhilarating way. The Equestrian Centre has horses and ponies to suit all ages\nand levels of experience\, with qualified riding instructors offering a range of trail rides\, pony camps\nand lessons (maximum weight limit is 198lbs/90kg). \nTo book\, please email the Equestrian Centre team at equestrian@mustique.vc or call ext.8316 . \n  \n  \n 
URL:https://mustique.life/event/horse-riding-2-3/2027-12-06/
LOCATION:Equestrian Centre
CATEGORIES:Sport / Wellness
ATTACH;FMTTYPE=image/jpeg:https://mustique.life/wp-content/uploads/2023/01/Horse-Riding.jpg
END:VEVENT
BEGIN:VEVENT
DTSTART;TZID=America/St_Vincent:20271206T153000
DTEND;TZID=America/St_Vincent:20271206T173000
DTSTAMP:20260420T002543
CREATED:20260402T165703Z
LAST-MODIFIED:20260402T165953Z
UID:10022285-1828107000-1828114200@mustique.life
SUMMARY:Horse Riding
DESCRIPTION:Experience Mustique in an exhilarating way. The Equestrian Centre has horses and ponies to suit all ages\nand levels of experience\, with qualified riding instructors offering a range of trail rides\, pony camps\nand lessons (maximum weight limit is 198lbs/90kg). \nTo book\, please email the Equestrian Centre team at equestrian@mustique.vc or call ext.8316 . \n  \n  \n 
URL:https://mustique.life/event/horse-riding-3-2-2/2027-12-06/
LOCATION:Equestrian Centre
CATEGORIES:Sport / Wellness
ATTACH;FMTTYPE=image/jpeg:https://mustique.life/wp-content/uploads/2023/01/Horse-Riding.jpg
END:VEVENT
BEGIN:VEVENT
DTSTART;TZID=America/St_Vincent:20271207T080000
DTEND;TZID=America/St_Vincent:20271207T103000
DTSTAMP:20260420T002543
CREATED:20260402T164229Z
LAST-MODIFIED:20260402T165847Z
UID:10020335-1828166400-1828175400@mustique.life
SUMMARY:Horse Riding
DESCRIPTION:Experience Mustique in an exhilarating way. The Equestrian Centre has horses and ponies to suit all ages\nand levels of experience\, with qualified riding instructors offering a range of trail rides\, pony camps\nand lessons (maximum weight limit is 198lbs/90kg). \nTo book\, please email the Equestrian Centre team at equestrian@mustique.vc or call ext.8316 . \n  \n  \n 
URL:https://mustique.life/event/horse-riding-2-3/2027-12-07/
LOCATION:Equestrian Centre
CATEGORIES:Sport / Wellness
ATTACH;FMTTYPE=image/jpeg:https://mustique.life/wp-content/uploads/2023/01/Horse-Riding.jpg
END:VEVENT
BEGIN:VEVENT
DTSTART;TZID=America/St_Vincent:20271207T153000
DTEND;TZID=America/St_Vincent:20271207T173000
DTSTAMP:20260420T002543
CREATED:20260402T165703Z
LAST-MODIFIED:20260402T165953Z
UID:10022286-1828193400-1828200600@mustique.life
SUMMARY:Horse Riding
DESCRIPTION:Experience Mustique in an exhilarating way. The Equestrian Centre has horses and ponies to suit all ages\nand levels of experience\, with qualified riding instructors offering a range of trail rides\, pony camps\nand lessons (maximum weight limit is 198lbs/90kg). \nTo book\, please email the Equestrian Centre team at equestrian@mustique.vc or call ext.8316 . \n  \n  \n 
URL:https://mustique.life/event/horse-riding-3-2-2/2027-12-07/
LOCATION:Equestrian Centre
CATEGORIES:Sport / Wellness
ATTACH;FMTTYPE=image/jpeg:https://mustique.life/wp-content/uploads/2023/01/Horse-Riding.jpg
END:VEVENT
BEGIN:VEVENT
DTSTART;TZID=America/St_Vincent:20271208T080000
DTEND;TZID=America/St_Vincent:20271208T103000
DTSTAMP:20260420T002543
CREATED:20260402T164229Z
LAST-MODIFIED:20260402T165847Z
UID:10020336-1828252800-1828261800@mustique.life
SUMMARY:Horse Riding
DESCRIPTION:Experience Mustique in an exhilarating way. The Equestrian Centre has horses and ponies to suit all ages\nand levels of experience\, with qualified riding instructors offering a range of trail rides\, pony camps\nand lessons (maximum weight limit is 198lbs/90kg). \nTo book\, please email the Equestrian Centre team at equestrian@mustique.vc or call ext.8316 . \n  \n  \n 
URL:https://mustique.life/event/horse-riding-2-3/2027-12-08/
LOCATION:Equestrian Centre
CATEGORIES:Sport / Wellness
ATTACH;FMTTYPE=image/jpeg:https://mustique.life/wp-content/uploads/2023/01/Horse-Riding.jpg
END:VEVENT
BEGIN:VEVENT
DTSTART;TZID=America/St_Vincent:20271208T153000
DTEND;TZID=America/St_Vincent:20271208T173000
DTSTAMP:20260420T002543
CREATED:20260402T165703Z
LAST-MODIFIED:20260402T165953Z
UID:10022287-1828279800-1828287000@mustique.life
SUMMARY:Horse Riding
DESCRIPTION:Experience Mustique in an exhilarating way. The Equestrian Centre has horses and ponies to suit all ages\nand levels of experience\, with qualified riding instructors offering a range of trail rides\, pony camps\nand lessons (maximum weight limit is 198lbs/90kg). \nTo book\, please email the Equestrian Centre team at equestrian@mustique.vc or call ext.8316 . \n  \n  \n 
URL:https://mustique.life/event/horse-riding-3-2-2/2027-12-08/
LOCATION:Equestrian Centre
CATEGORIES:Sport / Wellness
ATTACH;FMTTYPE=image/jpeg:https://mustique.life/wp-content/uploads/2023/01/Horse-Riding.jpg
END:VEVENT
BEGIN:VEVENT
DTSTART;TZID=America/St_Vincent:20271209T080000
DTEND;TZID=America/St_Vincent:20271209T103000
DTSTAMP:20260420T002543
CREATED:20260402T164229Z
LAST-MODIFIED:20260402T165847Z
UID:10020337-1828339200-1828348200@mustique.life
SUMMARY:Horse Riding
DESCRIPTION:Experience Mustique in an exhilarating way. The Equestrian Centre has horses and ponies to suit all ages\nand levels of experience\, with qualified riding instructors offering a range of trail rides\, pony camps\nand lessons (maximum weight limit is 198lbs/90kg). \nTo book\, please email the Equestrian Centre team at equestrian@mustique.vc or call ext.8316 . \n  \n  \n 
URL:https://mustique.life/event/horse-riding-2-3/2027-12-09/
LOCATION:Equestrian Centre
CATEGORIES:Sport / Wellness
ATTACH;FMTTYPE=image/jpeg:https://mustique.life/wp-content/uploads/2023/01/Horse-Riding.jpg
END:VEVENT
BEGIN:VEVENT
DTSTART;TZID=America/St_Vincent:20271209T153000
DTEND;TZID=America/St_Vincent:20271209T173000
DTSTAMP:20260420T002543
CREATED:20260402T165703Z
LAST-MODIFIED:20260402T165953Z
UID:10022288-1828366200-1828373400@mustique.life
SUMMARY:Horse Riding
DESCRIPTION:Experience Mustique in an exhilarating way. The Equestrian Centre has horses and ponies to suit all ages\nand levels of experience\, with qualified riding instructors offering a range of trail rides\, pony camps\nand lessons (maximum weight limit is 198lbs/90kg). \nTo book\, please email the Equestrian Centre team at equestrian@mustique.vc or call ext.8316 . \n  \n  \n 
URL:https://mustique.life/event/horse-riding-3-2-2/2027-12-09/
LOCATION:Equestrian Centre
CATEGORIES:Sport / Wellness
ATTACH;FMTTYPE=image/jpeg:https://mustique.life/wp-content/uploads/2023/01/Horse-Riding.jpg
END:VEVENT
BEGIN:VEVENT
DTSTART;TZID=America/St_Vincent:20271210T080000
DTEND;TZID=America/St_Vincent:20271210T103000
DTSTAMP:20260420T002543
CREATED:20260402T164229Z
LAST-MODIFIED:20260402T165847Z
UID:10020338-1828425600-1828434600@mustique.life
SUMMARY:Horse Riding
DESCRIPTION:Experience Mustique in an exhilarating way. The Equestrian Centre has horses and ponies to suit all ages\nand levels of experience\, with qualified riding instructors offering a range of trail rides\, pony camps\nand lessons (maximum weight limit is 198lbs/90kg). \nTo book\, please email the Equestrian Centre team at equestrian@mustique.vc or call ext.8316 . \n  \n  \n 
URL:https://mustique.life/event/horse-riding-2-3/2027-12-10/
LOCATION:Equestrian Centre
CATEGORIES:Sport / Wellness
ATTACH;FMTTYPE=image/jpeg:https://mustique.life/wp-content/uploads/2023/01/Horse-Riding.jpg
END:VEVENT
BEGIN:VEVENT
DTSTART;TZID=America/St_Vincent:20271210T153000
DTEND;TZID=America/St_Vincent:20271210T173000
DTSTAMP:20260420T002543
CREATED:20260402T165703Z
LAST-MODIFIED:20260402T165953Z
UID:10022289-1828452600-1828459800@mustique.life
SUMMARY:Horse Riding
DESCRIPTION:Experience Mustique in an exhilarating way. The Equestrian Centre has horses and ponies to suit all ages\nand levels of experience\, with qualified riding instructors offering a range of trail rides\, pony camps\nand lessons (maximum weight limit is 198lbs/90kg). \nTo book\, please email the Equestrian Centre team at equestrian@mustique.vc or call ext.8316 . \n  \n  \n 
URL:https://mustique.life/event/horse-riding-3-2-2/2027-12-10/
LOCATION:Equestrian Centre
CATEGORIES:Sport / Wellness
ATTACH;FMTTYPE=image/jpeg:https://mustique.life/wp-content/uploads/2023/01/Horse-Riding.jpg
END:VEVENT
BEGIN:VEVENT
DTSTART;TZID=America/St_Vincent:20271211T080000
DTEND;TZID=America/St_Vincent:20271211T103000
DTSTAMP:20260420T002543
CREATED:20260402T164229Z
LAST-MODIFIED:20260402T165847Z
UID:10020339-1828512000-1828521000@mustique.life
SUMMARY:Horse Riding
DESCRIPTION:Experience Mustique in an exhilarating way. The Equestrian Centre has horses and ponies to suit all ages\nand levels of experience\, with qualified riding instructors offering a range of trail rides\, pony camps\nand lessons (maximum weight limit is 198lbs/90kg). \nTo book\, please email the Equestrian Centre team at equestrian@mustique.vc or call ext.8316 . \n  \n  \n 
URL:https://mustique.life/event/horse-riding-2-3/2027-12-11/
LOCATION:Equestrian Centre
CATEGORIES:Sport / Wellness
ATTACH;FMTTYPE=image/jpeg:https://mustique.life/wp-content/uploads/2023/01/Horse-Riding.jpg
END:VEVENT
END:VCALENDAR