BEGIN:VCALENDAR
VERSION:2.0
PRODID:-//Mustique Events - Calendar - ECPv6.15.17.1//NONSGML v1.0//EN
CALSCALE:GREGORIAN
METHOD:PUBLISH
X-ORIGINAL-URL:https://mustique.life
X-WR-CALDESC:Events for Mustique Events - Calendar
REFRESH-INTERVAL;VALUE=DURATION:PT1H
X-Robots-Tag:noindex
X-PUBLISHED-TTL:PT1H
BEGIN:VTIMEZONE
TZID:America/St_Vincent
BEGIN:STANDARD
TZOFFSETFROM:-0400
TZOFFSETTO:-0400
TZNAME:AST
DTSTART:20250101T000000
END:STANDARD
END:VTIMEZONE
BEGIN:VEVENT
DTSTART;TZID=America/St_Vincent:20260810T060000
DTEND;TZID=America/St_Vincent:20260810T200000
DTSTAMP:20260419T163958
CREATED:20251003T132525Z
LAST-MODIFIED:20251003T132800Z
UID:10013874-1786341600-1786392000@mustique.life
SUMMARY:Private Tennis Lessons
DESCRIPTION:Private Lessons can be booked from 6am to 8pm daily \nFor bookings \ninfo@mustiquetennis.com \next. 8315 /8818 \n  \n 
URL:https://mustique.life/event/private-tennis-lessons/2026-08-10/
LOCATION:Tennis Club
CATEGORIES:Sport / Wellness
ATTACH;FMTTYPE=image/jpeg:https://mustique.life/wp-content/uploads/2022/12/Tennis-Lessons.jpg
END:VEVENT
BEGIN:VEVENT
DTSTART;TZID=America/St_Vincent:20260810T070000
DTEND;TZID=America/St_Vincent:20260810T190000
DTSTAMP:20260419T163958
CREATED:20251222T123041Z
LAST-MODIFIED:20260416T155054Z
UID:10023630-1786345200-1786388400@mustique.life
SUMMARY:Private Personal Training and Yoga
DESCRIPTION:ALL BOOKINGS FOR GYM TIME SLOTS\, PRIVATE SESSIONS AND CLASSES MUST BE MADE IN ADVANCE BY CALLING EXT: 8920 OR BY EMAIL: YOGAFITNESS@COTTONHOUSE.NET
URL:https://mustique.life/event/private-personal-training-and-yoga/2026-08-10/
LOCATION:Gym Studio\, Saint Vincent and The Grenadines
CATEGORIES:Sport / Wellness
ATTACH;FMTTYPE=image/jpeg:https://mustique.life/wp-content/uploads/2024/03/Gentle-Yoga_GymStudio.jpg
END:VEVENT
BEGIN:VEVENT
DTSTART;TZID=America/St_Vincent:20260810T080000
DTEND;TZID=America/St_Vincent:20260810T103000
DTSTAMP:20260419T163958
CREATED:20260402T164229Z
LAST-MODIFIED:20260402T165847Z
UID:10019851-1786348800-1786357800@mustique.life
SUMMARY:Horse Riding
DESCRIPTION:Experience Mustique in an exhilarating way. The Equestrian Centre has horses and ponies to suit all ages\nand levels of experience\, with qualified riding instructors offering a range of trail rides\, pony camps\nand lessons (maximum weight limit is 198lbs/90kg). \nTo book\, please email the Equestrian Centre team at equestrian@mustique.vc or call ext.8316 . \n  \n  \n 
URL:https://mustique.life/event/horse-riding-2-3/2026-08-10/
LOCATION:Equestrian Centre
CATEGORIES:Sport / Wellness
ATTACH;FMTTYPE=image/jpeg:https://mustique.life/wp-content/uploads/2023/01/Horse-Riding.jpg
END:VEVENT
BEGIN:VEVENT
DTSTART;TZID=America/St_Vincent:20260810T140000
DTEND;TZID=America/St_Vincent:20260810T160000
DTSTAMP:20260419T163958
CREATED:20251006T123022Z
LAST-MODIFIED:20251006T123245Z
UID:10014200-1786370400-1786377600@mustique.life
SUMMARY:Discover Scuba Diving
DESCRIPTION:This is the perfect introductory session for those who have never tried scuba diving before (from 10 years old)\,or for those who are not yet certified. Includes a basic theory session with an instructor\, followed by a shallow dive on our spectacular Cotton House reef. \nIf you find that you’ve taken to diving like a ‘fish to water’\, subsequent dives can be arranged. The maximum depth for the first and all subsequent dives is 12 metres/40 feet. \nWhen? 2pm daily with a prior reservation (approx. 2 hours)\nPrice? $150 \nTo book\, or to organise this on a private basis\, please contact watersports@mustique.vc
URL:https://mustique.life/event/discover-scuba-diving-2-2/2026-08-10/
LOCATION:Watersports
CATEGORIES:Sport / Wellness
ATTACH;FMTTYPE=image/jpeg:https://mustique.life/wp-content/uploads/2022/12/Diving.jpg
END:VEVENT
BEGIN:VEVENT
DTSTART;TZID=America/St_Vincent:20260810T153000
DTEND;TZID=America/St_Vincent:20260810T173000
DTSTAMP:20260419T163958
CREATED:20260402T165703Z
LAST-MODIFIED:20260402T165953Z
UID:10021802-1786375800-1786383000@mustique.life
SUMMARY:Horse Riding
DESCRIPTION:Experience Mustique in an exhilarating way. The Equestrian Centre has horses and ponies to suit all ages\nand levels of experience\, with qualified riding instructors offering a range of trail rides\, pony camps\nand lessons (maximum weight limit is 198lbs/90kg). \nTo book\, please email the Equestrian Centre team at equestrian@mustique.vc or call ext.8316 . \n  \n  \n 
URL:https://mustique.life/event/horse-riding-3-2-2/2026-08-10/
LOCATION:Equestrian Centre
CATEGORIES:Sport / Wellness
ATTACH;FMTTYPE=image/jpeg:https://mustique.life/wp-content/uploads/2023/01/Horse-Riding.jpg
END:VEVENT
BEGIN:VEVENT
DTSTART;TZID=America/St_Vincent:20260811T060000
DTEND;TZID=America/St_Vincent:20260811T200000
DTSTAMP:20260419T163958
CREATED:20251003T132525Z
LAST-MODIFIED:20251003T132800Z
UID:10013875-1786428000-1786478400@mustique.life
SUMMARY:Private Tennis Lessons
DESCRIPTION:Private Lessons can be booked from 6am to 8pm daily \nFor bookings \ninfo@mustiquetennis.com \next. 8315 /8818 \n  \n 
URL:https://mustique.life/event/private-tennis-lessons/2026-08-11/
LOCATION:Tennis Club
CATEGORIES:Sport / Wellness
ATTACH;FMTTYPE=image/jpeg:https://mustique.life/wp-content/uploads/2022/12/Tennis-Lessons.jpg
END:VEVENT
BEGIN:VEVENT
DTSTART;TZID=America/St_Vincent:20260811T070000
DTEND;TZID=America/St_Vincent:20260811T190000
DTSTAMP:20260419T163958
CREATED:20251222T123041Z
LAST-MODIFIED:20260416T155054Z
UID:10023631-1786431600-1786474800@mustique.life
SUMMARY:Private Personal Training and Yoga
DESCRIPTION:ALL BOOKINGS FOR GYM TIME SLOTS\, PRIVATE SESSIONS AND CLASSES MUST BE MADE IN ADVANCE BY CALLING EXT: 8920 OR BY EMAIL: YOGAFITNESS@COTTONHOUSE.NET
URL:https://mustique.life/event/private-personal-training-and-yoga/2026-08-11/
LOCATION:Gym Studio\, Saint Vincent and The Grenadines
CATEGORIES:Sport / Wellness
ATTACH;FMTTYPE=image/jpeg:https://mustique.life/wp-content/uploads/2024/03/Gentle-Yoga_GymStudio.jpg
END:VEVENT
BEGIN:VEVENT
DTSTART;TZID=America/St_Vincent:20260811T080000
DTEND;TZID=America/St_Vincent:20260811T103000
DTSTAMP:20260419T163958
CREATED:20260402T164229Z
LAST-MODIFIED:20260402T165847Z
UID:10019852-1786435200-1786444200@mustique.life
SUMMARY:Horse Riding
DESCRIPTION:Experience Mustique in an exhilarating way. The Equestrian Centre has horses and ponies to suit all ages\nand levels of experience\, with qualified riding instructors offering a range of trail rides\, pony camps\nand lessons (maximum weight limit is 198lbs/90kg). \nTo book\, please email the Equestrian Centre team at equestrian@mustique.vc or call ext.8316 . \n  \n  \n 
URL:https://mustique.life/event/horse-riding-2-3/2026-08-11/
LOCATION:Equestrian Centre
CATEGORIES:Sport / Wellness
ATTACH;FMTTYPE=image/jpeg:https://mustique.life/wp-content/uploads/2023/01/Horse-Riding.jpg
END:VEVENT
BEGIN:VEVENT
DTSTART;TZID=America/St_Vincent:20260811T140000
DTEND;TZID=America/St_Vincent:20260811T160000
DTSTAMP:20260419T163958
CREATED:20251003T033102Z
LAST-MODIFIED:20251006T123444Z
UID:10014300-1786456800-1786464000@mustique.life
SUMMARY:Snorkeling with Green Sea Turtles
DESCRIPTION:Come face to face with Mustique’s resident Green sea turtles in their natural habitat in front of Basil’s Bar. A member of the Watersports team will accompany you\,\nsharing fun facts about sea turtles and other ocean creatures along the way. \nPlease note that sea turtles are wild animals and sightings are not guaranteed\, please also do not chase or scare them. \nWhen? Every Tuesday & Thursday 14:00 – 16:00\nHow much? $50 pp (minimum 4 pax) \nTo book please contact watersports@mustique.vc \nIf you would like to personalise this experience and explore other areas of Mustique with your own private guide\, please contact watersports@mustique.vc. \nPlease note that additional fees apply
URL:https://mustique.life/event/__trashed-13/2026-08-11/
LOCATION:Britannia Bay
CATEGORIES:Sport / Wellness
ATTACH;FMTTYPE=image/jpeg:https://mustique.life/wp-content/uploads/2022/12/Turtles-MUSTIQUE-16.08.2019-20.jpg
END:VEVENT
BEGIN:VEVENT
DTSTART;TZID=America/St_Vincent:20260811T140000
DTEND;TZID=America/St_Vincent:20260811T160000
DTSTAMP:20260419T163958
CREATED:20251006T123022Z
LAST-MODIFIED:20251006T123245Z
UID:10014201-1786456800-1786464000@mustique.life
SUMMARY:Discover Scuba Diving
DESCRIPTION:This is the perfect introductory session for those who have never tried scuba diving before (from 10 years old)\,or for those who are not yet certified. Includes a basic theory session with an instructor\, followed by a shallow dive on our spectacular Cotton House reef. \nIf you find that you’ve taken to diving like a ‘fish to water’\, subsequent dives can be arranged. The maximum depth for the first and all subsequent dives is 12 metres/40 feet. \nWhen? 2pm daily with a prior reservation (approx. 2 hours)\nPrice? $150 \nTo book\, or to organise this on a private basis\, please contact watersports@mustique.vc
URL:https://mustique.life/event/discover-scuba-diving-2-2/2026-08-11/
LOCATION:Watersports
CATEGORIES:Sport / Wellness
ATTACH;FMTTYPE=image/jpeg:https://mustique.life/wp-content/uploads/2022/12/Diving.jpg
END:VEVENT
BEGIN:VEVENT
DTSTART;TZID=America/St_Vincent:20260811T153000
DTEND;TZID=America/St_Vincent:20260811T173000
DTSTAMP:20260419T163958
CREATED:20260402T165703Z
LAST-MODIFIED:20260402T165953Z
UID:10021803-1786462200-1786469400@mustique.life
SUMMARY:Horse Riding
DESCRIPTION:Experience Mustique in an exhilarating way. The Equestrian Centre has horses and ponies to suit all ages\nand levels of experience\, with qualified riding instructors offering a range of trail rides\, pony camps\nand lessons (maximum weight limit is 198lbs/90kg). \nTo book\, please email the Equestrian Centre team at equestrian@mustique.vc or call ext.8316 . \n  \n  \n 
URL:https://mustique.life/event/horse-riding-3-2-2/2026-08-11/
LOCATION:Equestrian Centre
CATEGORIES:Sport / Wellness
ATTACH;FMTTYPE=image/jpeg:https://mustique.life/wp-content/uploads/2023/01/Horse-Riding.jpg
END:VEVENT
BEGIN:VEVENT
DTSTART;TZID=America/St_Vincent:20260812T060000
DTEND;TZID=America/St_Vincent:20260812T200000
DTSTAMP:20260419T163958
CREATED:20251003T132525Z
LAST-MODIFIED:20251003T132800Z
UID:10013876-1786514400-1786564800@mustique.life
SUMMARY:Private Tennis Lessons
DESCRIPTION:Private Lessons can be booked from 6am to 8pm daily \nFor bookings \ninfo@mustiquetennis.com \next. 8315 /8818 \n  \n 
URL:https://mustique.life/event/private-tennis-lessons/2026-08-12/
LOCATION:Tennis Club
CATEGORIES:Sport / Wellness
ATTACH;FMTTYPE=image/jpeg:https://mustique.life/wp-content/uploads/2022/12/Tennis-Lessons.jpg
END:VEVENT
BEGIN:VEVENT
DTSTART;TZID=America/St_Vincent:20260812T070000
DTEND;TZID=America/St_Vincent:20260812T190000
DTSTAMP:20260419T163958
CREATED:20251222T123041Z
LAST-MODIFIED:20260416T155054Z
UID:10023632-1786518000-1786561200@mustique.life
SUMMARY:Private Personal Training and Yoga
DESCRIPTION:ALL BOOKINGS FOR GYM TIME SLOTS\, PRIVATE SESSIONS AND CLASSES MUST BE MADE IN ADVANCE BY CALLING EXT: 8920 OR BY EMAIL: YOGAFITNESS@COTTONHOUSE.NET
URL:https://mustique.life/event/private-personal-training-and-yoga/2026-08-12/
LOCATION:Gym Studio\, Saint Vincent and The Grenadines
CATEGORIES:Sport / Wellness
ATTACH;FMTTYPE=image/jpeg:https://mustique.life/wp-content/uploads/2024/03/Gentle-Yoga_GymStudio.jpg
END:VEVENT
BEGIN:VEVENT
DTSTART;TZID=America/St_Vincent:20260812T080000
DTEND;TZID=America/St_Vincent:20260812T103000
DTSTAMP:20260419T163958
CREATED:20260402T164229Z
LAST-MODIFIED:20260402T165847Z
UID:10019853-1786521600-1786530600@mustique.life
SUMMARY:Horse Riding
DESCRIPTION:Experience Mustique in an exhilarating way. The Equestrian Centre has horses and ponies to suit all ages\nand levels of experience\, with qualified riding instructors offering a range of trail rides\, pony camps\nand lessons (maximum weight limit is 198lbs/90kg). \nTo book\, please email the Equestrian Centre team at equestrian@mustique.vc or call ext.8316 . \n  \n  \n 
URL:https://mustique.life/event/horse-riding-2-3/2026-08-12/
LOCATION:Equestrian Centre
CATEGORIES:Sport / Wellness
ATTACH;FMTTYPE=image/jpeg:https://mustique.life/wp-content/uploads/2023/01/Horse-Riding.jpg
END:VEVENT
BEGIN:VEVENT
DTSTART;TZID=America/St_Vincent:20260812T140000
DTEND;TZID=America/St_Vincent:20260812T160000
DTSTAMP:20260419T163958
CREATED:20251006T123022Z
LAST-MODIFIED:20251006T123245Z
UID:10014202-1786543200-1786550400@mustique.life
SUMMARY:Discover Scuba Diving
DESCRIPTION:This is the perfect introductory session for those who have never tried scuba diving before (from 10 years old)\,or for those who are not yet certified. Includes a basic theory session with an instructor\, followed by a shallow dive on our spectacular Cotton House reef. \nIf you find that you’ve taken to diving like a ‘fish to water’\, subsequent dives can be arranged. The maximum depth for the first and all subsequent dives is 12 metres/40 feet. \nWhen? 2pm daily with a prior reservation (approx. 2 hours)\nPrice? $150 \nTo book\, or to organise this on a private basis\, please contact watersports@mustique.vc
URL:https://mustique.life/event/discover-scuba-diving-2-2/2026-08-12/
LOCATION:Watersports
CATEGORIES:Sport / Wellness
ATTACH;FMTTYPE=image/jpeg:https://mustique.life/wp-content/uploads/2022/12/Diving.jpg
END:VEVENT
BEGIN:VEVENT
DTSTART;TZID=America/St_Vincent:20260812T153000
DTEND;TZID=America/St_Vincent:20260812T173000
DTSTAMP:20260419T163958
CREATED:20260402T165703Z
LAST-MODIFIED:20260402T165953Z
UID:10021804-1786548600-1786555800@mustique.life
SUMMARY:Horse Riding
DESCRIPTION:Experience Mustique in an exhilarating way. The Equestrian Centre has horses and ponies to suit all ages\nand levels of experience\, with qualified riding instructors offering a range of trail rides\, pony camps\nand lessons (maximum weight limit is 198lbs/90kg). \nTo book\, please email the Equestrian Centre team at equestrian@mustique.vc or call ext.8316 . \n  \n  \n 
URL:https://mustique.life/event/horse-riding-3-2-2/2026-08-12/
LOCATION:Equestrian Centre
CATEGORIES:Sport / Wellness
ATTACH;FMTTYPE=image/jpeg:https://mustique.life/wp-content/uploads/2023/01/Horse-Riding.jpg
END:VEVENT
BEGIN:VEVENT
DTSTART;TZID=America/St_Vincent:20260813T060000
DTEND;TZID=America/St_Vincent:20260813T200000
DTSTAMP:20260419T163958
CREATED:20251003T132525Z
LAST-MODIFIED:20251003T132800Z
UID:10013877-1786600800-1786651200@mustique.life
SUMMARY:Private Tennis Lessons
DESCRIPTION:Private Lessons can be booked from 6am to 8pm daily \nFor bookings \ninfo@mustiquetennis.com \next. 8315 /8818 \n  \n 
URL:https://mustique.life/event/private-tennis-lessons/2026-08-13/
LOCATION:Tennis Club
CATEGORIES:Sport / Wellness
ATTACH;FMTTYPE=image/jpeg:https://mustique.life/wp-content/uploads/2022/12/Tennis-Lessons.jpg
END:VEVENT
BEGIN:VEVENT
DTSTART;TZID=America/St_Vincent:20260813T070000
DTEND;TZID=America/St_Vincent:20260813T190000
DTSTAMP:20260419T163958
CREATED:20251222T123041Z
LAST-MODIFIED:20260416T155054Z
UID:10023633-1786604400-1786647600@mustique.life
SUMMARY:Private Personal Training and Yoga
DESCRIPTION:ALL BOOKINGS FOR GYM TIME SLOTS\, PRIVATE SESSIONS AND CLASSES MUST BE MADE IN ADVANCE BY CALLING EXT: 8920 OR BY EMAIL: YOGAFITNESS@COTTONHOUSE.NET
URL:https://mustique.life/event/private-personal-training-and-yoga/2026-08-13/
LOCATION:Gym Studio\, Saint Vincent and The Grenadines
CATEGORIES:Sport / Wellness
ATTACH;FMTTYPE=image/jpeg:https://mustique.life/wp-content/uploads/2024/03/Gentle-Yoga_GymStudio.jpg
END:VEVENT
BEGIN:VEVENT
DTSTART;TZID=America/St_Vincent:20260813T080000
DTEND;TZID=America/St_Vincent:20260813T103000
DTSTAMP:20260419T163958
CREATED:20260402T164229Z
LAST-MODIFIED:20260402T165847Z
UID:10019854-1786608000-1786617000@mustique.life
SUMMARY:Horse Riding
DESCRIPTION:Experience Mustique in an exhilarating way. The Equestrian Centre has horses and ponies to suit all ages\nand levels of experience\, with qualified riding instructors offering a range of trail rides\, pony camps\nand lessons (maximum weight limit is 198lbs/90kg). \nTo book\, please email the Equestrian Centre team at equestrian@mustique.vc or call ext.8316 . \n  \n  \n 
URL:https://mustique.life/event/horse-riding-2-3/2026-08-13/
LOCATION:Equestrian Centre
CATEGORIES:Sport / Wellness
ATTACH;FMTTYPE=image/jpeg:https://mustique.life/wp-content/uploads/2023/01/Horse-Riding.jpg
END:VEVENT
BEGIN:VEVENT
DTSTART;TZID=America/St_Vincent:20260813T140000
DTEND;TZID=America/St_Vincent:20260813T160000
DTSTAMP:20260419T163958
CREATED:20251003T033102Z
LAST-MODIFIED:20251006T123444Z
UID:10014301-1786629600-1786636800@mustique.life
SUMMARY:Snorkeling with Green Sea Turtles
DESCRIPTION:Come face to face with Mustique’s resident Green sea turtles in their natural habitat in front of Basil’s Bar. A member of the Watersports team will accompany you\,\nsharing fun facts about sea turtles and other ocean creatures along the way. \nPlease note that sea turtles are wild animals and sightings are not guaranteed\, please also do not chase or scare them. \nWhen? Every Tuesday & Thursday 14:00 – 16:00\nHow much? $50 pp (minimum 4 pax) \nTo book please contact watersports@mustique.vc \nIf you would like to personalise this experience and explore other areas of Mustique with your own private guide\, please contact watersports@mustique.vc. \nPlease note that additional fees apply
URL:https://mustique.life/event/__trashed-13/2026-08-13/
LOCATION:Britannia Bay
CATEGORIES:Sport / Wellness
ATTACH;FMTTYPE=image/jpeg:https://mustique.life/wp-content/uploads/2022/12/Turtles-MUSTIQUE-16.08.2019-20.jpg
END:VEVENT
BEGIN:VEVENT
DTSTART;TZID=America/St_Vincent:20260813T140000
DTEND;TZID=America/St_Vincent:20260813T160000
DTSTAMP:20260419T163958
CREATED:20251006T123022Z
LAST-MODIFIED:20251006T123245Z
UID:10014203-1786629600-1786636800@mustique.life
SUMMARY:Discover Scuba Diving
DESCRIPTION:This is the perfect introductory session for those who have never tried scuba diving before (from 10 years old)\,or for those who are not yet certified. Includes a basic theory session with an instructor\, followed by a shallow dive on our spectacular Cotton House reef. \nIf you find that you’ve taken to diving like a ‘fish to water’\, subsequent dives can be arranged. The maximum depth for the first and all subsequent dives is 12 metres/40 feet. \nWhen? 2pm daily with a prior reservation (approx. 2 hours)\nPrice? $150 \nTo book\, or to organise this on a private basis\, please contact watersports@mustique.vc
URL:https://mustique.life/event/discover-scuba-diving-2-2/2026-08-13/
LOCATION:Watersports
CATEGORIES:Sport / Wellness
ATTACH;FMTTYPE=image/jpeg:https://mustique.life/wp-content/uploads/2022/12/Diving.jpg
END:VEVENT
BEGIN:VEVENT
DTSTART;TZID=America/St_Vincent:20260813T153000
DTEND;TZID=America/St_Vincent:20260813T173000
DTSTAMP:20260419T163958
CREATED:20260402T165703Z
LAST-MODIFIED:20260402T165953Z
UID:10021805-1786635000-1786642200@mustique.life
SUMMARY:Horse Riding
DESCRIPTION:Experience Mustique in an exhilarating way. The Equestrian Centre has horses and ponies to suit all ages\nand levels of experience\, with qualified riding instructors offering a range of trail rides\, pony camps\nand lessons (maximum weight limit is 198lbs/90kg). \nTo book\, please email the Equestrian Centre team at equestrian@mustique.vc or call ext.8316 . \n  \n  \n 
URL:https://mustique.life/event/horse-riding-3-2-2/2026-08-13/
LOCATION:Equestrian Centre
CATEGORIES:Sport / Wellness
ATTACH;FMTTYPE=image/jpeg:https://mustique.life/wp-content/uploads/2023/01/Horse-Riding.jpg
END:VEVENT
BEGIN:VEVENT
DTSTART;TZID=America/St_Vincent:20260814T060000
DTEND;TZID=America/St_Vincent:20260814T200000
DTSTAMP:20260419T163958
CREATED:20251003T132525Z
LAST-MODIFIED:20251003T132800Z
UID:10013878-1786687200-1786737600@mustique.life
SUMMARY:Private Tennis Lessons
DESCRIPTION:Private Lessons can be booked from 6am to 8pm daily \nFor bookings \ninfo@mustiquetennis.com \next. 8315 /8818 \n  \n 
URL:https://mustique.life/event/private-tennis-lessons/2026-08-14/
LOCATION:Tennis Club
CATEGORIES:Sport / Wellness
ATTACH;FMTTYPE=image/jpeg:https://mustique.life/wp-content/uploads/2022/12/Tennis-Lessons.jpg
END:VEVENT
BEGIN:VEVENT
DTSTART;TZID=America/St_Vincent:20260814T070000
DTEND;TZID=America/St_Vincent:20260814T190000
DTSTAMP:20260419T163958
CREATED:20251222T123041Z
LAST-MODIFIED:20260416T155054Z
UID:10023634-1786690800-1786734000@mustique.life
SUMMARY:Private Personal Training and Yoga
DESCRIPTION:ALL BOOKINGS FOR GYM TIME SLOTS\, PRIVATE SESSIONS AND CLASSES MUST BE MADE IN ADVANCE BY CALLING EXT: 8920 OR BY EMAIL: YOGAFITNESS@COTTONHOUSE.NET
URL:https://mustique.life/event/private-personal-training-and-yoga/2026-08-14/
LOCATION:Gym Studio\, Saint Vincent and The Grenadines
CATEGORIES:Sport / Wellness
ATTACH;FMTTYPE=image/jpeg:https://mustique.life/wp-content/uploads/2024/03/Gentle-Yoga_GymStudio.jpg
END:VEVENT
BEGIN:VEVENT
DTSTART;TZID=America/St_Vincent:20260814T080000
DTEND;TZID=America/St_Vincent:20260814T103000
DTSTAMP:20260419T163958
CREATED:20260402T164229Z
LAST-MODIFIED:20260402T165847Z
UID:10019855-1786694400-1786703400@mustique.life
SUMMARY:Horse Riding
DESCRIPTION:Experience Mustique in an exhilarating way. The Equestrian Centre has horses and ponies to suit all ages\nand levels of experience\, with qualified riding instructors offering a range of trail rides\, pony camps\nand lessons (maximum weight limit is 198lbs/90kg). \nTo book\, please email the Equestrian Centre team at equestrian@mustique.vc or call ext.8316 . \n  \n  \n 
URL:https://mustique.life/event/horse-riding-2-3/2026-08-14/
LOCATION:Equestrian Centre
CATEGORIES:Sport / Wellness
ATTACH;FMTTYPE=image/jpeg:https://mustique.life/wp-content/uploads/2023/01/Horse-Riding.jpg
END:VEVENT
BEGIN:VEVENT
DTSTART;TZID=America/St_Vincent:20260814T140000
DTEND;TZID=America/St_Vincent:20260814T160000
DTSTAMP:20260419T163958
CREATED:20251006T123022Z
LAST-MODIFIED:20251006T123245Z
UID:10014204-1786716000-1786723200@mustique.life
SUMMARY:Discover Scuba Diving
DESCRIPTION:This is the perfect introductory session for those who have never tried scuba diving before (from 10 years old)\,or for those who are not yet certified. Includes a basic theory session with an instructor\, followed by a shallow dive on our spectacular Cotton House reef. \nIf you find that you’ve taken to diving like a ‘fish to water’\, subsequent dives can be arranged. The maximum depth for the first and all subsequent dives is 12 metres/40 feet. \nWhen? 2pm daily with a prior reservation (approx. 2 hours)\nPrice? $150 \nTo book\, or to organise this on a private basis\, please contact watersports@mustique.vc
URL:https://mustique.life/event/discover-scuba-diving-2-2/2026-08-14/
LOCATION:Watersports
CATEGORIES:Sport / Wellness
ATTACH;FMTTYPE=image/jpeg:https://mustique.life/wp-content/uploads/2022/12/Diving.jpg
END:VEVENT
BEGIN:VEVENT
DTSTART;TZID=America/St_Vincent:20260814T153000
DTEND;TZID=America/St_Vincent:20260814T173000
DTSTAMP:20260419T163958
CREATED:20260402T165703Z
LAST-MODIFIED:20260402T165953Z
UID:10021806-1786721400-1786728600@mustique.life
SUMMARY:Horse Riding
DESCRIPTION:Experience Mustique in an exhilarating way. The Equestrian Centre has horses and ponies to suit all ages\nand levels of experience\, with qualified riding instructors offering a range of trail rides\, pony camps\nand lessons (maximum weight limit is 198lbs/90kg). \nTo book\, please email the Equestrian Centre team at equestrian@mustique.vc or call ext.8316 . \n  \n  \n 
URL:https://mustique.life/event/horse-riding-3-2-2/2026-08-14/
LOCATION:Equestrian Centre
CATEGORIES:Sport / Wellness
ATTACH;FMTTYPE=image/jpeg:https://mustique.life/wp-content/uploads/2023/01/Horse-Riding.jpg
END:VEVENT
BEGIN:VEVENT
DTSTART;TZID=America/St_Vincent:20260815T060000
DTEND;TZID=America/St_Vincent:20260815T200000
DTSTAMP:20260419T163958
CREATED:20251003T132525Z
LAST-MODIFIED:20251003T132800Z
UID:10013879-1786773600-1786824000@mustique.life
SUMMARY:Private Tennis Lessons
DESCRIPTION:Private Lessons can be booked from 6am to 8pm daily \nFor bookings \ninfo@mustiquetennis.com \next. 8315 /8818 \n  \n 
URL:https://mustique.life/event/private-tennis-lessons/2026-08-15/
LOCATION:Tennis Club
CATEGORIES:Sport / Wellness
ATTACH;FMTTYPE=image/jpeg:https://mustique.life/wp-content/uploads/2022/12/Tennis-Lessons.jpg
END:VEVENT
BEGIN:VEVENT
DTSTART;TZID=America/St_Vincent:20260815T070000
DTEND;TZID=America/St_Vincent:20260815T190000
DTSTAMP:20260419T163958
CREATED:20251222T123041Z
LAST-MODIFIED:20260416T155054Z
UID:10023635-1786777200-1786820400@mustique.life
SUMMARY:Private Personal Training and Yoga
DESCRIPTION:ALL BOOKINGS FOR GYM TIME SLOTS\, PRIVATE SESSIONS AND CLASSES MUST BE MADE IN ADVANCE BY CALLING EXT: 8920 OR BY EMAIL: YOGAFITNESS@COTTONHOUSE.NET
URL:https://mustique.life/event/private-personal-training-and-yoga/2026-08-15/
LOCATION:Gym Studio\, Saint Vincent and The Grenadines
CATEGORIES:Sport / Wellness
ATTACH;FMTTYPE=image/jpeg:https://mustique.life/wp-content/uploads/2024/03/Gentle-Yoga_GymStudio.jpg
END:VEVENT
BEGIN:VEVENT
DTSTART;TZID=America/St_Vincent:20260815T080000
DTEND;TZID=America/St_Vincent:20260815T103000
DTSTAMP:20260419T163958
CREATED:20260402T164229Z
LAST-MODIFIED:20260402T165847Z
UID:10019856-1786780800-1786789800@mustique.life
SUMMARY:Horse Riding
DESCRIPTION:Experience Mustique in an exhilarating way. The Equestrian Centre has horses and ponies to suit all ages\nand levels of experience\, with qualified riding instructors offering a range of trail rides\, pony camps\nand lessons (maximum weight limit is 198lbs/90kg). \nTo book\, please email the Equestrian Centre team at equestrian@mustique.vc or call ext.8316 . \n  \n  \n 
URL:https://mustique.life/event/horse-riding-2-3/2026-08-15/
LOCATION:Equestrian Centre
CATEGORIES:Sport / Wellness
ATTACH;FMTTYPE=image/jpeg:https://mustique.life/wp-content/uploads/2023/01/Horse-Riding.jpg
END:VEVENT
END:VCALENDAR