BEGIN:VCALENDAR
VERSION:2.0
PRODID:-//Mustique Events - Calendar - ECPv6.15.17.1//NONSGML v1.0//EN
CALSCALE:GREGORIAN
METHOD:PUBLISH
X-ORIGINAL-URL:https://mustique.life
X-WR-CALDESC:Events for Mustique Events - Calendar
REFRESH-INTERVAL;VALUE=DURATION:PT1H
X-Robots-Tag:noindex
X-PUBLISHED-TTL:PT1H
BEGIN:VTIMEZONE
TZID:America/St_Vincent
BEGIN:STANDARD
TZOFFSETFROM:-0400
TZOFFSETTO:-0400
TZNAME:AST
DTSTART:20280101T000000
END:STANDARD
END:VTIMEZONE
BEGIN:VEVENT
DTSTART;TZID=America/St_Vincent:20290719T080000
DTEND;TZID=America/St_Vincent:20290719T103000
DTSTAMP:20260420T094632
CREATED:20260402T164229Z
LAST-MODIFIED:20260402T165847Z
UID:10020925-1879142400-1879151400@mustique.life
SUMMARY:Horse Riding
DESCRIPTION:Experience Mustique in an exhilarating way. The Equestrian Centre has horses and ponies to suit all ages\nand levels of experience\, with qualified riding instructors offering a range of trail rides\, pony camps\nand lessons (maximum weight limit is 198lbs/90kg). \nTo book\, please email the Equestrian Centre team at equestrian@mustique.vc or call ext.8316 . \n  \n  \n 
URL:https://mustique.life/event/horse-riding-2-3/2029-07-19/
LOCATION:Equestrian Centre
CATEGORIES:Sport / Wellness
ATTACH;FMTTYPE=image/jpeg:https://mustique.life/wp-content/uploads/2023/01/Horse-Riding.jpg
END:VEVENT
BEGIN:VEVENT
DTSTART;TZID=America/St_Vincent:20290719T153000
DTEND;TZID=America/St_Vincent:20290719T173000
DTSTAMP:20260420T094632
CREATED:20260402T165703Z
LAST-MODIFIED:20260402T165953Z
UID:10022876-1879169400-1879176600@mustique.life
SUMMARY:Horse Riding
DESCRIPTION:Experience Mustique in an exhilarating way. The Equestrian Centre has horses and ponies to suit all ages\nand levels of experience\, with qualified riding instructors offering a range of trail rides\, pony camps\nand lessons (maximum weight limit is 198lbs/90kg). \nTo book\, please email the Equestrian Centre team at equestrian@mustique.vc or call ext.8316 . \n  \n  \n 
URL:https://mustique.life/event/horse-riding-3-2-2/2029-07-19/
LOCATION:Equestrian Centre
CATEGORIES:Sport / Wellness
ATTACH;FMTTYPE=image/jpeg:https://mustique.life/wp-content/uploads/2023/01/Horse-Riding.jpg
END:VEVENT
BEGIN:VEVENT
DTSTART;TZID=America/St_Vincent:20290720T080000
DTEND;TZID=America/St_Vincent:20290720T103000
DTSTAMP:20260420T094632
CREATED:20260402T164229Z
LAST-MODIFIED:20260402T165847Z
UID:10020926-1879228800-1879237800@mustique.life
SUMMARY:Horse Riding
DESCRIPTION:Experience Mustique in an exhilarating way. The Equestrian Centre has horses and ponies to suit all ages\nand levels of experience\, with qualified riding instructors offering a range of trail rides\, pony camps\nand lessons (maximum weight limit is 198lbs/90kg). \nTo book\, please email the Equestrian Centre team at equestrian@mustique.vc or call ext.8316 . \n  \n  \n 
URL:https://mustique.life/event/horse-riding-2-3/2029-07-20/
LOCATION:Equestrian Centre
CATEGORIES:Sport / Wellness
ATTACH;FMTTYPE=image/jpeg:https://mustique.life/wp-content/uploads/2023/01/Horse-Riding.jpg
END:VEVENT
BEGIN:VEVENT
DTSTART;TZID=America/St_Vincent:20290720T153000
DTEND;TZID=America/St_Vincent:20290720T173000
DTSTAMP:20260420T094632
CREATED:20260402T165703Z
LAST-MODIFIED:20260402T165953Z
UID:10022877-1879255800-1879263000@mustique.life
SUMMARY:Horse Riding
DESCRIPTION:Experience Mustique in an exhilarating way. The Equestrian Centre has horses and ponies to suit all ages\nand levels of experience\, with qualified riding instructors offering a range of trail rides\, pony camps\nand lessons (maximum weight limit is 198lbs/90kg). \nTo book\, please email the Equestrian Centre team at equestrian@mustique.vc or call ext.8316 . \n  \n  \n 
URL:https://mustique.life/event/horse-riding-3-2-2/2029-07-20/
LOCATION:Equestrian Centre
CATEGORIES:Sport / Wellness
ATTACH;FMTTYPE=image/jpeg:https://mustique.life/wp-content/uploads/2023/01/Horse-Riding.jpg
END:VEVENT
BEGIN:VEVENT
DTSTART;TZID=America/St_Vincent:20290721T080000
DTEND;TZID=America/St_Vincent:20290721T103000
DTSTAMP:20260420T094632
CREATED:20260402T164229Z
LAST-MODIFIED:20260402T165847Z
UID:10020927-1879315200-1879324200@mustique.life
SUMMARY:Horse Riding
DESCRIPTION:Experience Mustique in an exhilarating way. The Equestrian Centre has horses and ponies to suit all ages\nand levels of experience\, with qualified riding instructors offering a range of trail rides\, pony camps\nand lessons (maximum weight limit is 198lbs/90kg). \nTo book\, please email the Equestrian Centre team at equestrian@mustique.vc or call ext.8316 . \n  \n  \n 
URL:https://mustique.life/event/horse-riding-2-3/2029-07-21/
LOCATION:Equestrian Centre
CATEGORIES:Sport / Wellness
ATTACH;FMTTYPE=image/jpeg:https://mustique.life/wp-content/uploads/2023/01/Horse-Riding.jpg
END:VEVENT
BEGIN:VEVENT
DTSTART;TZID=America/St_Vincent:20290721T153000
DTEND;TZID=America/St_Vincent:20290721T173000
DTSTAMP:20260420T094632
CREATED:20260402T165703Z
LAST-MODIFIED:20260402T165953Z
UID:10022878-1879342200-1879349400@mustique.life
SUMMARY:Horse Riding
DESCRIPTION:Experience Mustique in an exhilarating way. The Equestrian Centre has horses and ponies to suit all ages\nand levels of experience\, with qualified riding instructors offering a range of trail rides\, pony camps\nand lessons (maximum weight limit is 198lbs/90kg). \nTo book\, please email the Equestrian Centre team at equestrian@mustique.vc or call ext.8316 . \n  \n  \n 
URL:https://mustique.life/event/horse-riding-3-2-2/2029-07-21/
LOCATION:Equestrian Centre
CATEGORIES:Sport / Wellness
ATTACH;FMTTYPE=image/jpeg:https://mustique.life/wp-content/uploads/2023/01/Horse-Riding.jpg
END:VEVENT
BEGIN:VEVENT
DTSTART;TZID=America/St_Vincent:20290722T080000
DTEND;TZID=America/St_Vincent:20290722T103000
DTSTAMP:20260420T094632
CREATED:20260402T164229Z
LAST-MODIFIED:20260402T165847Z
UID:10020928-1879401600-1879410600@mustique.life
SUMMARY:Horse Riding
DESCRIPTION:Experience Mustique in an exhilarating way. The Equestrian Centre has horses and ponies to suit all ages\nand levels of experience\, with qualified riding instructors offering a range of trail rides\, pony camps\nand lessons (maximum weight limit is 198lbs/90kg). \nTo book\, please email the Equestrian Centre team at equestrian@mustique.vc or call ext.8316 . \n  \n  \n 
URL:https://mustique.life/event/horse-riding-2-3/2029-07-22/
LOCATION:Equestrian Centre
CATEGORIES:Sport / Wellness
ATTACH;FMTTYPE=image/jpeg:https://mustique.life/wp-content/uploads/2023/01/Horse-Riding.jpg
END:VEVENT
BEGIN:VEVENT
DTSTART;TZID=America/St_Vincent:20290722T153000
DTEND;TZID=America/St_Vincent:20290722T173000
DTSTAMP:20260420T094632
CREATED:20260402T165703Z
LAST-MODIFIED:20260402T165953Z
UID:10022879-1879428600-1879435800@mustique.life
SUMMARY:Horse Riding
DESCRIPTION:Experience Mustique in an exhilarating way. The Equestrian Centre has horses and ponies to suit all ages\nand levels of experience\, with qualified riding instructors offering a range of trail rides\, pony camps\nand lessons (maximum weight limit is 198lbs/90kg). \nTo book\, please email the Equestrian Centre team at equestrian@mustique.vc or call ext.8316 . \n  \n  \n 
URL:https://mustique.life/event/horse-riding-3-2-2/2029-07-22/
LOCATION:Equestrian Centre
CATEGORIES:Sport / Wellness
ATTACH;FMTTYPE=image/jpeg:https://mustique.life/wp-content/uploads/2023/01/Horse-Riding.jpg
END:VEVENT
BEGIN:VEVENT
DTSTART;TZID=America/St_Vincent:20290723T080000
DTEND;TZID=America/St_Vincent:20290723T103000
DTSTAMP:20260420T094632
CREATED:20260402T164229Z
LAST-MODIFIED:20260402T165847Z
UID:10020929-1879488000-1879497000@mustique.life
SUMMARY:Horse Riding
DESCRIPTION:Experience Mustique in an exhilarating way. The Equestrian Centre has horses and ponies to suit all ages\nand levels of experience\, with qualified riding instructors offering a range of trail rides\, pony camps\nand lessons (maximum weight limit is 198lbs/90kg). \nTo book\, please email the Equestrian Centre team at equestrian@mustique.vc or call ext.8316 . \n  \n  \n 
URL:https://mustique.life/event/horse-riding-2-3/2029-07-23/
LOCATION:Equestrian Centre
CATEGORIES:Sport / Wellness
ATTACH;FMTTYPE=image/jpeg:https://mustique.life/wp-content/uploads/2023/01/Horse-Riding.jpg
END:VEVENT
BEGIN:VEVENT
DTSTART;TZID=America/St_Vincent:20290723T153000
DTEND;TZID=America/St_Vincent:20290723T173000
DTSTAMP:20260420T094632
CREATED:20260402T165703Z
LAST-MODIFIED:20260402T165953Z
UID:10022880-1879515000-1879522200@mustique.life
SUMMARY:Horse Riding
DESCRIPTION:Experience Mustique in an exhilarating way. The Equestrian Centre has horses and ponies to suit all ages\nand levels of experience\, with qualified riding instructors offering a range of trail rides\, pony camps\nand lessons (maximum weight limit is 198lbs/90kg). \nTo book\, please email the Equestrian Centre team at equestrian@mustique.vc or call ext.8316 . \n  \n  \n 
URL:https://mustique.life/event/horse-riding-3-2-2/2029-07-23/
LOCATION:Equestrian Centre
CATEGORIES:Sport / Wellness
ATTACH;FMTTYPE=image/jpeg:https://mustique.life/wp-content/uploads/2023/01/Horse-Riding.jpg
END:VEVENT
BEGIN:VEVENT
DTSTART;TZID=America/St_Vincent:20290724T080000
DTEND;TZID=America/St_Vincent:20290724T103000
DTSTAMP:20260420T094632
CREATED:20260402T164229Z
LAST-MODIFIED:20260402T165847Z
UID:10020930-1879574400-1879583400@mustique.life
SUMMARY:Horse Riding
DESCRIPTION:Experience Mustique in an exhilarating way. The Equestrian Centre has horses and ponies to suit all ages\nand levels of experience\, with qualified riding instructors offering a range of trail rides\, pony camps\nand lessons (maximum weight limit is 198lbs/90kg). \nTo book\, please email the Equestrian Centre team at equestrian@mustique.vc or call ext.8316 . \n  \n  \n 
URL:https://mustique.life/event/horse-riding-2-3/2029-07-24/
LOCATION:Equestrian Centre
CATEGORIES:Sport / Wellness
ATTACH;FMTTYPE=image/jpeg:https://mustique.life/wp-content/uploads/2023/01/Horse-Riding.jpg
END:VEVENT
BEGIN:VEVENT
DTSTART;TZID=America/St_Vincent:20290724T153000
DTEND;TZID=America/St_Vincent:20290724T173000
DTSTAMP:20260420T094632
CREATED:20260402T165703Z
LAST-MODIFIED:20260402T165953Z
UID:10022881-1879601400-1879608600@mustique.life
SUMMARY:Horse Riding
DESCRIPTION:Experience Mustique in an exhilarating way. The Equestrian Centre has horses and ponies to suit all ages\nand levels of experience\, with qualified riding instructors offering a range of trail rides\, pony camps\nand lessons (maximum weight limit is 198lbs/90kg). \nTo book\, please email the Equestrian Centre team at equestrian@mustique.vc or call ext.8316 . \n  \n  \n 
URL:https://mustique.life/event/horse-riding-3-2-2/2029-07-24/
LOCATION:Equestrian Centre
CATEGORIES:Sport / Wellness
ATTACH;FMTTYPE=image/jpeg:https://mustique.life/wp-content/uploads/2023/01/Horse-Riding.jpg
END:VEVENT
BEGIN:VEVENT
DTSTART;TZID=America/St_Vincent:20290725T080000
DTEND;TZID=America/St_Vincent:20290725T103000
DTSTAMP:20260420T094632
CREATED:20260402T164229Z
LAST-MODIFIED:20260402T165847Z
UID:10020931-1879660800-1879669800@mustique.life
SUMMARY:Horse Riding
DESCRIPTION:Experience Mustique in an exhilarating way. The Equestrian Centre has horses and ponies to suit all ages\nand levels of experience\, with qualified riding instructors offering a range of trail rides\, pony camps\nand lessons (maximum weight limit is 198lbs/90kg). \nTo book\, please email the Equestrian Centre team at equestrian@mustique.vc or call ext.8316 . \n  \n  \n 
URL:https://mustique.life/event/horse-riding-2-3/2029-07-25/
LOCATION:Equestrian Centre
CATEGORIES:Sport / Wellness
ATTACH;FMTTYPE=image/jpeg:https://mustique.life/wp-content/uploads/2023/01/Horse-Riding.jpg
END:VEVENT
BEGIN:VEVENT
DTSTART;TZID=America/St_Vincent:20290725T153000
DTEND;TZID=America/St_Vincent:20290725T173000
DTSTAMP:20260420T094632
CREATED:20260402T165703Z
LAST-MODIFIED:20260402T165953Z
UID:10022882-1879687800-1879695000@mustique.life
SUMMARY:Horse Riding
DESCRIPTION:Experience Mustique in an exhilarating way. The Equestrian Centre has horses and ponies to suit all ages\nand levels of experience\, with qualified riding instructors offering a range of trail rides\, pony camps\nand lessons (maximum weight limit is 198lbs/90kg). \nTo book\, please email the Equestrian Centre team at equestrian@mustique.vc or call ext.8316 . \n  \n  \n 
URL:https://mustique.life/event/horse-riding-3-2-2/2029-07-25/
LOCATION:Equestrian Centre
CATEGORIES:Sport / Wellness
ATTACH;FMTTYPE=image/jpeg:https://mustique.life/wp-content/uploads/2023/01/Horse-Riding.jpg
END:VEVENT
BEGIN:VEVENT
DTSTART;TZID=America/St_Vincent:20290726T080000
DTEND;TZID=America/St_Vincent:20290726T103000
DTSTAMP:20260420T094632
CREATED:20260402T164229Z
LAST-MODIFIED:20260402T165847Z
UID:10020932-1879747200-1879756200@mustique.life
SUMMARY:Horse Riding
DESCRIPTION:Experience Mustique in an exhilarating way. The Equestrian Centre has horses and ponies to suit all ages\nand levels of experience\, with qualified riding instructors offering a range of trail rides\, pony camps\nand lessons (maximum weight limit is 198lbs/90kg). \nTo book\, please email the Equestrian Centre team at equestrian@mustique.vc or call ext.8316 . \n  \n  \n 
URL:https://mustique.life/event/horse-riding-2-3/2029-07-26/
LOCATION:Equestrian Centre
CATEGORIES:Sport / Wellness
ATTACH;FMTTYPE=image/jpeg:https://mustique.life/wp-content/uploads/2023/01/Horse-Riding.jpg
END:VEVENT
BEGIN:VEVENT
DTSTART;TZID=America/St_Vincent:20290726T153000
DTEND;TZID=America/St_Vincent:20290726T173000
DTSTAMP:20260420T094632
CREATED:20260402T165703Z
LAST-MODIFIED:20260402T165953Z
UID:10022883-1879774200-1879781400@mustique.life
SUMMARY:Horse Riding
DESCRIPTION:Experience Mustique in an exhilarating way. The Equestrian Centre has horses and ponies to suit all ages\nand levels of experience\, with qualified riding instructors offering a range of trail rides\, pony camps\nand lessons (maximum weight limit is 198lbs/90kg). \nTo book\, please email the Equestrian Centre team at equestrian@mustique.vc or call ext.8316 . \n  \n  \n 
URL:https://mustique.life/event/horse-riding-3-2-2/2029-07-26/
LOCATION:Equestrian Centre
CATEGORIES:Sport / Wellness
ATTACH;FMTTYPE=image/jpeg:https://mustique.life/wp-content/uploads/2023/01/Horse-Riding.jpg
END:VEVENT
BEGIN:VEVENT
DTSTART;TZID=America/St_Vincent:20290727T080000
DTEND;TZID=America/St_Vincent:20290727T103000
DTSTAMP:20260420T094632
CREATED:20260402T164229Z
LAST-MODIFIED:20260402T165847Z
UID:10020933-1879833600-1879842600@mustique.life
SUMMARY:Horse Riding
DESCRIPTION:Experience Mustique in an exhilarating way. The Equestrian Centre has horses and ponies to suit all ages\nand levels of experience\, with qualified riding instructors offering a range of trail rides\, pony camps\nand lessons (maximum weight limit is 198lbs/90kg). \nTo book\, please email the Equestrian Centre team at equestrian@mustique.vc or call ext.8316 . \n  \n  \n 
URL:https://mustique.life/event/horse-riding-2-3/2029-07-27/
LOCATION:Equestrian Centre
CATEGORIES:Sport / Wellness
ATTACH;FMTTYPE=image/jpeg:https://mustique.life/wp-content/uploads/2023/01/Horse-Riding.jpg
END:VEVENT
BEGIN:VEVENT
DTSTART;TZID=America/St_Vincent:20290727T153000
DTEND;TZID=America/St_Vincent:20290727T173000
DTSTAMP:20260420T094632
CREATED:20260402T165703Z
LAST-MODIFIED:20260402T165953Z
UID:10022884-1879860600-1879867800@mustique.life
SUMMARY:Horse Riding
DESCRIPTION:Experience Mustique in an exhilarating way. The Equestrian Centre has horses and ponies to suit all ages\nand levels of experience\, with qualified riding instructors offering a range of trail rides\, pony camps\nand lessons (maximum weight limit is 198lbs/90kg). \nTo book\, please email the Equestrian Centre team at equestrian@mustique.vc or call ext.8316 . \n  \n  \n 
URL:https://mustique.life/event/horse-riding-3-2-2/2029-07-27/
LOCATION:Equestrian Centre
CATEGORIES:Sport / Wellness
ATTACH;FMTTYPE=image/jpeg:https://mustique.life/wp-content/uploads/2023/01/Horse-Riding.jpg
END:VEVENT
BEGIN:VEVENT
DTSTART;TZID=America/St_Vincent:20290728T080000
DTEND;TZID=America/St_Vincent:20290728T103000
DTSTAMP:20260420T094632
CREATED:20260402T164229Z
LAST-MODIFIED:20260402T165847Z
UID:10020934-1879920000-1879929000@mustique.life
SUMMARY:Horse Riding
DESCRIPTION:Experience Mustique in an exhilarating way. The Equestrian Centre has horses and ponies to suit all ages\nand levels of experience\, with qualified riding instructors offering a range of trail rides\, pony camps\nand lessons (maximum weight limit is 198lbs/90kg). \nTo book\, please email the Equestrian Centre team at equestrian@mustique.vc or call ext.8316 . \n  \n  \n 
URL:https://mustique.life/event/horse-riding-2-3/2029-07-28/
LOCATION:Equestrian Centre
CATEGORIES:Sport / Wellness
ATTACH;FMTTYPE=image/jpeg:https://mustique.life/wp-content/uploads/2023/01/Horse-Riding.jpg
END:VEVENT
BEGIN:VEVENT
DTSTART;TZID=America/St_Vincent:20290728T153000
DTEND;TZID=America/St_Vincent:20290728T173000
DTSTAMP:20260420T094632
CREATED:20260402T165703Z
LAST-MODIFIED:20260402T165953Z
UID:10022885-1879947000-1879954200@mustique.life
SUMMARY:Horse Riding
DESCRIPTION:Experience Mustique in an exhilarating way. The Equestrian Centre has horses and ponies to suit all ages\nand levels of experience\, with qualified riding instructors offering a range of trail rides\, pony camps\nand lessons (maximum weight limit is 198lbs/90kg). \nTo book\, please email the Equestrian Centre team at equestrian@mustique.vc or call ext.8316 . \n  \n  \n 
URL:https://mustique.life/event/horse-riding-3-2-2/2029-07-28/
LOCATION:Equestrian Centre
CATEGORIES:Sport / Wellness
ATTACH;FMTTYPE=image/jpeg:https://mustique.life/wp-content/uploads/2023/01/Horse-Riding.jpg
END:VEVENT
BEGIN:VEVENT
DTSTART;TZID=America/St_Vincent:20290729T080000
DTEND;TZID=America/St_Vincent:20290729T103000
DTSTAMP:20260420T094632
CREATED:20260402T164229Z
LAST-MODIFIED:20260402T165847Z
UID:10020935-1880006400-1880015400@mustique.life
SUMMARY:Horse Riding
DESCRIPTION:Experience Mustique in an exhilarating way. The Equestrian Centre has horses and ponies to suit all ages\nand levels of experience\, with qualified riding instructors offering a range of trail rides\, pony camps\nand lessons (maximum weight limit is 198lbs/90kg). \nTo book\, please email the Equestrian Centre team at equestrian@mustique.vc or call ext.8316 . \n  \n  \n 
URL:https://mustique.life/event/horse-riding-2-3/2029-07-29/
LOCATION:Equestrian Centre
CATEGORIES:Sport / Wellness
ATTACH;FMTTYPE=image/jpeg:https://mustique.life/wp-content/uploads/2023/01/Horse-Riding.jpg
END:VEVENT
BEGIN:VEVENT
DTSTART;TZID=America/St_Vincent:20290729T153000
DTEND;TZID=America/St_Vincent:20290729T173000
DTSTAMP:20260420T094632
CREATED:20260402T165703Z
LAST-MODIFIED:20260402T165953Z
UID:10022886-1880033400-1880040600@mustique.life
SUMMARY:Horse Riding
DESCRIPTION:Experience Mustique in an exhilarating way. The Equestrian Centre has horses and ponies to suit all ages\nand levels of experience\, with qualified riding instructors offering a range of trail rides\, pony camps\nand lessons (maximum weight limit is 198lbs/90kg). \nTo book\, please email the Equestrian Centre team at equestrian@mustique.vc or call ext.8316 . \n  \n  \n 
URL:https://mustique.life/event/horse-riding-3-2-2/2029-07-29/
LOCATION:Equestrian Centre
CATEGORIES:Sport / Wellness
ATTACH;FMTTYPE=image/jpeg:https://mustique.life/wp-content/uploads/2023/01/Horse-Riding.jpg
END:VEVENT
BEGIN:VEVENT
DTSTART;TZID=America/St_Vincent:20290730T080000
DTEND;TZID=America/St_Vincent:20290730T103000
DTSTAMP:20260420T094632
CREATED:20260402T164229Z
LAST-MODIFIED:20260402T165847Z
UID:10020936-1880092800-1880101800@mustique.life
SUMMARY:Horse Riding
DESCRIPTION:Experience Mustique in an exhilarating way. The Equestrian Centre has horses and ponies to suit all ages\nand levels of experience\, with qualified riding instructors offering a range of trail rides\, pony camps\nand lessons (maximum weight limit is 198lbs/90kg). \nTo book\, please email the Equestrian Centre team at equestrian@mustique.vc or call ext.8316 . \n  \n  \n 
URL:https://mustique.life/event/horse-riding-2-3/2029-07-30/
LOCATION:Equestrian Centre
CATEGORIES:Sport / Wellness
ATTACH;FMTTYPE=image/jpeg:https://mustique.life/wp-content/uploads/2023/01/Horse-Riding.jpg
END:VEVENT
BEGIN:VEVENT
DTSTART;TZID=America/St_Vincent:20290730T153000
DTEND;TZID=America/St_Vincent:20290730T173000
DTSTAMP:20260420T094632
CREATED:20260402T165703Z
LAST-MODIFIED:20260402T165953Z
UID:10022887-1880119800-1880127000@mustique.life
SUMMARY:Horse Riding
DESCRIPTION:Experience Mustique in an exhilarating way. The Equestrian Centre has horses and ponies to suit all ages\nand levels of experience\, with qualified riding instructors offering a range of trail rides\, pony camps\nand lessons (maximum weight limit is 198lbs/90kg). \nTo book\, please email the Equestrian Centre team at equestrian@mustique.vc or call ext.8316 . \n  \n  \n 
URL:https://mustique.life/event/horse-riding-3-2-2/2029-07-30/
LOCATION:Equestrian Centre
CATEGORIES:Sport / Wellness
ATTACH;FMTTYPE=image/jpeg:https://mustique.life/wp-content/uploads/2023/01/Horse-Riding.jpg
END:VEVENT
BEGIN:VEVENT
DTSTART;TZID=America/St_Vincent:20290731T080000
DTEND;TZID=America/St_Vincent:20290731T103000
DTSTAMP:20260420T094632
CREATED:20260402T164229Z
LAST-MODIFIED:20260402T165847Z
UID:10020937-1880179200-1880188200@mustique.life
SUMMARY:Horse Riding
DESCRIPTION:Experience Mustique in an exhilarating way. The Equestrian Centre has horses and ponies to suit all ages\nand levels of experience\, with qualified riding instructors offering a range of trail rides\, pony camps\nand lessons (maximum weight limit is 198lbs/90kg). \nTo book\, please email the Equestrian Centre team at equestrian@mustique.vc or call ext.8316 . \n  \n  \n 
URL:https://mustique.life/event/horse-riding-2-3/2029-07-31/
LOCATION:Equestrian Centre
CATEGORIES:Sport / Wellness
ATTACH;FMTTYPE=image/jpeg:https://mustique.life/wp-content/uploads/2023/01/Horse-Riding.jpg
END:VEVENT
BEGIN:VEVENT
DTSTART;TZID=America/St_Vincent:20290731T153000
DTEND;TZID=America/St_Vincent:20290731T173000
DTSTAMP:20260420T094632
CREATED:20260402T165703Z
LAST-MODIFIED:20260402T165953Z
UID:10022888-1880206200-1880213400@mustique.life
SUMMARY:Horse Riding
DESCRIPTION:Experience Mustique in an exhilarating way. The Equestrian Centre has horses and ponies to suit all ages\nand levels of experience\, with qualified riding instructors offering a range of trail rides\, pony camps\nand lessons (maximum weight limit is 198lbs/90kg). \nTo book\, please email the Equestrian Centre team at equestrian@mustique.vc or call ext.8316 . \n  \n  \n 
URL:https://mustique.life/event/horse-riding-3-2-2/2029-07-31/
LOCATION:Equestrian Centre
CATEGORIES:Sport / Wellness
ATTACH;FMTTYPE=image/jpeg:https://mustique.life/wp-content/uploads/2023/01/Horse-Riding.jpg
END:VEVENT
BEGIN:VEVENT
DTSTART;TZID=America/St_Vincent:20290801T080000
DTEND;TZID=America/St_Vincent:20290801T103000
DTSTAMP:20260420T094632
CREATED:20260402T164229Z
LAST-MODIFIED:20260402T165847Z
UID:10020938-1880265600-1880274600@mustique.life
SUMMARY:Horse Riding
DESCRIPTION:Experience Mustique in an exhilarating way. The Equestrian Centre has horses and ponies to suit all ages\nand levels of experience\, with qualified riding instructors offering a range of trail rides\, pony camps\nand lessons (maximum weight limit is 198lbs/90kg). \nTo book\, please email the Equestrian Centre team at equestrian@mustique.vc or call ext.8316 . \n  \n  \n 
URL:https://mustique.life/event/horse-riding-2-3/2029-08-01/
LOCATION:Equestrian Centre
CATEGORIES:Sport / Wellness
ATTACH;FMTTYPE=image/jpeg:https://mustique.life/wp-content/uploads/2023/01/Horse-Riding.jpg
END:VEVENT
BEGIN:VEVENT
DTSTART;TZID=America/St_Vincent:20290801T153000
DTEND;TZID=America/St_Vincent:20290801T173000
DTSTAMP:20260420T094632
CREATED:20260402T165703Z
LAST-MODIFIED:20260402T165953Z
UID:10022889-1880292600-1880299800@mustique.life
SUMMARY:Horse Riding
DESCRIPTION:Experience Mustique in an exhilarating way. The Equestrian Centre has horses and ponies to suit all ages\nand levels of experience\, with qualified riding instructors offering a range of trail rides\, pony camps\nand lessons (maximum weight limit is 198lbs/90kg). \nTo book\, please email the Equestrian Centre team at equestrian@mustique.vc or call ext.8316 . \n  \n  \n 
URL:https://mustique.life/event/horse-riding-3-2-2/2029-08-01/
LOCATION:Equestrian Centre
CATEGORIES:Sport / Wellness
ATTACH;FMTTYPE=image/jpeg:https://mustique.life/wp-content/uploads/2023/01/Horse-Riding.jpg
END:VEVENT
BEGIN:VEVENT
DTSTART;TZID=America/St_Vincent:20290802T080000
DTEND;TZID=America/St_Vincent:20290802T103000
DTSTAMP:20260420T094632
CREATED:20260402T164229Z
LAST-MODIFIED:20260402T165847Z
UID:10020939-1880352000-1880361000@mustique.life
SUMMARY:Horse Riding
DESCRIPTION:Experience Mustique in an exhilarating way. The Equestrian Centre has horses and ponies to suit all ages\nand levels of experience\, with qualified riding instructors offering a range of trail rides\, pony camps\nand lessons (maximum weight limit is 198lbs/90kg). \nTo book\, please email the Equestrian Centre team at equestrian@mustique.vc or call ext.8316 . \n  \n  \n 
URL:https://mustique.life/event/horse-riding-2-3/2029-08-02/
LOCATION:Equestrian Centre
CATEGORIES:Sport / Wellness
ATTACH;FMTTYPE=image/jpeg:https://mustique.life/wp-content/uploads/2023/01/Horse-Riding.jpg
END:VEVENT
BEGIN:VEVENT
DTSTART;TZID=America/St_Vincent:20290802T153000
DTEND;TZID=America/St_Vincent:20290802T173000
DTSTAMP:20260420T094632
CREATED:20260402T165703Z
LAST-MODIFIED:20260402T165953Z
UID:10022890-1880379000-1880386200@mustique.life
SUMMARY:Horse Riding
DESCRIPTION:Experience Mustique in an exhilarating way. The Equestrian Centre has horses and ponies to suit all ages\nand levels of experience\, with qualified riding instructors offering a range of trail rides\, pony camps\nand lessons (maximum weight limit is 198lbs/90kg). \nTo book\, please email the Equestrian Centre team at equestrian@mustique.vc or call ext.8316 . \n  \n  \n 
URL:https://mustique.life/event/horse-riding-3-2-2/2029-08-02/
LOCATION:Equestrian Centre
CATEGORIES:Sport / Wellness
ATTACH;FMTTYPE=image/jpeg:https://mustique.life/wp-content/uploads/2023/01/Horse-Riding.jpg
END:VEVENT
END:VCALENDAR