BEGIN:VCALENDAR
VERSION:2.0
PRODID:-//Mustique Events - Calendar - ECPv6.15.17.1//NONSGML v1.0//EN
CALSCALE:GREGORIAN
METHOD:PUBLISH
X-WR-CALNAME:Mustique Events - Calendar
X-ORIGINAL-URL:https://mustique.life
X-WR-CALDESC:Events for Mustique Events - Calendar
REFRESH-INTERVAL;VALUE=DURATION:PT1H
X-Robots-Tag:noindex
X-PUBLISHED-TTL:PT1H
BEGIN:VTIMEZONE
TZID:America/St_Vincent
BEGIN:STANDARD
TZOFFSETFROM:-0400
TZOFFSETTO:-0400
TZNAME:AST
DTSTART:20270101T000000
END:STANDARD
END:VTIMEZONE
BEGIN:VEVENT
DTSTART;TZID=America/St_Vincent:20280613T153000
DTEND;TZID=America/St_Vincent:20280613T173000
DTSTAMP:20260420T032529
CREATED:20260402T165703Z
LAST-MODIFIED:20260402T165953Z
UID:10022475-1844523000-1844530200@mustique.life
SUMMARY:Horse Riding
DESCRIPTION:Experience Mustique in an exhilarating way. The Equestrian Centre has horses and ponies to suit all ages\nand levels of experience\, with qualified riding instructors offering a range of trail rides\, pony camps\nand lessons (maximum weight limit is 198lbs/90kg). \nTo book\, please email the Equestrian Centre team at equestrian@mustique.vc or call ext.8316 . \n  \n  \n 
URL:https://mustique.life/event/horse-riding-3-2-2/2028-06-13/
LOCATION:Equestrian Centre
CATEGORIES:Sport / Wellness
ATTACH;FMTTYPE=image/jpeg:https://mustique.life/wp-content/uploads/2023/01/Horse-Riding.jpg
END:VEVENT
BEGIN:VEVENT
DTSTART;TZID=America/St_Vincent:20280614T080000
DTEND;TZID=America/St_Vincent:20280614T103000
DTSTAMP:20260420T032529
CREATED:20260402T164229Z
LAST-MODIFIED:20260402T165847Z
UID:10020525-1844582400-1844591400@mustique.life
SUMMARY:Horse Riding
DESCRIPTION:Experience Mustique in an exhilarating way. The Equestrian Centre has horses and ponies to suit all ages\nand levels of experience\, with qualified riding instructors offering a range of trail rides\, pony camps\nand lessons (maximum weight limit is 198lbs/90kg). \nTo book\, please email the Equestrian Centre team at equestrian@mustique.vc or call ext.8316 . \n  \n  \n 
URL:https://mustique.life/event/horse-riding-2-3/2028-06-14/
LOCATION:Equestrian Centre
CATEGORIES:Sport / Wellness
ATTACH;FMTTYPE=image/jpeg:https://mustique.life/wp-content/uploads/2023/01/Horse-Riding.jpg
END:VEVENT
BEGIN:VEVENT
DTSTART;TZID=America/St_Vincent:20280614T153000
DTEND;TZID=America/St_Vincent:20280614T173000
DTSTAMP:20260420T032529
CREATED:20260402T165703Z
LAST-MODIFIED:20260402T165953Z
UID:10022476-1844609400-1844616600@mustique.life
SUMMARY:Horse Riding
DESCRIPTION:Experience Mustique in an exhilarating way. The Equestrian Centre has horses and ponies to suit all ages\nand levels of experience\, with qualified riding instructors offering a range of trail rides\, pony camps\nand lessons (maximum weight limit is 198lbs/90kg). \nTo book\, please email the Equestrian Centre team at equestrian@mustique.vc or call ext.8316 . \n  \n  \n 
URL:https://mustique.life/event/horse-riding-3-2-2/2028-06-14/
LOCATION:Equestrian Centre
CATEGORIES:Sport / Wellness
ATTACH;FMTTYPE=image/jpeg:https://mustique.life/wp-content/uploads/2023/01/Horse-Riding.jpg
END:VEVENT
BEGIN:VEVENT
DTSTART;TZID=America/St_Vincent:20280615T080000
DTEND;TZID=America/St_Vincent:20280615T103000
DTSTAMP:20260420T032529
CREATED:20260402T164229Z
LAST-MODIFIED:20260402T165847Z
UID:10020526-1844668800-1844677800@mustique.life
SUMMARY:Horse Riding
DESCRIPTION:Experience Mustique in an exhilarating way. The Equestrian Centre has horses and ponies to suit all ages\nand levels of experience\, with qualified riding instructors offering a range of trail rides\, pony camps\nand lessons (maximum weight limit is 198lbs/90kg). \nTo book\, please email the Equestrian Centre team at equestrian@mustique.vc or call ext.8316 . \n  \n  \n 
URL:https://mustique.life/event/horse-riding-2-3/2028-06-15/
LOCATION:Equestrian Centre
CATEGORIES:Sport / Wellness
ATTACH;FMTTYPE=image/jpeg:https://mustique.life/wp-content/uploads/2023/01/Horse-Riding.jpg
END:VEVENT
BEGIN:VEVENT
DTSTART;TZID=America/St_Vincent:20280615T153000
DTEND;TZID=America/St_Vincent:20280615T173000
DTSTAMP:20260420T032529
CREATED:20260402T165703Z
LAST-MODIFIED:20260402T165953Z
UID:10022477-1844695800-1844703000@mustique.life
SUMMARY:Horse Riding
DESCRIPTION:Experience Mustique in an exhilarating way. The Equestrian Centre has horses and ponies to suit all ages\nand levels of experience\, with qualified riding instructors offering a range of trail rides\, pony camps\nand lessons (maximum weight limit is 198lbs/90kg). \nTo book\, please email the Equestrian Centre team at equestrian@mustique.vc or call ext.8316 . \n  \n  \n 
URL:https://mustique.life/event/horse-riding-3-2-2/2028-06-15/
LOCATION:Equestrian Centre
CATEGORIES:Sport / Wellness
ATTACH;FMTTYPE=image/jpeg:https://mustique.life/wp-content/uploads/2023/01/Horse-Riding.jpg
END:VEVENT
BEGIN:VEVENT
DTSTART;TZID=America/St_Vincent:20280616T080000
DTEND;TZID=America/St_Vincent:20280616T103000
DTSTAMP:20260420T032529
CREATED:20260402T164229Z
LAST-MODIFIED:20260402T165847Z
UID:10020527-1844755200-1844764200@mustique.life
SUMMARY:Horse Riding
DESCRIPTION:Experience Mustique in an exhilarating way. The Equestrian Centre has horses and ponies to suit all ages\nand levels of experience\, with qualified riding instructors offering a range of trail rides\, pony camps\nand lessons (maximum weight limit is 198lbs/90kg). \nTo book\, please email the Equestrian Centre team at equestrian@mustique.vc or call ext.8316 . \n  \n  \n 
URL:https://mustique.life/event/horse-riding-2-3/2028-06-16/
LOCATION:Equestrian Centre
CATEGORIES:Sport / Wellness
ATTACH;FMTTYPE=image/jpeg:https://mustique.life/wp-content/uploads/2023/01/Horse-Riding.jpg
END:VEVENT
BEGIN:VEVENT
DTSTART;TZID=America/St_Vincent:20280616T153000
DTEND;TZID=America/St_Vincent:20280616T173000
DTSTAMP:20260420T032529
CREATED:20260402T165703Z
LAST-MODIFIED:20260402T165953Z
UID:10022478-1844782200-1844789400@mustique.life
SUMMARY:Horse Riding
DESCRIPTION:Experience Mustique in an exhilarating way. The Equestrian Centre has horses and ponies to suit all ages\nand levels of experience\, with qualified riding instructors offering a range of trail rides\, pony camps\nand lessons (maximum weight limit is 198lbs/90kg). \nTo book\, please email the Equestrian Centre team at equestrian@mustique.vc or call ext.8316 . \n  \n  \n 
URL:https://mustique.life/event/horse-riding-3-2-2/2028-06-16/
LOCATION:Equestrian Centre
CATEGORIES:Sport / Wellness
ATTACH;FMTTYPE=image/jpeg:https://mustique.life/wp-content/uploads/2023/01/Horse-Riding.jpg
END:VEVENT
BEGIN:VEVENT
DTSTART;TZID=America/St_Vincent:20280617T080000
DTEND;TZID=America/St_Vincent:20280617T103000
DTSTAMP:20260420T032529
CREATED:20260402T164229Z
LAST-MODIFIED:20260402T165847Z
UID:10020528-1844841600-1844850600@mustique.life
SUMMARY:Horse Riding
DESCRIPTION:Experience Mustique in an exhilarating way. The Equestrian Centre has horses and ponies to suit all ages\nand levels of experience\, with qualified riding instructors offering a range of trail rides\, pony camps\nand lessons (maximum weight limit is 198lbs/90kg). \nTo book\, please email the Equestrian Centre team at equestrian@mustique.vc or call ext.8316 . \n  \n  \n 
URL:https://mustique.life/event/horse-riding-2-3/2028-06-17/
LOCATION:Equestrian Centre
CATEGORIES:Sport / Wellness
ATTACH;FMTTYPE=image/jpeg:https://mustique.life/wp-content/uploads/2023/01/Horse-Riding.jpg
END:VEVENT
BEGIN:VEVENT
DTSTART;TZID=America/St_Vincent:20280617T153000
DTEND;TZID=America/St_Vincent:20280617T173000
DTSTAMP:20260420T032529
CREATED:20260402T165703Z
LAST-MODIFIED:20260402T165953Z
UID:10022479-1844868600-1844875800@mustique.life
SUMMARY:Horse Riding
DESCRIPTION:Experience Mustique in an exhilarating way. The Equestrian Centre has horses and ponies to suit all ages\nand levels of experience\, with qualified riding instructors offering a range of trail rides\, pony camps\nand lessons (maximum weight limit is 198lbs/90kg). \nTo book\, please email the Equestrian Centre team at equestrian@mustique.vc or call ext.8316 . \n  \n  \n 
URL:https://mustique.life/event/horse-riding-3-2-2/2028-06-17/
LOCATION:Equestrian Centre
CATEGORIES:Sport / Wellness
ATTACH;FMTTYPE=image/jpeg:https://mustique.life/wp-content/uploads/2023/01/Horse-Riding.jpg
END:VEVENT
BEGIN:VEVENT
DTSTART;TZID=America/St_Vincent:20280618T080000
DTEND;TZID=America/St_Vincent:20280618T103000
DTSTAMP:20260420T032529
CREATED:20260402T164229Z
LAST-MODIFIED:20260402T165847Z
UID:10020529-1844928000-1844937000@mustique.life
SUMMARY:Horse Riding
DESCRIPTION:Experience Mustique in an exhilarating way. The Equestrian Centre has horses and ponies to suit all ages\nand levels of experience\, with qualified riding instructors offering a range of trail rides\, pony camps\nand lessons (maximum weight limit is 198lbs/90kg). \nTo book\, please email the Equestrian Centre team at equestrian@mustique.vc or call ext.8316 . \n  \n  \n 
URL:https://mustique.life/event/horse-riding-2-3/2028-06-18/
LOCATION:Equestrian Centre
CATEGORIES:Sport / Wellness
ATTACH;FMTTYPE=image/jpeg:https://mustique.life/wp-content/uploads/2023/01/Horse-Riding.jpg
END:VEVENT
BEGIN:VEVENT
DTSTART;TZID=America/St_Vincent:20280618T153000
DTEND;TZID=America/St_Vincent:20280618T173000
DTSTAMP:20260420T032529
CREATED:20260402T165703Z
LAST-MODIFIED:20260402T165953Z
UID:10022480-1844955000-1844962200@mustique.life
SUMMARY:Horse Riding
DESCRIPTION:Experience Mustique in an exhilarating way. The Equestrian Centre has horses and ponies to suit all ages\nand levels of experience\, with qualified riding instructors offering a range of trail rides\, pony camps\nand lessons (maximum weight limit is 198lbs/90kg). \nTo book\, please email the Equestrian Centre team at equestrian@mustique.vc or call ext.8316 . \n  \n  \n 
URL:https://mustique.life/event/horse-riding-3-2-2/2028-06-18/
LOCATION:Equestrian Centre
CATEGORIES:Sport / Wellness
ATTACH;FMTTYPE=image/jpeg:https://mustique.life/wp-content/uploads/2023/01/Horse-Riding.jpg
END:VEVENT
BEGIN:VEVENT
DTSTART;TZID=America/St_Vincent:20280619T080000
DTEND;TZID=America/St_Vincent:20280619T103000
DTSTAMP:20260420T032529
CREATED:20260402T164229Z
LAST-MODIFIED:20260402T165847Z
UID:10020530-1845014400-1845023400@mustique.life
SUMMARY:Horse Riding
DESCRIPTION:Experience Mustique in an exhilarating way. The Equestrian Centre has horses and ponies to suit all ages\nand levels of experience\, with qualified riding instructors offering a range of trail rides\, pony camps\nand lessons (maximum weight limit is 198lbs/90kg). \nTo book\, please email the Equestrian Centre team at equestrian@mustique.vc or call ext.8316 . \n  \n  \n 
URL:https://mustique.life/event/horse-riding-2-3/2028-06-19/
LOCATION:Equestrian Centre
CATEGORIES:Sport / Wellness
ATTACH;FMTTYPE=image/jpeg:https://mustique.life/wp-content/uploads/2023/01/Horse-Riding.jpg
END:VEVENT
BEGIN:VEVENT
DTSTART;TZID=America/St_Vincent:20280619T153000
DTEND;TZID=America/St_Vincent:20280619T173000
DTSTAMP:20260420T032529
CREATED:20260402T165703Z
LAST-MODIFIED:20260402T165953Z
UID:10022481-1845041400-1845048600@mustique.life
SUMMARY:Horse Riding
DESCRIPTION:Experience Mustique in an exhilarating way. The Equestrian Centre has horses and ponies to suit all ages\nand levels of experience\, with qualified riding instructors offering a range of trail rides\, pony camps\nand lessons (maximum weight limit is 198lbs/90kg). \nTo book\, please email the Equestrian Centre team at equestrian@mustique.vc or call ext.8316 . \n  \n  \n 
URL:https://mustique.life/event/horse-riding-3-2-2/2028-06-19/
LOCATION:Equestrian Centre
CATEGORIES:Sport / Wellness
ATTACH;FMTTYPE=image/jpeg:https://mustique.life/wp-content/uploads/2023/01/Horse-Riding.jpg
END:VEVENT
BEGIN:VEVENT
DTSTART;TZID=America/St_Vincent:20280620T080000
DTEND;TZID=America/St_Vincent:20280620T103000
DTSTAMP:20260420T032529
CREATED:20260402T164229Z
LAST-MODIFIED:20260402T165847Z
UID:10020531-1845100800-1845109800@mustique.life
SUMMARY:Horse Riding
DESCRIPTION:Experience Mustique in an exhilarating way. The Equestrian Centre has horses and ponies to suit all ages\nand levels of experience\, with qualified riding instructors offering a range of trail rides\, pony camps\nand lessons (maximum weight limit is 198lbs/90kg). \nTo book\, please email the Equestrian Centre team at equestrian@mustique.vc or call ext.8316 . \n  \n  \n 
URL:https://mustique.life/event/horse-riding-2-3/2028-06-20/
LOCATION:Equestrian Centre
CATEGORIES:Sport / Wellness
ATTACH;FMTTYPE=image/jpeg:https://mustique.life/wp-content/uploads/2023/01/Horse-Riding.jpg
END:VEVENT
BEGIN:VEVENT
DTSTART;TZID=America/St_Vincent:20280620T153000
DTEND;TZID=America/St_Vincent:20280620T173000
DTSTAMP:20260420T032529
CREATED:20260402T165703Z
LAST-MODIFIED:20260402T165953Z
UID:10022482-1845127800-1845135000@mustique.life
SUMMARY:Horse Riding
DESCRIPTION:Experience Mustique in an exhilarating way. The Equestrian Centre has horses and ponies to suit all ages\nand levels of experience\, with qualified riding instructors offering a range of trail rides\, pony camps\nand lessons (maximum weight limit is 198lbs/90kg). \nTo book\, please email the Equestrian Centre team at equestrian@mustique.vc or call ext.8316 . \n  \n  \n 
URL:https://mustique.life/event/horse-riding-3-2-2/2028-06-20/
LOCATION:Equestrian Centre
CATEGORIES:Sport / Wellness
ATTACH;FMTTYPE=image/jpeg:https://mustique.life/wp-content/uploads/2023/01/Horse-Riding.jpg
END:VEVENT
BEGIN:VEVENT
DTSTART;TZID=America/St_Vincent:20280621T080000
DTEND;TZID=America/St_Vincent:20280621T103000
DTSTAMP:20260420T032529
CREATED:20260402T164229Z
LAST-MODIFIED:20260402T165847Z
UID:10020532-1845187200-1845196200@mustique.life
SUMMARY:Horse Riding
DESCRIPTION:Experience Mustique in an exhilarating way. The Equestrian Centre has horses and ponies to suit all ages\nand levels of experience\, with qualified riding instructors offering a range of trail rides\, pony camps\nand lessons (maximum weight limit is 198lbs/90kg). \nTo book\, please email the Equestrian Centre team at equestrian@mustique.vc or call ext.8316 . \n  \n  \n 
URL:https://mustique.life/event/horse-riding-2-3/2028-06-21/
LOCATION:Equestrian Centre
CATEGORIES:Sport / Wellness
ATTACH;FMTTYPE=image/jpeg:https://mustique.life/wp-content/uploads/2023/01/Horse-Riding.jpg
END:VEVENT
BEGIN:VEVENT
DTSTART;TZID=America/St_Vincent:20280621T153000
DTEND;TZID=America/St_Vincent:20280621T173000
DTSTAMP:20260420T032529
CREATED:20260402T165703Z
LAST-MODIFIED:20260402T165953Z
UID:10022483-1845214200-1845221400@mustique.life
SUMMARY:Horse Riding
DESCRIPTION:Experience Mustique in an exhilarating way. The Equestrian Centre has horses and ponies to suit all ages\nand levels of experience\, with qualified riding instructors offering a range of trail rides\, pony camps\nand lessons (maximum weight limit is 198lbs/90kg). \nTo book\, please email the Equestrian Centre team at equestrian@mustique.vc or call ext.8316 . \n  \n  \n 
URL:https://mustique.life/event/horse-riding-3-2-2/2028-06-21/
LOCATION:Equestrian Centre
CATEGORIES:Sport / Wellness
ATTACH;FMTTYPE=image/jpeg:https://mustique.life/wp-content/uploads/2023/01/Horse-Riding.jpg
END:VEVENT
BEGIN:VEVENT
DTSTART;TZID=America/St_Vincent:20280622T080000
DTEND;TZID=America/St_Vincent:20280622T103000
DTSTAMP:20260420T032529
CREATED:20260402T164229Z
LAST-MODIFIED:20260402T165847Z
UID:10020533-1845273600-1845282600@mustique.life
SUMMARY:Horse Riding
DESCRIPTION:Experience Mustique in an exhilarating way. The Equestrian Centre has horses and ponies to suit all ages\nand levels of experience\, with qualified riding instructors offering a range of trail rides\, pony camps\nand lessons (maximum weight limit is 198lbs/90kg). \nTo book\, please email the Equestrian Centre team at equestrian@mustique.vc or call ext.8316 . \n  \n  \n 
URL:https://mustique.life/event/horse-riding-2-3/2028-06-22/
LOCATION:Equestrian Centre
CATEGORIES:Sport / Wellness
ATTACH;FMTTYPE=image/jpeg:https://mustique.life/wp-content/uploads/2023/01/Horse-Riding.jpg
END:VEVENT
BEGIN:VEVENT
DTSTART;TZID=America/St_Vincent:20280622T153000
DTEND;TZID=America/St_Vincent:20280622T173000
DTSTAMP:20260420T032529
CREATED:20260402T165703Z
LAST-MODIFIED:20260402T165953Z
UID:10022484-1845300600-1845307800@mustique.life
SUMMARY:Horse Riding
DESCRIPTION:Experience Mustique in an exhilarating way. The Equestrian Centre has horses and ponies to suit all ages\nand levels of experience\, with qualified riding instructors offering a range of trail rides\, pony camps\nand lessons (maximum weight limit is 198lbs/90kg). \nTo book\, please email the Equestrian Centre team at equestrian@mustique.vc or call ext.8316 . \n  \n  \n 
URL:https://mustique.life/event/horse-riding-3-2-2/2028-06-22/
LOCATION:Equestrian Centre
CATEGORIES:Sport / Wellness
ATTACH;FMTTYPE=image/jpeg:https://mustique.life/wp-content/uploads/2023/01/Horse-Riding.jpg
END:VEVENT
BEGIN:VEVENT
DTSTART;TZID=America/St_Vincent:20280623T080000
DTEND;TZID=America/St_Vincent:20280623T103000
DTSTAMP:20260420T032529
CREATED:20260402T164229Z
LAST-MODIFIED:20260402T165847Z
UID:10020534-1845360000-1845369000@mustique.life
SUMMARY:Horse Riding
DESCRIPTION:Experience Mustique in an exhilarating way. The Equestrian Centre has horses and ponies to suit all ages\nand levels of experience\, with qualified riding instructors offering a range of trail rides\, pony camps\nand lessons (maximum weight limit is 198lbs/90kg). \nTo book\, please email the Equestrian Centre team at equestrian@mustique.vc or call ext.8316 . \n  \n  \n 
URL:https://mustique.life/event/horse-riding-2-3/2028-06-23/
LOCATION:Equestrian Centre
CATEGORIES:Sport / Wellness
ATTACH;FMTTYPE=image/jpeg:https://mustique.life/wp-content/uploads/2023/01/Horse-Riding.jpg
END:VEVENT
BEGIN:VEVENT
DTSTART;TZID=America/St_Vincent:20280623T153000
DTEND;TZID=America/St_Vincent:20280623T173000
DTSTAMP:20260420T032529
CREATED:20260402T165703Z
LAST-MODIFIED:20260402T165953Z
UID:10022485-1845387000-1845394200@mustique.life
SUMMARY:Horse Riding
DESCRIPTION:Experience Mustique in an exhilarating way. The Equestrian Centre has horses and ponies to suit all ages\nand levels of experience\, with qualified riding instructors offering a range of trail rides\, pony camps\nand lessons (maximum weight limit is 198lbs/90kg). \nTo book\, please email the Equestrian Centre team at equestrian@mustique.vc or call ext.8316 . \n  \n  \n 
URL:https://mustique.life/event/horse-riding-3-2-2/2028-06-23/
LOCATION:Equestrian Centre
CATEGORIES:Sport / Wellness
ATTACH;FMTTYPE=image/jpeg:https://mustique.life/wp-content/uploads/2023/01/Horse-Riding.jpg
END:VEVENT
BEGIN:VEVENT
DTSTART;TZID=America/St_Vincent:20280624T080000
DTEND;TZID=America/St_Vincent:20280624T103000
DTSTAMP:20260420T032529
CREATED:20260402T164229Z
LAST-MODIFIED:20260402T165847Z
UID:10020535-1845446400-1845455400@mustique.life
SUMMARY:Horse Riding
DESCRIPTION:Experience Mustique in an exhilarating way. The Equestrian Centre has horses and ponies to suit all ages\nand levels of experience\, with qualified riding instructors offering a range of trail rides\, pony camps\nand lessons (maximum weight limit is 198lbs/90kg). \nTo book\, please email the Equestrian Centre team at equestrian@mustique.vc or call ext.8316 . \n  \n  \n 
URL:https://mustique.life/event/horse-riding-2-3/2028-06-24/
LOCATION:Equestrian Centre
CATEGORIES:Sport / Wellness
ATTACH;FMTTYPE=image/jpeg:https://mustique.life/wp-content/uploads/2023/01/Horse-Riding.jpg
END:VEVENT
BEGIN:VEVENT
DTSTART;TZID=America/St_Vincent:20280624T153000
DTEND;TZID=America/St_Vincent:20280624T173000
DTSTAMP:20260420T032529
CREATED:20260402T165703Z
LAST-MODIFIED:20260402T165953Z
UID:10022486-1845473400-1845480600@mustique.life
SUMMARY:Horse Riding
DESCRIPTION:Experience Mustique in an exhilarating way. The Equestrian Centre has horses and ponies to suit all ages\nand levels of experience\, with qualified riding instructors offering a range of trail rides\, pony camps\nand lessons (maximum weight limit is 198lbs/90kg). \nTo book\, please email the Equestrian Centre team at equestrian@mustique.vc or call ext.8316 . \n  \n  \n 
URL:https://mustique.life/event/horse-riding-3-2-2/2028-06-24/
LOCATION:Equestrian Centre
CATEGORIES:Sport / Wellness
ATTACH;FMTTYPE=image/jpeg:https://mustique.life/wp-content/uploads/2023/01/Horse-Riding.jpg
END:VEVENT
BEGIN:VEVENT
DTSTART;TZID=America/St_Vincent:20280625T080000
DTEND;TZID=America/St_Vincent:20280625T103000
DTSTAMP:20260420T032529
CREATED:20260402T164229Z
LAST-MODIFIED:20260402T165847Z
UID:10020536-1845532800-1845541800@mustique.life
SUMMARY:Horse Riding
DESCRIPTION:Experience Mustique in an exhilarating way. The Equestrian Centre has horses and ponies to suit all ages\nand levels of experience\, with qualified riding instructors offering a range of trail rides\, pony camps\nand lessons (maximum weight limit is 198lbs/90kg). \nTo book\, please email the Equestrian Centre team at equestrian@mustique.vc or call ext.8316 . \n  \n  \n 
URL:https://mustique.life/event/horse-riding-2-3/2028-06-25/
LOCATION:Equestrian Centre
CATEGORIES:Sport / Wellness
ATTACH;FMTTYPE=image/jpeg:https://mustique.life/wp-content/uploads/2023/01/Horse-Riding.jpg
END:VEVENT
BEGIN:VEVENT
DTSTART;TZID=America/St_Vincent:20280625T153000
DTEND;TZID=America/St_Vincent:20280625T173000
DTSTAMP:20260420T032529
CREATED:20260402T165703Z
LAST-MODIFIED:20260402T165953Z
UID:10022487-1845559800-1845567000@mustique.life
SUMMARY:Horse Riding
DESCRIPTION:Experience Mustique in an exhilarating way. The Equestrian Centre has horses and ponies to suit all ages\nand levels of experience\, with qualified riding instructors offering a range of trail rides\, pony camps\nand lessons (maximum weight limit is 198lbs/90kg). \nTo book\, please email the Equestrian Centre team at equestrian@mustique.vc or call ext.8316 . \n  \n  \n 
URL:https://mustique.life/event/horse-riding-3-2-2/2028-06-25/
LOCATION:Equestrian Centre
CATEGORIES:Sport / Wellness
ATTACH;FMTTYPE=image/jpeg:https://mustique.life/wp-content/uploads/2023/01/Horse-Riding.jpg
END:VEVENT
BEGIN:VEVENT
DTSTART;TZID=America/St_Vincent:20280626T080000
DTEND;TZID=America/St_Vincent:20280626T103000
DTSTAMP:20260420T032529
CREATED:20260402T164229Z
LAST-MODIFIED:20260402T165847Z
UID:10020537-1845619200-1845628200@mustique.life
SUMMARY:Horse Riding
DESCRIPTION:Experience Mustique in an exhilarating way. The Equestrian Centre has horses and ponies to suit all ages\nand levels of experience\, with qualified riding instructors offering a range of trail rides\, pony camps\nand lessons (maximum weight limit is 198lbs/90kg). \nTo book\, please email the Equestrian Centre team at equestrian@mustique.vc or call ext.8316 . \n  \n  \n 
URL:https://mustique.life/event/horse-riding-2-3/2028-06-26/
LOCATION:Equestrian Centre
CATEGORIES:Sport / Wellness
ATTACH;FMTTYPE=image/jpeg:https://mustique.life/wp-content/uploads/2023/01/Horse-Riding.jpg
END:VEVENT
BEGIN:VEVENT
DTSTART;TZID=America/St_Vincent:20280626T153000
DTEND;TZID=America/St_Vincent:20280626T173000
DTSTAMP:20260420T032529
CREATED:20260402T165703Z
LAST-MODIFIED:20260402T165953Z
UID:10022488-1845646200-1845653400@mustique.life
SUMMARY:Horse Riding
DESCRIPTION:Experience Mustique in an exhilarating way. The Equestrian Centre has horses and ponies to suit all ages\nand levels of experience\, with qualified riding instructors offering a range of trail rides\, pony camps\nand lessons (maximum weight limit is 198lbs/90kg). \nTo book\, please email the Equestrian Centre team at equestrian@mustique.vc or call ext.8316 . \n  \n  \n 
URL:https://mustique.life/event/horse-riding-3-2-2/2028-06-26/
LOCATION:Equestrian Centre
CATEGORIES:Sport / Wellness
ATTACH;FMTTYPE=image/jpeg:https://mustique.life/wp-content/uploads/2023/01/Horse-Riding.jpg
END:VEVENT
BEGIN:VEVENT
DTSTART;TZID=America/St_Vincent:20280627T080000
DTEND;TZID=America/St_Vincent:20280627T103000
DTSTAMP:20260420T032529
CREATED:20260402T164229Z
LAST-MODIFIED:20260402T165847Z
UID:10020538-1845705600-1845714600@mustique.life
SUMMARY:Horse Riding
DESCRIPTION:Experience Mustique in an exhilarating way. The Equestrian Centre has horses and ponies to suit all ages\nand levels of experience\, with qualified riding instructors offering a range of trail rides\, pony camps\nand lessons (maximum weight limit is 198lbs/90kg). \nTo book\, please email the Equestrian Centre team at equestrian@mustique.vc or call ext.8316 . \n  \n  \n 
URL:https://mustique.life/event/horse-riding-2-3/2028-06-27/
LOCATION:Equestrian Centre
CATEGORIES:Sport / Wellness
ATTACH;FMTTYPE=image/jpeg:https://mustique.life/wp-content/uploads/2023/01/Horse-Riding.jpg
END:VEVENT
BEGIN:VEVENT
DTSTART;TZID=America/St_Vincent:20280627T153000
DTEND;TZID=America/St_Vincent:20280627T173000
DTSTAMP:20260420T032529
CREATED:20260402T165703Z
LAST-MODIFIED:20260402T165953Z
UID:10022489-1845732600-1845739800@mustique.life
SUMMARY:Horse Riding
DESCRIPTION:Experience Mustique in an exhilarating way. The Equestrian Centre has horses and ponies to suit all ages\nand levels of experience\, with qualified riding instructors offering a range of trail rides\, pony camps\nand lessons (maximum weight limit is 198lbs/90kg). \nTo book\, please email the Equestrian Centre team at equestrian@mustique.vc or call ext.8316 . \n  \n  \n 
URL:https://mustique.life/event/horse-riding-3-2-2/2028-06-27/
LOCATION:Equestrian Centre
CATEGORIES:Sport / Wellness
ATTACH;FMTTYPE=image/jpeg:https://mustique.life/wp-content/uploads/2023/01/Horse-Riding.jpg
END:VEVENT
BEGIN:VEVENT
DTSTART;TZID=America/St_Vincent:20280628T080000
DTEND;TZID=America/St_Vincent:20280628T103000
DTSTAMP:20260420T032529
CREATED:20260402T164229Z
LAST-MODIFIED:20260402T165847Z
UID:10020539-1845792000-1845801000@mustique.life
SUMMARY:Horse Riding
DESCRIPTION:Experience Mustique in an exhilarating way. The Equestrian Centre has horses and ponies to suit all ages\nand levels of experience\, with qualified riding instructors offering a range of trail rides\, pony camps\nand lessons (maximum weight limit is 198lbs/90kg). \nTo book\, please email the Equestrian Centre team at equestrian@mustique.vc or call ext.8316 . \n  \n  \n 
URL:https://mustique.life/event/horse-riding-2-3/2028-06-28/
LOCATION:Equestrian Centre
CATEGORIES:Sport / Wellness
ATTACH;FMTTYPE=image/jpeg:https://mustique.life/wp-content/uploads/2023/01/Horse-Riding.jpg
END:VEVENT
END:VCALENDAR