BEGIN:VCALENDAR
VERSION:2.0
PRODID:-//Mustique Events - Calendar - ECPv6.15.17.1//NONSGML v1.0//EN
CALSCALE:GREGORIAN
METHOD:PUBLISH
X-WR-CALNAME:Mustique Events - Calendar
X-ORIGINAL-URL:https://mustique.life
X-WR-CALDESC:Events for Mustique Events - Calendar
REFRESH-INTERVAL;VALUE=DURATION:PT1H
X-Robots-Tag:noindex
X-PUBLISHED-TTL:PT1H
BEGIN:VTIMEZONE
TZID:America/St_Vincent
BEGIN:STANDARD
TZOFFSETFROM:-0400
TZOFFSETTO:-0400
TZNAME:AST
DTSTART:20250101T000000
END:STANDARD
END:VTIMEZONE
BEGIN:VEVENT
DTSTART;TZID=America/St_Vincent:20260428T183000
DTEND;TZID=America/St_Vincent:20260428T200000
DTSTAMP:20260419T092115
CREATED:20251015T132810Z
LAST-MODIFIED:20260402T124743Z
UID:10014468-1777401000-1777406400@mustique.life
SUMMARY:Kids Movie Night: Sing
DESCRIPTION:Kids movies on the Cotton House Lawn. \nFree.
URL:https://mustique.life/event/kids-movie-night-happy-feet/
LOCATION:Cotton House Lawn
CATEGORIES:Kids Activities
ATTACH;FMTTYPE=image/jpeg:https://mustique.life/wp-content/uploads/2022/03/Movie-Night.jpg
END:VEVENT
BEGIN:VEVENT
DTSTART;TZID=America/St_Vincent:20260501T183000
DTEND;TZID=America/St_Vincent:20260501T200000
DTSTAMP:20260419T092115
CREATED:20251015T132625Z
LAST-MODIFIED:20260402T124828Z
UID:10014467-1777660200-1777665600@mustique.life
SUMMARY:Kids Movie Night: The Super Mario
DESCRIPTION:Kids movies on the Cotton House Lawn. \nFree.
URL:https://mustique.life/event/kids-movie-night-penguins/
LOCATION:Cotton House Lawn
CATEGORIES:Kids Activities
ATTACH;FMTTYPE=image/jpeg:https://mustique.life/wp-content/uploads/2022/03/Movie-Night.jpg
END:VEVENT
END:VCALENDAR