BEGIN:VCALENDAR
VERSION:2.0
PRODID:-//Mustique Events - Calendar - ECPv6.15.17.1//NONSGML v1.0//EN
CALSCALE:GREGORIAN
METHOD:PUBLISH
X-ORIGINAL-URL:https://mustique.life
X-WR-CALDESC:Events for Mustique Events - Calendar
REFRESH-INTERVAL;VALUE=DURATION:PT1H
X-Robots-Tag:noindex
X-PUBLISHED-TTL:PT1H
BEGIN:VTIMEZONE
TZID:America/St_Vincent
BEGIN:STANDARD
TZOFFSETFROM:-0400
TZOFFSETTO:-0400
TZNAME:AST
DTSTART:20250101T000000
END:STANDARD
END:VTIMEZONE
BEGIN:VEVENT
DTSTART;TZID=America/St_Vincent:20260323T090000
DTEND;TZID=America/St_Vincent:20260323T100000
DTSTAMP:20260419T110156
CREATED:20260209T033102Z
LAST-MODIFIED:20260305T182939Z
UID:10017542-1774256400-1774260000@mustique.life
SUMMARY:Jr Tennis Camp
DESCRIPTION:Join the coaches at the tennis Center for Jr Tennis Camp. Monday to Friday \n9:00am – 10:00am \nAge 4 – 13yrs \nFor bookings \ninfo@mustiquetennis.com \next. 8315 tennis shop // 8818 Richard Schaffer
URL:https://mustique.life/event/jr-tennis-camp/2026-03-23/
LOCATION:Tennis Club
CATEGORIES:Kids Activities
ATTACH;FMTTYPE=image/jpeg:https://mustique.life/wp-content/uploads/2022/03/Junior-Tennis-Camps.jpg
END:VEVENT
BEGIN:VEVENT
DTSTART;TZID=America/St_Vincent:20260323T150000
DTEND;TZID=America/St_Vincent:20260323T160000
DTSTAMP:20260419T110156
CREATED:20260311T133743Z
LAST-MODIFIED:20260311T135605Z
UID:10017685-1774278000-1774281600@mustique.life
SUMMARY:Kids Bingo
DESCRIPTION:
URL:https://mustique.life/event/kids-bingo/
LOCATION:Community Centre
CATEGORIES:Kids Activities
ATTACH;FMTTYPE=image/jpeg:https://mustique.life/wp-content/uploads/2022/10/Arts-crafts.jpeg
END:VEVENT
BEGIN:VEVENT
DTSTART;TZID=America/St_Vincent:20260323T153000
DTEND;TZID=America/St_Vincent:20260323T173000
DTSTAMP:20260419T110156
CREATED:20260305T190400Z
LAST-MODIFIED:20260305T191440Z
UID:10017658-1774279800-1774287000@mustique.life
SUMMARY:Pony Camp
DESCRIPTION:Join us for a fun\, hands-on equestrian experience perfect for young horse lovers! Our session begins with friendly introductions and a quick overview of stable rules to ensure everyone stays safe and comfortable around the horses. \nNext\, enjoy an engaging and inclusive stable management talk\, where campers learn a variety of interesting equestrian topics — from horse care to understanding stable life. \nWith guidance from our team\, campers will then be matched with a horse to groom and help tack up\, giving them real hands-on experience before heading into the riding activity of the day. \nAges 6 – 12 years \nEvery Monday\, Wednesday and Friday \n3:50pm – 5:30pm \nTo book\, please email the Equestrian Centre team at equestrian@mustique.vc or call ext.8316 .
URL:https://mustique.life/event/pony-camps/2026-03-23/
LOCATION:Equestrian Centre
CATEGORIES:Kids Activities
ATTACH;FMTTYPE=image/jpeg:https://mustique.life/wp-content/uploads/2022/03/Pony-Camps-Equestrian-Center.jpg
END:VEVENT
BEGIN:VEVENT
DTSTART;TZID=America/St_Vincent:20260323T170000
DTEND;TZID=America/St_Vincent:20260323T170000
DTSTAMP:20260419T110156
CREATED:20260202T202727Z
LAST-MODIFIED:20260207T133108Z
UID:10014961-1774285200-1774285200@mustique.life
SUMMARY:Kids Soccer Camp
DESCRIPTION:Join Osborne of the playing field for some soccer fun\, and exercise. \nMonday to Sunday \n5:00pm – 6:00pm
URL:https://mustique.life/event/kids-and-teens-soccer-camp-2/2026-03-23/
LOCATION:Playing Field
CATEGORIES:Kids Activities
ATTACH;FMTTYPE=image/jpeg:https://mustique.life/wp-content/uploads/2022/03/Glow-Games.jpg
END:VEVENT
BEGIN:VEVENT
DTSTART;TZID=America/St_Vincent:20260324T090000
DTEND;TZID=America/St_Vincent:20260324T100000
DTSTAMP:20260419T110156
CREATED:20260209T033102Z
LAST-MODIFIED:20260305T182939Z
UID:10017543-1774342800-1774346400@mustique.life
SUMMARY:Jr Tennis Camp
DESCRIPTION:Join the coaches at the tennis Center for Jr Tennis Camp. Monday to Friday \n9:00am – 10:00am \nAge 4 – 13yrs \nFor bookings \ninfo@mustiquetennis.com \next. 8315 tennis shop // 8818 Richard Schaffer
URL:https://mustique.life/event/jr-tennis-camp/2026-03-24/
LOCATION:Tennis Club
CATEGORIES:Kids Activities
ATTACH;FMTTYPE=image/jpeg:https://mustique.life/wp-content/uploads/2022/03/Junior-Tennis-Camps.jpg
END:VEVENT
BEGIN:VEVENT
DTSTART;TZID=America/St_Vincent:20260324T100000
DTEND;TZID=America/St_Vincent:20260324T110000
DTSTAMP:20260419T110156
CREATED:20260305T191453Z
LAST-MODIFIED:20260305T191453Z
UID:10017672-1774346400-1774350000@mustique.life
SUMMARY:Mini Pony Camp
DESCRIPTION:Designed especially for our youngest horse lovers\, this session helps little ones become familiar and confident around horses in a safe and supportive environment. \nChildren will learn the basics of safe horse handling\, along with simple grooming and tacking up with guidance from our friendly team. We’ll also introduce fun stable management activities so they can start to understand how to care for their pony. \nTo add a creative touch\, kids will enjoy making horse-craft creations\, before finishing the session with a gentle ride along the pony trails near the stables. \nAges 3-5 years \nTuesday and Thursdays \n10:00am – 11:00am \nTo book\, please email the Equestrian Centre team at equestrian@mustique.vc or call ext.8316 . \n 
URL:https://mustique.life/event/mini-pony-camp/2026-03-24/
LOCATION:Equestrian Centre
CATEGORIES:Kids Activities
ATTACH;FMTTYPE=image/jpeg:https://mustique.life/wp-content/uploads/2022/03/Kids-Mini-Camps-Equestrian-Center.jpg
END:VEVENT
BEGIN:VEVENT
DTSTART;TZID=America/St_Vincent:20260324T160000
DTEND;TZID=America/St_Vincent:20260324T170000
DTSTAMP:20260419T110156
CREATED:20260320T151215Z
LAST-MODIFIED:20260320T151215Z
UID:10017688-1774368000-1774371600@mustique.life
SUMMARY:Kids Arts and Craft: Little Hands Big Easter Decor
DESCRIPTION:Join the librarians for an hour of Crafting fun \n4:00pm – 5:00pm \nCommunity Centre
URL:https://mustique.life/event/kids-arts-and-craft-little-hands-big-easter-decor/
LOCATION:Community Centre
CATEGORIES:Kids Activities
ATTACH;FMTTYPE=image/jpeg:https://mustique.life/wp-content/uploads/2022/10/Arts-crafts.jpeg
END:VEVENT
BEGIN:VEVENT
DTSTART;TZID=America/St_Vincent:20260324T170000
DTEND;TZID=America/St_Vincent:20260324T170000
DTSTAMP:20260419T110156
CREATED:20260202T202727Z
LAST-MODIFIED:20260207T133108Z
UID:10014962-1774371600-1774371600@mustique.life
SUMMARY:Kids Soccer Camp
DESCRIPTION:Join Osborne of the playing field for some soccer fun\, and exercise. \nMonday to Sunday \n5:00pm – 6:00pm
URL:https://mustique.life/event/kids-and-teens-soccer-camp-2/2026-03-24/
LOCATION:Playing Field
CATEGORIES:Kids Activities
ATTACH;FMTTYPE=image/jpeg:https://mustique.life/wp-content/uploads/2022/03/Glow-Games.jpg
END:VEVENT
BEGIN:VEVENT
DTSTART;TZID=America/St_Vincent:20260325T090000
DTEND;TZID=America/St_Vincent:20260325T100000
DTSTAMP:20260419T110156
CREATED:20260209T033102Z
LAST-MODIFIED:20260305T182939Z
UID:10017544-1774429200-1774432800@mustique.life
SUMMARY:Jr Tennis Camp
DESCRIPTION:Join the coaches at the tennis Center for Jr Tennis Camp. Monday to Friday \n9:00am – 10:00am \nAge 4 – 13yrs \nFor bookings \ninfo@mustiquetennis.com \next. 8315 tennis shop // 8818 Richard Schaffer
URL:https://mustique.life/event/jr-tennis-camp/2026-03-25/
LOCATION:Tennis Club
CATEGORIES:Kids Activities
ATTACH;FMTTYPE=image/jpeg:https://mustique.life/wp-content/uploads/2022/03/Junior-Tennis-Camps.jpg
END:VEVENT
BEGIN:VEVENT
DTSTART;TZID=America/St_Vincent:20260325T150000
DTEND;TZID=America/St_Vincent:20260325T160000
DTSTAMP:20260419T110156
CREATED:20260311T143558Z
LAST-MODIFIED:20260311T143806Z
UID:10017687-1774450800-1774454400@mustique.life
SUMMARY:Kids Arts and Craft: DYO Kite
DESCRIPTION:Join us at the Community Centre for an hour of crafting fun. \n3:00p – 4:00pm \nAges 3-13 years \n 
URL:https://mustique.life/event/kids-arts-and-craft-dyo-kite/
LOCATION:Community Centre
CATEGORIES:Kids Activities
ATTACH;FMTTYPE=image/jpeg:https://mustique.life/wp-content/uploads/2022/10/Arts-crafts.jpeg
END:VEVENT
BEGIN:VEVENT
DTSTART;TZID=America/St_Vincent:20260325T153000
DTEND;TZID=America/St_Vincent:20260325T173000
DTSTAMP:20260419T110156
CREATED:20260305T190400Z
LAST-MODIFIED:20260305T191440Z
UID:10017659-1774452600-1774459800@mustique.life
SUMMARY:Pony Camp
DESCRIPTION:Join us for a fun\, hands-on equestrian experience perfect for young horse lovers! Our session begins with friendly introductions and a quick overview of stable rules to ensure everyone stays safe and comfortable around the horses. \nNext\, enjoy an engaging and inclusive stable management talk\, where campers learn a variety of interesting equestrian topics — from horse care to understanding stable life. \nWith guidance from our team\, campers will then be matched with a horse to groom and help tack up\, giving them real hands-on experience before heading into the riding activity of the day. \nAges 6 – 12 years \nEvery Monday\, Wednesday and Friday \n3:50pm – 5:30pm \nTo book\, please email the Equestrian Centre team at equestrian@mustique.vc or call ext.8316 .
URL:https://mustique.life/event/pony-camps/2026-03-25/
LOCATION:Equestrian Centre
CATEGORIES:Kids Activities
ATTACH;FMTTYPE=image/jpeg:https://mustique.life/wp-content/uploads/2022/03/Pony-Camps-Equestrian-Center.jpg
END:VEVENT
BEGIN:VEVENT
DTSTART;TZID=America/St_Vincent:20260325T170000
DTEND;TZID=America/St_Vincent:20260325T170000
DTSTAMP:20260419T110156
CREATED:20260202T202727Z
LAST-MODIFIED:20260207T133108Z
UID:10014963-1774458000-1774458000@mustique.life
SUMMARY:Kids Soccer Camp
DESCRIPTION:Join Osborne of the playing field for some soccer fun\, and exercise. \nMonday to Sunday \n5:00pm – 6:00pm
URL:https://mustique.life/event/kids-and-teens-soccer-camp-2/2026-03-25/
LOCATION:Playing Field
CATEGORIES:Kids Activities
ATTACH;FMTTYPE=image/jpeg:https://mustique.life/wp-content/uploads/2022/03/Glow-Games.jpg
END:VEVENT
BEGIN:VEVENT
DTSTART;TZID=America/St_Vincent:20260325T170000
DTEND;TZID=America/St_Vincent:20260325T180000
DTSTAMP:20260419T110156
CREATED:20260318T033104Z
LAST-MODIFIED:20260320T184212Z
UID:10017724-1774458000-1774461600@mustique.life
SUMMARY:Kids Kickboxing
DESCRIPTION:Stronger body. Sharper mind. Unleash your power with Kickboxing with the Gym team for kids 8+ \nWednesday\, Thursday and Friday \n5:00pm \nPlaying field \nALL BOOKINGS FOR GYM TIME SLOTS\, PRIVATE SESSIONS AND CLASSES MUST BE MADE IN ADVANCE BY CALLING EXT: 8920 OR BY EMAIL: YOGAFITNESS@COTTONHOUSE.NET \n 
URL:https://mustique.life/event/kickboxing-2-2/2026-03-25/
LOCATION:Playing Field
CATEGORIES:Kids Activities
ATTACH;FMTTYPE=image/jpeg:https://mustique.life/wp-content/uploads/2026/03/istockphoto-893341894-612x612-1.jpg
END:VEVENT
BEGIN:VEVENT
DTSTART;TZID=America/St_Vincent:20260326T090000
DTEND;TZID=America/St_Vincent:20260326T100000
DTSTAMP:20260419T110156
CREATED:20260209T033102Z
LAST-MODIFIED:20260305T182939Z
UID:10017545-1774515600-1774519200@mustique.life
SUMMARY:Jr Tennis Camp
DESCRIPTION:Join the coaches at the tennis Center for Jr Tennis Camp. Monday to Friday \n9:00am – 10:00am \nAge 4 – 13yrs \nFor bookings \ninfo@mustiquetennis.com \next. 8315 tennis shop // 8818 Richard Schaffer
URL:https://mustique.life/event/jr-tennis-camp/2026-03-26/
LOCATION:Tennis Club
CATEGORIES:Kids Activities
ATTACH;FMTTYPE=image/jpeg:https://mustique.life/wp-content/uploads/2022/03/Junior-Tennis-Camps.jpg
END:VEVENT
BEGIN:VEVENT
DTSTART;TZID=America/St_Vincent:20260326T100000
DTEND;TZID=America/St_Vincent:20260326T110000
DTSTAMP:20260419T110156
CREATED:20260305T191453Z
LAST-MODIFIED:20260305T191453Z
UID:10017673-1774519200-1774522800@mustique.life
SUMMARY:Mini Pony Camp
DESCRIPTION:Designed especially for our youngest horse lovers\, this session helps little ones become familiar and confident around horses in a safe and supportive environment. \nChildren will learn the basics of safe horse handling\, along with simple grooming and tacking up with guidance from our friendly team. We’ll also introduce fun stable management activities so they can start to understand how to care for their pony. \nTo add a creative touch\, kids will enjoy making horse-craft creations\, before finishing the session with a gentle ride along the pony trails near the stables. \nAges 3-5 years \nTuesday and Thursdays \n10:00am – 11:00am \nTo book\, please email the Equestrian Centre team at equestrian@mustique.vc or call ext.8316 . \n 
URL:https://mustique.life/event/mini-pony-camp/2026-03-26/
LOCATION:Equestrian Centre
CATEGORIES:Kids Activities
ATTACH;FMTTYPE=image/jpeg:https://mustique.life/wp-content/uploads/2022/03/Kids-Mini-Camps-Equestrian-Center.jpg
END:VEVENT
BEGIN:VEVENT
DTSTART;TZID=America/St_Vincent:20260326T170000
DTEND;TZID=America/St_Vincent:20260326T170000
DTSTAMP:20260419T110156
CREATED:20260202T202727Z
LAST-MODIFIED:20260207T133108Z
UID:10014964-1774544400-1774544400@mustique.life
SUMMARY:Kids Soccer Camp
DESCRIPTION:Join Osborne of the playing field for some soccer fun\, and exercise. \nMonday to Sunday \n5:00pm – 6:00pm
URL:https://mustique.life/event/kids-and-teens-soccer-camp-2/2026-03-26/
LOCATION:Playing Field
CATEGORIES:Kids Activities
ATTACH;FMTTYPE=image/jpeg:https://mustique.life/wp-content/uploads/2022/03/Glow-Games.jpg
END:VEVENT
BEGIN:VEVENT
DTSTART;TZID=America/St_Vincent:20260326T170000
DTEND;TZID=America/St_Vincent:20260326T180000
DTSTAMP:20260419T110156
CREATED:20260318T033104Z
LAST-MODIFIED:20260320T184212Z
UID:10017725-1774544400-1774548000@mustique.life
SUMMARY:Kids Kickboxing
DESCRIPTION:Stronger body. Sharper mind. Unleash your power with Kickboxing with the Gym team for kids 8+ \nWednesday\, Thursday and Friday \n5:00pm \nPlaying field \nALL BOOKINGS FOR GYM TIME SLOTS\, PRIVATE SESSIONS AND CLASSES MUST BE MADE IN ADVANCE BY CALLING EXT: 8920 OR BY EMAIL: YOGAFITNESS@COTTONHOUSE.NET \n 
URL:https://mustique.life/event/kickboxing-2-2/2026-03-26/
LOCATION:Playing Field
CATEGORIES:Kids Activities
ATTACH;FMTTYPE=image/jpeg:https://mustique.life/wp-content/uploads/2026/03/istockphoto-893341894-612x612-1.jpg
END:VEVENT
BEGIN:VEVENT
DTSTART;TZID=America/St_Vincent:20260327T090000
DTEND;TZID=America/St_Vincent:20260327T100000
DTSTAMP:20260419T110156
CREATED:20260209T033102Z
LAST-MODIFIED:20260305T182939Z
UID:10017546-1774602000-1774605600@mustique.life
SUMMARY:Jr Tennis Camp
DESCRIPTION:Join the coaches at the tennis Center for Jr Tennis Camp. Monday to Friday \n9:00am – 10:00am \nAge 4 – 13yrs \nFor bookings \ninfo@mustiquetennis.com \next. 8315 tennis shop // 8818 Richard Schaffer
URL:https://mustique.life/event/jr-tennis-camp/2026-03-27/
LOCATION:Tennis Club
CATEGORIES:Kids Activities
ATTACH;FMTTYPE=image/jpeg:https://mustique.life/wp-content/uploads/2022/03/Junior-Tennis-Camps.jpg
END:VEVENT
BEGIN:VEVENT
DTSTART;TZID=America/St_Vincent:20260327T150000
DTEND;TZID=America/St_Vincent:20260327T160000
DTSTAMP:20260419T110156
CREATED:20260320T161310Z
LAST-MODIFIED:20260321T125727Z
UID:10017690-1774623600-1774627200@mustique.life
SUMMARY:Kids Arts and Craft: Kite Flying
DESCRIPTION:Please Join us at Ruthland Bay for an hour of Kite flying adventure. \nChildren should bring along water. \n3:00pm – 4:00pm \nRuthland Bay
URL:https://mustique.life/event/kids-arts-and-craft-kite-flying/
LOCATION:Rutland Bay
CATEGORIES:Kids Activities
ATTACH;FMTTYPE=image/jpeg:https://mustique.life/wp-content/uploads/2023/02/300px-Pairs_kites.jpg
END:VEVENT
BEGIN:VEVENT
DTSTART;TZID=America/St_Vincent:20260327T153000
DTEND;TZID=America/St_Vincent:20260327T173000
DTSTAMP:20260419T110156
CREATED:20260305T190400Z
LAST-MODIFIED:20260305T191440Z
UID:10017660-1774625400-1774632600@mustique.life
SUMMARY:Pony Camp
DESCRIPTION:Join us for a fun\, hands-on equestrian experience perfect for young horse lovers! Our session begins with friendly introductions and a quick overview of stable rules to ensure everyone stays safe and comfortable around the horses. \nNext\, enjoy an engaging and inclusive stable management talk\, where campers learn a variety of interesting equestrian topics — from horse care to understanding stable life. \nWith guidance from our team\, campers will then be matched with a horse to groom and help tack up\, giving them real hands-on experience before heading into the riding activity of the day. \nAges 6 – 12 years \nEvery Monday\, Wednesday and Friday \n3:50pm – 5:30pm \nTo book\, please email the Equestrian Centre team at equestrian@mustique.vc or call ext.8316 .
URL:https://mustique.life/event/pony-camps/2026-03-27/
LOCATION:Equestrian Centre
CATEGORIES:Kids Activities
ATTACH;FMTTYPE=image/jpeg:https://mustique.life/wp-content/uploads/2022/03/Pony-Camps-Equestrian-Center.jpg
END:VEVENT
BEGIN:VEVENT
DTSTART;TZID=America/St_Vincent:20260327T170000
DTEND;TZID=America/St_Vincent:20260327T170000
DTSTAMP:20260419T110156
CREATED:20260202T202727Z
LAST-MODIFIED:20260207T133108Z
UID:10014965-1774630800-1774630800@mustique.life
SUMMARY:Kids Soccer Camp
DESCRIPTION:Join Osborne of the playing field for some soccer fun\, and exercise. \nMonday to Sunday \n5:00pm – 6:00pm
URL:https://mustique.life/event/kids-and-teens-soccer-camp-2/2026-03-27/
LOCATION:Playing Field
CATEGORIES:Kids Activities
ATTACH;FMTTYPE=image/jpeg:https://mustique.life/wp-content/uploads/2022/03/Glow-Games.jpg
END:VEVENT
BEGIN:VEVENT
DTSTART;TZID=America/St_Vincent:20260327T170000
DTEND;TZID=America/St_Vincent:20260327T180000
DTSTAMP:20260419T110156
CREATED:20260318T033104Z
LAST-MODIFIED:20260320T184212Z
UID:10017726-1774630800-1774634400@mustique.life
SUMMARY:Kids Kickboxing
DESCRIPTION:Stronger body. Sharper mind. Unleash your power with Kickboxing with the Gym team for kids 8+ \nWednesday\, Thursday and Friday \n5:00pm \nPlaying field \nALL BOOKINGS FOR GYM TIME SLOTS\, PRIVATE SESSIONS AND CLASSES MUST BE MADE IN ADVANCE BY CALLING EXT: 8920 OR BY EMAIL: YOGAFITNESS@COTTONHOUSE.NET \n 
URL:https://mustique.life/event/kickboxing-2-2/2026-03-27/
LOCATION:Playing Field
CATEGORIES:Kids Activities
ATTACH;FMTTYPE=image/jpeg:https://mustique.life/wp-content/uploads/2026/03/istockphoto-893341894-612x612-1.jpg
END:VEVENT
BEGIN:VEVENT
DTSTART;TZID=America/St_Vincent:20260328T090000
DTEND;TZID=America/St_Vincent:20260328T100000
DTSTAMP:20260419T110156
CREATED:20260204T033103Z
LAST-MODIFIED:20260305T183234Z
UID:10017562-1774688400-1774692000@mustique.life
SUMMARY:Jr Tennis Tournament
DESCRIPTION:Join the coaches at the tennis Center for Jr Tennis Tournament to culminate the week of Jr camp. Winner takes it. \nSaturdays \n9:00am – 10:00am \nAge 4 – 13yrs \nFor bookings \ninfo@mustiquetennis.com \next. 8315 / 8818
URL:https://mustique.life/event/jr-tennis-tournament/2026-03-28/
LOCATION:Tennis Club
CATEGORIES:Kids Activities
ATTACH;FMTTYPE=image/jpeg:https://mustique.life/wp-content/uploads/2022/03/Junior-Tennis-Camps.jpg
END:VEVENT
BEGIN:VEVENT
DTSTART;TZID=America/St_Vincent:20260328T170000
DTEND;TZID=America/St_Vincent:20260328T170000
DTSTAMP:20260419T110156
CREATED:20260202T202727Z
LAST-MODIFIED:20260207T133108Z
UID:10014966-1774717200-1774717200@mustique.life
SUMMARY:Kids Soccer Camp
DESCRIPTION:Join Osborne of the playing field for some soccer fun\, and exercise. \nMonday to Sunday \n5:00pm – 6:00pm
URL:https://mustique.life/event/kids-and-teens-soccer-camp-2/2026-03-28/
LOCATION:Playing Field
CATEGORIES:Kids Activities
ATTACH;FMTTYPE=image/jpeg:https://mustique.life/wp-content/uploads/2022/03/Glow-Games.jpg
END:VEVENT
END:VCALENDAR