BEGIN:VCALENDAR
VERSION:2.0
PRODID:-//Mustique Events - Calendar - ECPv6.15.17.1//NONSGML v1.0//EN
CALSCALE:GREGORIAN
METHOD:PUBLISH
X-ORIGINAL-URL:https://mustique.life
X-WR-CALDESC:Events for Mustique Events - Calendar
REFRESH-INTERVAL;VALUE=DURATION:PT1H
X-Robots-Tag:noindex
X-PUBLISHED-TTL:PT1H
BEGIN:VTIMEZONE
TZID:America/St_Vincent
BEGIN:STANDARD
TZOFFSETFROM:-0400
TZOFFSETTO:-0400
TZNAME:AST
DTSTART:20250101T000000
END:STANDARD
END:VTIMEZONE
BEGIN:VEVENT
DTSTART;TZID=America/St_Vincent:20260803T170000
DTEND;TZID=America/St_Vincent:20260803T180000
DTSTAMP:20260419T162605
CREATED:20250819T140612Z
LAST-MODIFIED:20260320T185126Z
UID:10012914-1785776400-1785780000@mustique.life
SUMMARY:Rum Tasting Masterclass
DESCRIPTION:Learn the finer points of rum with a tasting in the Great Room at the Cotton House \nYou must pre-register for this event by midday on Monday at the latest. \nPlease pre-book by calling the Cotton House reception on 8250
URL:https://mustique.life/event/rum-tasting-masterclass/2026-08-03/
LOCATION:Great Room
CATEGORIES:Entertainment
ATTACH;FMTTYPE=image/jpeg:https://mustique.life/wp-content/uploads/2022/03/Rum-tasting.jpg
END:VEVENT
BEGIN:VEVENT
DTSTART;TZID=America/St_Vincent:20260804T190000
DTEND;TZID=America/St_Vincent:20260804T203000
DTSTAMP:20260419T162605
CREATED:20250819T140725Z
LAST-MODIFIED:20251003T132136Z
UID:10012961-1785870000-1785875400@mustique.life
SUMMARY:The Mustique Company Cocktail Party
DESCRIPTION:Join other guests for a cocktail in the Great Room at The Cotton House from 7 to 8.30pm. \nBy invitation only.
URL:https://mustique.life/event/the-mustique-company-cocktail-party/2026-08-04/
LOCATION:Great Room
CATEGORIES:Entertainment
ATTACH;FMTTYPE=image/jpeg:https://mustique.life/wp-content/uploads/2022/04/untitled-3258.jpg
END:VEVENT
BEGIN:VEVENT
DTSTART;TZID=America/St_Vincent:20260804T193000
DTEND;TZID=America/St_Vincent:20260804T210000
DTSTAMP:20260419T162605
CREATED:20250819T141104Z
LAST-MODIFIED:20250819T141104Z
UID:10013098-1785871800-1785877200@mustique.life
SUMMARY:Cook On The Sand
DESCRIPTION:An evening of delicious food as our chefs cook over an open fire on the sand. \nBook your table by calling the Cotton House on 8215.
URL:https://mustique.life/event/cook-on-the-sand/2026-08-04/
LOCATION:Beach Cafe
CATEGORIES:Entertainment
ATTACH;FMTTYPE=image/jpeg:https://mustique.life/wp-content/uploads/2022/03/Cook-on-the-Sand.jpg
END:VEVENT
BEGIN:VEVENT
DTSTART;TZID=America/St_Vincent:20260806T180000
DTEND;TZID=America/St_Vincent:20260806T200000
DTSTAMP:20260419T162605
CREATED:20250819T140834Z
LAST-MODIFIED:20251218T203316Z
UID:10013008-1786039200-1786046400@mustique.life
SUMMARY:Backgammon Night
DESCRIPTION:Please join us for Backgammon Night in the Veranda on Thursday night! \nTo make sure the night runs smoothly\, please pre-register your attendance with Emilie\, by Wednesday 12pm by calling 8215. \nOn the night\, you are welcome from 6pm; the first dice will be rolled at 6.15pm sharp!
URL:https://mustique.life/event/backgammon-night-2/2026-08-06/
LOCATION:Veranda
CATEGORIES:Entertainment
ATTACH;FMTTYPE=image/jpeg:https://mustique.life/wp-content/uploads/2022/03/Backgammon-Night.jpg
END:VEVENT
BEGIN:VEVENT
DTSTART;TZID=America/St_Vincent:20260806T180000
DTEND;TZID=America/St_Vincent:20260806T220000
DTSTAMP:20260419T162605
CREATED:20251014T145838Z
LAST-MODIFIED:20260107T181141Z
UID:10014406-1786039200-1786053600@mustique.life
SUMMARY:Tacos and Tequila @ Basil's
DESCRIPTION:Mexican-inspired evening with flowing drinks\, delicious food and spicy dancing.
URL:https://mustique.life/event/__trashed-5-2/2026-08-06/
LOCATION:Basil’s Bar
CATEGORIES:Entertainment
ATTACH;FMTTYPE=image/jpeg:https://mustique.life/wp-content/uploads/2022/03/Basils-Bar-Tacos-Tequila.jpg
END:VEVENT
BEGIN:VEVENT
DTSTART;TZID=America/St_Vincent:20260806T183000
DTEND;TZID=America/St_Vincent:20260806T200000
DTSTAMP:20260419T162605
CREATED:20260115T134016Z
LAST-MODIFIED:20260115T134016Z
UID:10015834-1786041000-1786046400@mustique.life
SUMMARY:Projection of Eccentria: A Mustique Tale
DESCRIPTION:This entertaining documentary tells the story of how Mustique became the island we know and love today! \nIn the 1960’s Colin Tennant\, a scion of Scottish aristocracy\, bought a deserted Caribbean island. He fashioned it into a stage upon which he produced the theatre of his life – rich with eccentricity and adventure. In doing so\, he and his friends created the legend of Mustique. Eccentria tells their astonishing story through the memories of those who were there. \nThurdays \n6:30 – 8:00pm \nCotton House Lawn \nRSVP to the Cotton House Front Desk at frontdesk@cottonhouse.net\, to make sure we have enough seats! The Beach Café bar will be open.
URL:https://mustique.life/event/projection-of-eccentria-a-mustique-tale/2026-08-06/
LOCATION:Cotton House Lawn
CATEGORIES:Entertainment
ATTACH;FMTTYPE=image/jpeg:https://mustique.life/wp-content/uploads/2023/12/eccentria-movie.jpg
END:VEVENT
BEGIN:VEVENT
DTSTART;TZID=America/St_Vincent:20260806T190000
DTEND;TZID=America/St_Vincent:20260806T210000
DTSTAMP:20260419T162605
CREATED:20251015T135355Z
LAST-MODIFIED:20260115T141108Z
UID:10014711-1786042800-1786050000@mustique.life
SUMMARY:Beach Café BBQ & Mezze Night
DESCRIPTION:Enjoy a curated mix of BBQ and mezze\, served on shared platters for everyone to savor together. \nThursdays \n7:00pm \nBeach Cafe \n55USD per person including VAT and 12% service charge
URL:https://mustique.life/event/caribbean-bbq-dinner/2026-08-06/
LOCATION:Beach Cafe
CATEGORIES:Entertainment
ATTACH;FMTTYPE=image/jpeg:https://mustique.life/wp-content/uploads/2025/10/mezze-night.jpg
END:VEVENT
BEGIN:VEVENT
DTSTART;TZID=America/St_Vincent:20260807T183000
DTEND;TZID=America/St_Vincent:20260807T200000
DTSTAMP:20260419T162605
CREATED:20250819T140937Z
LAST-MODIFIED:20250819T140937Z
UID:10013054-1786127400-1786132800@mustique.life
SUMMARY:Happy Hour & a Half - Beach Café
DESCRIPTION:Half price drinks at the Beach Café and delicious pizzas from our pizza oven. \nJoin everyone from 6.30pm – 8pm.
URL:https://mustique.life/event/happy-hour-a-half-beach-cafe-2/2026-08-07/
LOCATION:Beach Cafe
CATEGORIES:Entertainment
ATTACH;FMTTYPE=image/jpeg:https://mustique.life/wp-content/uploads/2022/03/Happy-Hour-Beach-Cafe.jpg
END:VEVENT
BEGIN:VEVENT
DTSTART;TZID=America/St_Vincent:20260809T173000
DTEND;TZID=America/St_Vincent:20260809T200000
DTSTAMP:20260419T162605
CREATED:20250911T153102Z
LAST-MODIFIED:20260115T134548Z
UID:10014347-1786296600-1786305600@mustique.life
SUMMARY:Basils Bar Sunset Session
DESCRIPTION:Live music and delicious dinner for all the family. Plus you get to enjoy the beauty of a Basil’s sunset. \nJoin us from 5.30pm. To reserve a table please call #8350.
URL:https://mustique.life/event/basils-bar-sunset-session-2/2026-08-09/
LOCATION:Basil’s Bar
CATEGORIES:Entertainment
ATTACH;FMTTYPE=image/jpeg:https://mustique.life/wp-content/uploads/2022/03/Basils-Bar-Sunset-Sessions.jpg
END:VEVENT
BEGIN:VEVENT
DTSTART;TZID=America/St_Vincent:20260810T170000
DTEND;TZID=America/St_Vincent:20260810T180000
DTSTAMP:20260419T162605
CREATED:20250819T140612Z
LAST-MODIFIED:20260320T185126Z
UID:10012915-1786381200-1786384800@mustique.life
SUMMARY:Rum Tasting Masterclass
DESCRIPTION:Learn the finer points of rum with a tasting in the Great Room at the Cotton House \nYou must pre-register for this event by midday on Monday at the latest. \nPlease pre-book by calling the Cotton House reception on 8250
URL:https://mustique.life/event/rum-tasting-masterclass/2026-08-10/
LOCATION:Great Room
CATEGORIES:Entertainment
ATTACH;FMTTYPE=image/jpeg:https://mustique.life/wp-content/uploads/2022/03/Rum-tasting.jpg
END:VEVENT
BEGIN:VEVENT
DTSTART;TZID=America/St_Vincent:20260811T190000
DTEND;TZID=America/St_Vincent:20260811T203000
DTSTAMP:20260419T162605
CREATED:20250819T140725Z
LAST-MODIFIED:20251003T132136Z
UID:10012962-1786474800-1786480200@mustique.life
SUMMARY:The Mustique Company Cocktail Party
DESCRIPTION:Join other guests for a cocktail in the Great Room at The Cotton House from 7 to 8.30pm. \nBy invitation only.
URL:https://mustique.life/event/the-mustique-company-cocktail-party/2026-08-11/
LOCATION:Great Room
CATEGORIES:Entertainment
ATTACH;FMTTYPE=image/jpeg:https://mustique.life/wp-content/uploads/2022/04/untitled-3258.jpg
END:VEVENT
BEGIN:VEVENT
DTSTART;TZID=America/St_Vincent:20260811T193000
DTEND;TZID=America/St_Vincent:20260811T210000
DTSTAMP:20260419T162605
CREATED:20250819T141104Z
LAST-MODIFIED:20250819T141104Z
UID:10013099-1786476600-1786482000@mustique.life
SUMMARY:Cook On The Sand
DESCRIPTION:An evening of delicious food as our chefs cook over an open fire on the sand. \nBook your table by calling the Cotton House on 8215.
URL:https://mustique.life/event/cook-on-the-sand/2026-08-11/
LOCATION:Beach Cafe
CATEGORIES:Entertainment
ATTACH;FMTTYPE=image/jpeg:https://mustique.life/wp-content/uploads/2022/03/Cook-on-the-Sand.jpg
END:VEVENT
BEGIN:VEVENT
DTSTART;TZID=America/St_Vincent:20260813T180000
DTEND;TZID=America/St_Vincent:20260813T200000
DTSTAMP:20260419T162605
CREATED:20250819T140834Z
LAST-MODIFIED:20251218T203316Z
UID:10013009-1786644000-1786651200@mustique.life
SUMMARY:Backgammon Night
DESCRIPTION:Please join us for Backgammon Night in the Veranda on Thursday night! \nTo make sure the night runs smoothly\, please pre-register your attendance with Emilie\, by Wednesday 12pm by calling 8215. \nOn the night\, you are welcome from 6pm; the first dice will be rolled at 6.15pm sharp!
URL:https://mustique.life/event/backgammon-night-2/2026-08-13/
LOCATION:Veranda
CATEGORIES:Entertainment
ATTACH;FMTTYPE=image/jpeg:https://mustique.life/wp-content/uploads/2022/03/Backgammon-Night.jpg
END:VEVENT
BEGIN:VEVENT
DTSTART;TZID=America/St_Vincent:20260813T180000
DTEND;TZID=America/St_Vincent:20260813T220000
DTSTAMP:20260419T162605
CREATED:20251014T145838Z
LAST-MODIFIED:20260107T181141Z
UID:10014407-1786644000-1786658400@mustique.life
SUMMARY:Tacos and Tequila @ Basil's
DESCRIPTION:Mexican-inspired evening with flowing drinks\, delicious food and spicy dancing.
URL:https://mustique.life/event/__trashed-5-2/2026-08-13/
LOCATION:Basil’s Bar
CATEGORIES:Entertainment
ATTACH;FMTTYPE=image/jpeg:https://mustique.life/wp-content/uploads/2022/03/Basils-Bar-Tacos-Tequila.jpg
END:VEVENT
BEGIN:VEVENT
DTSTART;TZID=America/St_Vincent:20260813T183000
DTEND;TZID=America/St_Vincent:20260813T200000
DTSTAMP:20260419T162605
CREATED:20260115T134016Z
LAST-MODIFIED:20260115T134016Z
UID:10015835-1786645800-1786651200@mustique.life
SUMMARY:Projection of Eccentria: A Mustique Tale
DESCRIPTION:This entertaining documentary tells the story of how Mustique became the island we know and love today! \nIn the 1960’s Colin Tennant\, a scion of Scottish aristocracy\, bought a deserted Caribbean island. He fashioned it into a stage upon which he produced the theatre of his life – rich with eccentricity and adventure. In doing so\, he and his friends created the legend of Mustique. Eccentria tells their astonishing story through the memories of those who were there. \nThurdays \n6:30 – 8:00pm \nCotton House Lawn \nRSVP to the Cotton House Front Desk at frontdesk@cottonhouse.net\, to make sure we have enough seats! The Beach Café bar will be open.
URL:https://mustique.life/event/projection-of-eccentria-a-mustique-tale/2026-08-13/
LOCATION:Cotton House Lawn
CATEGORIES:Entertainment
ATTACH;FMTTYPE=image/jpeg:https://mustique.life/wp-content/uploads/2023/12/eccentria-movie.jpg
END:VEVENT
BEGIN:VEVENT
DTSTART;TZID=America/St_Vincent:20260813T190000
DTEND;TZID=America/St_Vincent:20260813T210000
DTSTAMP:20260419T162605
CREATED:20251015T135355Z
LAST-MODIFIED:20260115T141108Z
UID:10014712-1786647600-1786654800@mustique.life
SUMMARY:Beach Café BBQ & Mezze Night
DESCRIPTION:Enjoy a curated mix of BBQ and mezze\, served on shared platters for everyone to savor together. \nThursdays \n7:00pm \nBeach Cafe \n55USD per person including VAT and 12% service charge
URL:https://mustique.life/event/caribbean-bbq-dinner/2026-08-13/
LOCATION:Beach Cafe
CATEGORIES:Entertainment
ATTACH;FMTTYPE=image/jpeg:https://mustique.life/wp-content/uploads/2025/10/mezze-night.jpg
END:VEVENT
BEGIN:VEVENT
DTSTART;TZID=America/St_Vincent:20260814T183000
DTEND;TZID=America/St_Vincent:20260814T200000
DTSTAMP:20260419T162605
CREATED:20250819T140937Z
LAST-MODIFIED:20250819T140937Z
UID:10013055-1786732200-1786737600@mustique.life
SUMMARY:Happy Hour & a Half - Beach Café
DESCRIPTION:Half price drinks at the Beach Café and delicious pizzas from our pizza oven. \nJoin everyone from 6.30pm – 8pm.
URL:https://mustique.life/event/happy-hour-a-half-beach-cafe-2/2026-08-14/
LOCATION:Beach Cafe
CATEGORIES:Entertainment
ATTACH;FMTTYPE=image/jpeg:https://mustique.life/wp-content/uploads/2022/03/Happy-Hour-Beach-Cafe.jpg
END:VEVENT
BEGIN:VEVENT
DTSTART;TZID=America/St_Vincent:20260816T173000
DTEND;TZID=America/St_Vincent:20260816T200000
DTSTAMP:20260419T162605
CREATED:20250911T153102Z
LAST-MODIFIED:20260115T134548Z
UID:10014348-1786901400-1786910400@mustique.life
SUMMARY:Basils Bar Sunset Session
DESCRIPTION:Live music and delicious dinner for all the family. Plus you get to enjoy the beauty of a Basil’s sunset. \nJoin us from 5.30pm. To reserve a table please call #8350.
URL:https://mustique.life/event/basils-bar-sunset-session-2/2026-08-16/
LOCATION:Basil’s Bar
CATEGORIES:Entertainment
ATTACH;FMTTYPE=image/jpeg:https://mustique.life/wp-content/uploads/2022/03/Basils-Bar-Sunset-Sessions.jpg
END:VEVENT
BEGIN:VEVENT
DTSTART;TZID=America/St_Vincent:20260817T170000
DTEND;TZID=America/St_Vincent:20260817T180000
DTSTAMP:20260419T162605
CREATED:20250819T140612Z
LAST-MODIFIED:20260320T185126Z
UID:10012916-1786986000-1786989600@mustique.life
SUMMARY:Rum Tasting Masterclass
DESCRIPTION:Learn the finer points of rum with a tasting in the Great Room at the Cotton House \nYou must pre-register for this event by midday on Monday at the latest. \nPlease pre-book by calling the Cotton House reception on 8250
URL:https://mustique.life/event/rum-tasting-masterclass/2026-08-17/
LOCATION:Great Room
CATEGORIES:Entertainment
ATTACH;FMTTYPE=image/jpeg:https://mustique.life/wp-content/uploads/2022/03/Rum-tasting.jpg
END:VEVENT
BEGIN:VEVENT
DTSTART;TZID=America/St_Vincent:20260818T190000
DTEND;TZID=America/St_Vincent:20260818T203000
DTSTAMP:20260419T162605
CREATED:20250819T140725Z
LAST-MODIFIED:20251003T132136Z
UID:10012963-1787079600-1787085000@mustique.life
SUMMARY:The Mustique Company Cocktail Party
DESCRIPTION:Join other guests for a cocktail in the Great Room at The Cotton House from 7 to 8.30pm. \nBy invitation only.
URL:https://mustique.life/event/the-mustique-company-cocktail-party/2026-08-18/
LOCATION:Great Room
CATEGORIES:Entertainment
ATTACH;FMTTYPE=image/jpeg:https://mustique.life/wp-content/uploads/2022/04/untitled-3258.jpg
END:VEVENT
BEGIN:VEVENT
DTSTART;TZID=America/St_Vincent:20260818T193000
DTEND;TZID=America/St_Vincent:20260818T210000
DTSTAMP:20260419T162605
CREATED:20250819T141104Z
LAST-MODIFIED:20250819T141104Z
UID:10013100-1787081400-1787086800@mustique.life
SUMMARY:Cook On The Sand
DESCRIPTION:An evening of delicious food as our chefs cook over an open fire on the sand. \nBook your table by calling the Cotton House on 8215.
URL:https://mustique.life/event/cook-on-the-sand/2026-08-18/
LOCATION:Beach Cafe
CATEGORIES:Entertainment
ATTACH;FMTTYPE=image/jpeg:https://mustique.life/wp-content/uploads/2022/03/Cook-on-the-Sand.jpg
END:VEVENT
BEGIN:VEVENT
DTSTART;TZID=America/St_Vincent:20260820T180000
DTEND;TZID=America/St_Vincent:20260820T200000
DTSTAMP:20260419T162605
CREATED:20250819T140834Z
LAST-MODIFIED:20251218T203316Z
UID:10013010-1787248800-1787256000@mustique.life
SUMMARY:Backgammon Night
DESCRIPTION:Please join us for Backgammon Night in the Veranda on Thursday night! \nTo make sure the night runs smoothly\, please pre-register your attendance with Emilie\, by Wednesday 12pm by calling 8215. \nOn the night\, you are welcome from 6pm; the first dice will be rolled at 6.15pm sharp!
URL:https://mustique.life/event/backgammon-night-2/2026-08-20/
LOCATION:Veranda
CATEGORIES:Entertainment
ATTACH;FMTTYPE=image/jpeg:https://mustique.life/wp-content/uploads/2022/03/Backgammon-Night.jpg
END:VEVENT
BEGIN:VEVENT
DTSTART;TZID=America/St_Vincent:20260820T180000
DTEND;TZID=America/St_Vincent:20260820T220000
DTSTAMP:20260419T162605
CREATED:20251014T145838Z
LAST-MODIFIED:20260107T181141Z
UID:10014408-1787248800-1787263200@mustique.life
SUMMARY:Tacos and Tequila @ Basil's
DESCRIPTION:Mexican-inspired evening with flowing drinks\, delicious food and spicy dancing.
URL:https://mustique.life/event/__trashed-5-2/2026-08-20/
LOCATION:Basil’s Bar
CATEGORIES:Entertainment
ATTACH;FMTTYPE=image/jpeg:https://mustique.life/wp-content/uploads/2022/03/Basils-Bar-Tacos-Tequila.jpg
END:VEVENT
BEGIN:VEVENT
DTSTART;TZID=America/St_Vincent:20260820T183000
DTEND;TZID=America/St_Vincent:20260820T200000
DTSTAMP:20260419T162605
CREATED:20260115T134016Z
LAST-MODIFIED:20260115T134016Z
UID:10015836-1787250600-1787256000@mustique.life
SUMMARY:Projection of Eccentria: A Mustique Tale
DESCRIPTION:This entertaining documentary tells the story of how Mustique became the island we know and love today! \nIn the 1960’s Colin Tennant\, a scion of Scottish aristocracy\, bought a deserted Caribbean island. He fashioned it into a stage upon which he produced the theatre of his life – rich with eccentricity and adventure. In doing so\, he and his friends created the legend of Mustique. Eccentria tells their astonishing story through the memories of those who were there. \nThurdays \n6:30 – 8:00pm \nCotton House Lawn \nRSVP to the Cotton House Front Desk at frontdesk@cottonhouse.net\, to make sure we have enough seats! The Beach Café bar will be open.
URL:https://mustique.life/event/projection-of-eccentria-a-mustique-tale/2026-08-20/
LOCATION:Cotton House Lawn
CATEGORIES:Entertainment
ATTACH;FMTTYPE=image/jpeg:https://mustique.life/wp-content/uploads/2023/12/eccentria-movie.jpg
END:VEVENT
BEGIN:VEVENT
DTSTART;TZID=America/St_Vincent:20260820T190000
DTEND;TZID=America/St_Vincent:20260820T210000
DTSTAMP:20260419T162605
CREATED:20251015T135355Z
LAST-MODIFIED:20260115T141108Z
UID:10014713-1787252400-1787259600@mustique.life
SUMMARY:Beach Café BBQ & Mezze Night
DESCRIPTION:Enjoy a curated mix of BBQ and mezze\, served on shared platters for everyone to savor together. \nThursdays \n7:00pm \nBeach Cafe \n55USD per person including VAT and 12% service charge
URL:https://mustique.life/event/caribbean-bbq-dinner/2026-08-20/
LOCATION:Beach Cafe
CATEGORIES:Entertainment
ATTACH;FMTTYPE=image/jpeg:https://mustique.life/wp-content/uploads/2025/10/mezze-night.jpg
END:VEVENT
BEGIN:VEVENT
DTSTART;TZID=America/St_Vincent:20260821T183000
DTEND;TZID=America/St_Vincent:20260821T200000
DTSTAMP:20260419T162605
CREATED:20250819T140937Z
LAST-MODIFIED:20250819T140937Z
UID:10013056-1787337000-1787342400@mustique.life
SUMMARY:Happy Hour & a Half - Beach Café
DESCRIPTION:Half price drinks at the Beach Café and delicious pizzas from our pizza oven. \nJoin everyone from 6.30pm – 8pm.
URL:https://mustique.life/event/happy-hour-a-half-beach-cafe-2/2026-08-21/
LOCATION:Beach Cafe
CATEGORIES:Entertainment
ATTACH;FMTTYPE=image/jpeg:https://mustique.life/wp-content/uploads/2022/03/Happy-Hour-Beach-Cafe.jpg
END:VEVENT
BEGIN:VEVENT
DTSTART;TZID=America/St_Vincent:20260823T173000
DTEND;TZID=America/St_Vincent:20260823T200000
DTSTAMP:20260419T162605
CREATED:20250911T153102Z
LAST-MODIFIED:20260115T134548Z
UID:10014349-1787506200-1787515200@mustique.life
SUMMARY:Basils Bar Sunset Session
DESCRIPTION:Live music and delicious dinner for all the family. Plus you get to enjoy the beauty of a Basil’s sunset. \nJoin us from 5.30pm. To reserve a table please call #8350.
URL:https://mustique.life/event/basils-bar-sunset-session-2/2026-08-23/
LOCATION:Basil’s Bar
CATEGORIES:Entertainment
ATTACH;FMTTYPE=image/jpeg:https://mustique.life/wp-content/uploads/2022/03/Basils-Bar-Sunset-Sessions.jpg
END:VEVENT
BEGIN:VEVENT
DTSTART;TZID=America/St_Vincent:20260824T170000
DTEND;TZID=America/St_Vincent:20260824T180000
DTSTAMP:20260419T162605
CREATED:20250819T140612Z
LAST-MODIFIED:20260320T185126Z
UID:10012917-1787590800-1787594400@mustique.life
SUMMARY:Rum Tasting Masterclass
DESCRIPTION:Learn the finer points of rum with a tasting in the Great Room at the Cotton House \nYou must pre-register for this event by midday on Monday at the latest. \nPlease pre-book by calling the Cotton House reception on 8250
URL:https://mustique.life/event/rum-tasting-masterclass/2026-08-24/
LOCATION:Great Room
CATEGORIES:Entertainment
ATTACH;FMTTYPE=image/jpeg:https://mustique.life/wp-content/uploads/2022/03/Rum-tasting.jpg
END:VEVENT
BEGIN:VEVENT
DTSTART;TZID=America/St_Vincent:20260825T190000
DTEND;TZID=America/St_Vincent:20260825T203000
DTSTAMP:20260419T162605
CREATED:20250819T140725Z
LAST-MODIFIED:20251003T132136Z
UID:10012964-1787684400-1787689800@mustique.life
SUMMARY:The Mustique Company Cocktail Party
DESCRIPTION:Join other guests for a cocktail in the Great Room at The Cotton House from 7 to 8.30pm. \nBy invitation only.
URL:https://mustique.life/event/the-mustique-company-cocktail-party/2026-08-25/
LOCATION:Great Room
CATEGORIES:Entertainment
ATTACH;FMTTYPE=image/jpeg:https://mustique.life/wp-content/uploads/2022/04/untitled-3258.jpg
END:VEVENT
BEGIN:VEVENT
DTSTART;TZID=America/St_Vincent:20260825T193000
DTEND;TZID=America/St_Vincent:20260825T210000
DTSTAMP:20260419T162605
CREATED:20250819T141104Z
LAST-MODIFIED:20250819T141104Z
UID:10013101-1787686200-1787691600@mustique.life
SUMMARY:Cook On The Sand
DESCRIPTION:An evening of delicious food as our chefs cook over an open fire on the sand. \nBook your table by calling the Cotton House on 8215.
URL:https://mustique.life/event/cook-on-the-sand/2026-08-25/
LOCATION:Beach Cafe
CATEGORIES:Entertainment
ATTACH;FMTTYPE=image/jpeg:https://mustique.life/wp-content/uploads/2022/03/Cook-on-the-Sand.jpg
END:VEVENT
END:VCALENDAR